From mboxrd@z Thu Jan  1 00:00:00 1970
Return-Path: <test-report-bounces@dpdk.org>
Received: from mails.dpdk.org (mails.dpdk.org [217.70.189.124])
	by inbox.dpdk.org (Postfix) with ESMTP id E923B4555D
	for <public@inbox.dpdk.org>; Thu,  4 Jul 2024 10:37:29 +0200 (CEST)
Received: from mails.dpdk.org (localhost [127.0.0.1])
	by mails.dpdk.org (Postfix) with ESMTP id C65244025C;
	Thu,  4 Jul 2024 10:37:29 +0200 (CEST)
Received: from mail-vk1-f225.google.com (mail-vk1-f225.google.com
 [209.85.221.225])
 by mails.dpdk.org (Postfix) with ESMTP id C9F7140156
 for <test-report@dpdk.org>; Thu,  4 Jul 2024 10:37:27 +0200 (CEST)
Received: by mail-vk1-f225.google.com with SMTP id
 71dfb90a1353d-4f2f24f6470so140546e0c.1
 for <test-report@dpdk.org>; Thu, 04 Jul 2024 01:37:27 -0700 (PDT)
DKIM-Signature: v=1; a=rsa-sha256; c=relaxed/relaxed;
 d=iol.unh.edu; s=unh-iol; t=1720082247; x=1720687047; darn=dpdk.org;
 h=references:in-reply-to:cc:to:from:subject:message-id:date:from:to
 :cc:subject:date:message-id:reply-to;
 bh=pIMI82opoS7NJTqz4Jd9j+FougFPnIWZVEzQxt8UF3g=;
 b=E/3uVS66qn3zkhSND8Jrdv0Z+K/XfRXCVQkTAmx7YSQXrVz1yYDlb7PWomgQVeo4Qe
 W+fQBPs8zR23MdXQjMIvzV+44YD8xSWl3Yw7AoHOWPdTOReS/Md2AOumt3T+1dbDTve6
 6dCfAcBvNVd1lXOXeCHJva/xzygVTdlPERmcY=
X-Google-DKIM-Signature: v=1; a=rsa-sha256; c=relaxed/relaxed;
 d=1e100.net; s=20230601; t=1720082247; x=1720687047;
 h=references:in-reply-to:cc:to:from:subject:message-id:date
 :x-gm-message-state:from:to:cc:subject:date:message-id:reply-to;
 bh=pIMI82opoS7NJTqz4Jd9j+FougFPnIWZVEzQxt8UF3g=;
 b=p+ZK2Kxx4MqDFTgVRPgVVXWZ0pURF/3XBaYvipuW99p+LaGq0e8Nbx03ylFakH4nAg
 nX/0JzDT3BMYAVdkT1o1WRQIwNpAnLSdwOkJKwWkVCzXbDvUf/9BEk26WCWZrwio9BT4
 zTvSOG3sUt32s21ExzTAnzTdAV3nxt0f3U8FU4DHhp7aTZKJ2N4w4I1dlQMePNmjDWiA
 jwEpDe0f6era7Jj+uAHDj4d0JJqn1Egck2Oth4GPYtjWhKEsYDr3PsoB4YtOdx2qbfSz
 DpjCMdVaX7AqtS3RnTDT0bZZFz1CzZ0nzSIvCuOtFK9YJWEtmrRtWpxeH+Pfaw0luAkG
 VzaQ==
X-Gm-Message-State: AOJu0YwZFDkv/ORHhPoTZPu/gMxhVTto+7QgDdzikJC2uGbhzDNlVj8v
 4/cKsTjsPA0TWw6e7fYYEMXp3lhCax8OmAgtfK4ibXNojwofUjFynGFUex4wceWrBuC4zEEIz6V
 VsNMEPWx5D7XnIL9Zc0AwvvWuZg3TBrEWV0UgLe1njaeZjGIAppNxFemR
X-Google-Smtp-Source: AGHT+IFR2Jf2rs2PZsHOzSNuBcF//J1h7U047CZV0g99pC/a61VvaT/ecnBvrsSWjqCZLRkvvzyz8EAk5RC8
X-Received: by 2002:a05:6122:1c0d:b0:4ef:66cf:8745 with SMTP id
 71dfb90a1353d-4f2f3f84f21mr1250470e0c.7.1720082245525; 
 Thu, 04 Jul 2024 01:37:25 -0700 (PDT)
Received: from postal.iol.unh.edu (postal.iol.unh.edu.
 [2606:4100:3880:1234::84]) by smtp-relay.gmail.com with ESMTPS id
 71dfb90a1353d-4f291cf9357sm538884e0c.3.2024.07.04.01.37.25
 (version=TLS1_2 cipher=ECDHE-ECDSA-AES128-GCM-SHA256 bits=128/128);
 Thu, 04 Jul 2024 01:37:25 -0700 (PDT)
X-Relaying-Domain: iol.unh.edu
Date: Thu, 04 Jul 2024 01:37:25 -0700 (PDT)
Message-ID: <66865f45.050a0220.eace1.8a2cSMTPIN_ADDED_MISSING@mx.google.com>
Received: from [172.17.0.3] (unknown [172.18.0.217])
 by postal.iol.unh.edu (Postfix) with ESMTP id 2A10360526E2;
 Thu,  4 Jul 2024 04:37:25 -0400 (EDT)
Subject: |SUCCESS| pw142110-142112 [PATCH] [v5,3/3] dts: queue suite conf sch
From: dpdklab@iol.unh.edu
To: Test Report <test-report@dpdk.org>
Cc: dpdk-test-reports@iol.unh.edu
In-Reply-To: <20240703180820.18723-3-dmarx@iol.unh.edu>
References: <20240703180820.18723-3-dmarx@iol.unh.edu>
Content-Type: text/plain
X-BeenThere: test-report@dpdk.org
X-Mailman-Version: 2.1.29
Precedence: list
List-Id: automatic DPDK test reports <test-report.dpdk.org>
List-Unsubscribe: <https://mails.dpdk.org/options/test-report>,
 <mailto:test-report-request@dpdk.org?subject=unsubscribe>
List-Archive: <http://mails.dpdk.org/archives/test-report/>
List-Post: <mailto:test-report@dpdk.org>
List-Help: <mailto:test-report-request@dpdk.org?subject=help>
List-Subscribe: <https://mails.dpdk.org/listinfo/test-report>,
 <mailto:test-report-request@dpdk.org?subject=subscribe>
Errors-To: test-report-bounces@dpdk.org

Test-Label: iol-unit-arm64-testing
Test-Status: SUCCESS
http://dpdk.org/patch/142112

_Testing PASS_

Submitter: Dean Marx <dmarx@iol.unh.edu>
Date: Wednesday, July 03 2024 18:08:20 
DPDK git baseline: Repo:dpdk
  Branch: master
  CommitID:95bea772528d316c969a170e6206f3b05ac39413

142110-142112 --> testing pass

Test environment and result as below:

+-----------------------------+------------------------------+----------------+--------------+---------------------------+
|         Environment         | cryptodev_sw_snow3g_autotest | dpdk_unit_test | lpm_autotest | cryptodev_sw_zuc_autotest |
+=============================+==============================+================+==============+===========================+
| Debian 12 (arm)             | PASS                         | PASS           | SKIPPED      | PASS                      |
+-----------------------------+------------------------------+----------------+--------------+---------------------------+
| 32-bit Ubuntu 20.04.4 (ARM) | SKIPPED                      | PASS           | SKIPPED      | SKIPPED                   |
+-----------------------------+------------------------------+----------------+--------------+---------------------------+
| Debian 11 (Buster) (ARM)    | SKIPPED                      | PASS           | SKIPPED      | SKIPPED                   |
+-----------------------------+------------------------------+----------------+--------------+---------------------------+
| CentOS Stream 9 (ARM)       | SKIPPED                      | PASS           | SKIPPED      | SKIPPED                   |
+-----------------------------+------------------------------+----------------+--------------+---------------------------+
| Fedora 38 (ARM)             | SKIPPED                      | PASS           | SKIPPED      | SKIPPED                   |
+-----------------------------+------------------------------+----------------+--------------+---------------------------+
| Fedora 37 (ARM)             | SKIPPED                      | PASS           | SKIPPED      | SKIPPED                   |
+-----------------------------+------------------------------+----------------+--------------+---------------------------+
| Fedora 38 (ARM Clang)       | SKIPPED                      | PASS           | SKIPPED      | SKIPPED                   |
+-----------------------------+------------------------------+----------------+--------------+---------------------------+
| Fedora 39 (ARM)             | SKIPPED                      | PASS           | SKIPPED      | SKIPPED                   |
+-----------------------------+------------------------------+----------------+--------------+---------------------------+
| Fedora 39 (ARM Clang)       | SKIPPED                      | PASS           | SKIPPED      | SKIPPED                   |
+-----------------------------+------------------------------+----------------+--------------+---------------------------+
| Fedora 40 (ARM)             | SKIPPED                      | PASS           | SKIPPED      | SKIPPED                   |
+-----------------------------+------------------------------+----------------+--------------+---------------------------+
| Fedora 40 (ARM Clang)       | SKIPPED                      | PASS           | SKIPPED      | SKIPPED                   |
+-----------------------------+------------------------------+----------------+--------------+---------------------------+
| Ubuntu 20.04 (ARM)          | SKIPPED                      | PASS           | SKIPPED      | SKIPPED                   |
+-----------------------------+------------------------------+----------------+--------------+---------------------------+
| Ubuntu 22.04 (ARM)          | SKIPPED                      | PASS           | SKIPPED      | SKIPPED                   |
+-----------------------------+------------------------------+----------------+--------------+---------------------------+
| Ubuntu 24.04 (ARM)          | SKIPPED                      | PASS           | SKIPPED      | SKIPPED                   |
+-----------------------------+------------------------------+----------------+--------------+---------------------------+
| RHEL9 (ARM)                 | SKIPPED                      | PASS           | SKIPPED      | SKIPPED                   |
+-----------------------------+------------------------------+----------------+--------------+---------------------------+
| Ubuntu 20.04 ARM SVE        | SKIPPED                      | SKIPPED        | PASS         | SKIPPED                   |
+-----------------------------+------------------------------+----------------+--------------+---------------------------+


Debian 12 (arm)
	Kernel: Container Host Kernel
	Compiler: gcc 12.2.0

32-bit Ubuntu 20.04.4 (ARM)
	Kernel: 5.4.0-155-generic aarch64
	Compiler: gcc 9.4

Debian 11 (Buster) (ARM)
	Kernel: Container Host Kernel
	Compiler: gcc 10.2.1

CentOS Stream 9 (ARM)
	Kernel: Container Host Kernel
	Compiler: gcc 11.4.1

Fedora 38 (ARM)
	Kernel: Depends on container host
	Compiler: gcc 13.2.1

Fedora 37 (ARM)
	Kernel: Depends on container host
	Compiler: gcc 12.3.1

Fedora 38 (ARM Clang)
	Kernel: Depends on container host
	Compiler: clang 16.0.6

Fedora 39 (ARM)
	Kernel: Depends on container host
	Compiler: gcc 13.2.1

Fedora 39 (ARM Clang)
	Kernel: Depends on container host
	Compiler: clang 17.0.6

Fedora 40 (ARM)
	Kernel: Depends on container host
	Compiler: gcc 14.1.1

Fedora 40 (ARM Clang)
	Kernel: Depends on container host
	Compiler: clang 18.1.6

Ubuntu 20.04 (ARM)
	Kernel: Container Host Kernel
	Compiler: gcc 9.4.0

Ubuntu 22.04 (ARM)
	Kernel: Container Host Kernel
	Compiler: gcc 11.4.0

Ubuntu 24.04 (ARM)
	Kernel: 5.4.0-167-generic
	Compiler: gcc 13.2.0

RHEL9 (ARM)
	Kernel: Depends on container host
	Compiler: gcc 11.4.1

Ubuntu 20.04 ARM SVE
	Kernel: 5.4.0-167-generic
	Compiler: gcc (Ubuntu 10.5.0-1ubuntu1~20.04) 10.5.0

To view detailed results, visit:
https://lab.dpdk.org/results/dashboard/patchsets/30411/

UNH-IOL DPDK Community Lab

To manage your email subscriptions, visit: 
https://lab.dpdk.org/results/dashboard/preferences/subscriptions/