From mboxrd@z Thu Jan  1 00:00:00 1970
Return-Path: <test-report-bounces@dpdk.org>
Received: from mails.dpdk.org (mails.dpdk.org [217.70.189.124])
	by inbox.dpdk.org (Postfix) with ESMTP id 564054555D
	for <public@inbox.dpdk.org>; Thu,  4 Jul 2024 10:56:08 +0200 (CEST)
Received: from mails.dpdk.org (localhost [127.0.0.1])
	by mails.dpdk.org (Postfix) with ESMTP id 4A07542E80;
	Thu,  4 Jul 2024 10:56:08 +0200 (CEST)
Received: from mail-oo1-f100.google.com (mail-oo1-f100.google.com
 [209.85.161.100])
 by mails.dpdk.org (Postfix) with ESMTP id 486FB40156
 for <test-report@dpdk.org>; Thu,  4 Jul 2024 10:56:07 +0200 (CEST)
Received: by mail-oo1-f100.google.com with SMTP id
 006d021491bc7-5c219c54800so215058eaf.0
 for <test-report@dpdk.org>; Thu, 04 Jul 2024 01:56:07 -0700 (PDT)
DKIM-Signature: v=1; a=rsa-sha256; c=relaxed/relaxed;
 d=iol.unh.edu; s=unh-iol; t=1720083366; x=1720688166; darn=dpdk.org;
 h=references:in-reply-to:cc:to:from:subject:message-id:date:from:to
 :cc:subject:date:message-id:reply-to;
 bh=tDMDeLlbBTT9b1nHUMgvnMZ7NWB3rR1jKMnxcKp7WF8=;
 b=Txi33mDTP50Cq+FIti+GhWYwUGSqNZn4fv55iu27OxZb7008eRwflwaPKWpaMj2OYS
 wvbTSPbuDgeY4Tabpyg7fsAMTvCqf3Uj7tRxQAok+u8yn9eTXK9bFxbW2MMo+i8aGcIJ
 yxSIg/I8uVXuLWFcflSqQhD1F1A4GQsIrZ0fY=
X-Google-DKIM-Signature: v=1; a=rsa-sha256; c=relaxed/relaxed;
 d=1e100.net; s=20230601; t=1720083366; x=1720688166;
 h=references:in-reply-to:cc:to:from:subject:message-id:date
 :x-gm-message-state:from:to:cc:subject:date:message-id:reply-to;
 bh=tDMDeLlbBTT9b1nHUMgvnMZ7NWB3rR1jKMnxcKp7WF8=;
 b=htVNJTkcY915eMxgmiAkYXk0RsnZAwHfrz4at4dI/XasQNn7p4YzM2aZPlua6HH4Zk
 N3YAZTOjoEyIyvgN+PxJ4C/xzhGyh7kKhErcZlU8csOhZQXcgPAPQ3feaHOk+PEPlM/m
 n6q2eSsSo5ASLftTd5v/SttCmG+TsqklX0GutF4fLR7HY3FVlAVivNkXsYzn+yrH27Nx
 hCwtWxcn3W+xOZ12EOQ2vH3aOH9LJLlboqIOq9G5TMCcHF3c/1IdXaU0eEUg+PYxHooo
 wejB9jl7Iyv7pazYgNHhm4DFa6Hgyrjw93P1RvpnpP1jwl1Dh6rJRpQVISpvzuMMiCWD
 TOGQ==
X-Gm-Message-State: AOJu0YzjsmGTOG5ath2dmOiSMq1cxHRmxTRt5YACzSpk4Lw7hA0DQVJp
 MFdlw7xQGFpWkLAUPxxNlRgUrPZzO6Ls833OhEJjtuSqleNIbHUb20H9f28QVllLnPeBdl7Mhvp
 Kbb7zb5N0frvZUykhOo25/i6A9p7eckibkZcBLbZD
X-Google-Smtp-Source: AGHT+IFHt7QSesOOvnYkEddv9mAx9YgsnF8KSnbk70dMLxMwaVKmEnN17kvDfBua9/Zd0zOHTj96y8d6kBXD
X-Received: by 2002:a4a:a9c3:0:b0:5c2:ac6:935f with SMTP id
 006d021491bc7-5c6470f06afmr1183242eaf.9.1720083366416; 
 Thu, 04 Jul 2024 01:56:06 -0700 (PDT)
Received: from postal.iol.unh.edu (postal.iol.unh.edu. [132.177.123.84])
 by smtp-relay.gmail.com with ESMTPS id
 006d021491bc7-5c4149d05bcsm147983eaf.20.2024.07.04.01.56.06
 (version=TLS1_2 cipher=ECDHE-ECDSA-AES128-GCM-SHA256 bits=128/128);
 Thu, 04 Jul 2024 01:56:06 -0700 (PDT)
X-Relaying-Domain: iol.unh.edu
Date: Thu, 04 Jul 2024 01:56:06 -0700 (PDT)
Message-ID: <668663a6.4a0a0220.c42de.a966SMTPIN_ADDED_MISSING@mx.google.com>
Received: from [172.21.0.6] (unknown [172.18.0.240])
 by postal.iol.unh.edu (Postfix) with ESMTP id 2499C60526E2;
 Thu,  4 Jul 2024 04:56:05 -0400 (EDT)
Subject: |PENDING| pw142107-142109 [PATCH] [v10,4/4] hash: add SVE support fo
From: dpdklab@iol.unh.edu
To: Test Report <test-report@dpdk.org>
Cc: dpdk-test-reports@iol.unh.edu
In-Reply-To: <20240703171315.1470547-5-yoan.picchi@arm.com>
References: <20240703171315.1470547-5-yoan.picchi@arm.com>
Content-Type: text/plain
X-BeenThere: test-report@dpdk.org
X-Mailman-Version: 2.1.29
Precedence: list
List-Id: automatic DPDK test reports <test-report.dpdk.org>
List-Unsubscribe: <https://mails.dpdk.org/options/test-report>,
 <mailto:test-report-request@dpdk.org?subject=unsubscribe>
List-Archive: <http://mails.dpdk.org/archives/test-report/>
List-Post: <mailto:test-report@dpdk.org>
List-Help: <mailto:test-report-request@dpdk.org?subject=help>
List-Subscribe: <https://mails.dpdk.org/listinfo/test-report>,
 <mailto:test-report-request@dpdk.org?subject=subscribe>
Errors-To: test-report-bounces@dpdk.org

Test-Label: iol-unit-arm64-testing
Test-Status: PENDING
http://dpdk.org/patch/142109

_Testing pending_

Submitter: Yoan Picchi <yoan.picchi@arm.com>
Date: Wednesday, July 03 2024 17:13:15 
DPDK git baseline: Repo:dpdk
  Branch: master
  CommitID:95bea772528d316c969a170e6206f3b05ac39413

142107-142109 --> testing pending

Test environment and result as below:

+-----------------------------+----------------+---------------------------+--------------+------------------------------+
|         Environment         | dpdk_unit_test | cryptodev_sw_zuc_autotest | lpm_autotest | cryptodev_sw_snow3g_autotest |
+=============================+================+===========================+==============+==============================+
| CentOS Stream 9 (ARM)       | PASS           | SKIPPED                   | SKIPPED      | SKIPPED                      |
+-----------------------------+----------------+---------------------------+--------------+------------------------------+
| Debian 11 (Buster) (ARM)    | PEND           | SKIPPED                   | SKIPPED      | SKIPPED                      |
+-----------------------------+----------------+---------------------------+--------------+------------------------------+
| Debian 12 (arm)             | PASS           | PASS                      | SKIPPED      | PEND                         |
+-----------------------------+----------------+---------------------------+--------------+------------------------------+
| Fedora 37 (ARM)             | PASS           | SKIPPED                   | SKIPPED      | SKIPPED                      |
+-----------------------------+----------------+---------------------------+--------------+------------------------------+
| 32-bit Ubuntu 20.04.4 (ARM) | PASS           | SKIPPED                   | SKIPPED      | SKIPPED                      |
+-----------------------------+----------------+---------------------------+--------------+------------------------------+
| Fedora 38 (ARM)             | PEND           | SKIPPED                   | SKIPPED      | SKIPPED                      |
+-----------------------------+----------------+---------------------------+--------------+------------------------------+
| Fedora 38 (ARM Clang)       | PEND           | SKIPPED                   | SKIPPED      | SKIPPED                      |
+-----------------------------+----------------+---------------------------+--------------+------------------------------+
| Fedora 39 (ARM)             | PEND           | SKIPPED                   | SKIPPED      | SKIPPED                      |
+-----------------------------+----------------+---------------------------+--------------+------------------------------+
| Fedora 39 (ARM Clang)       | PEND           | SKIPPED                   | SKIPPED      | SKIPPED                      |
+-----------------------------+----------------+---------------------------+--------------+------------------------------+
| Fedora 40 (ARM Clang)       | PEND           | SKIPPED                   | SKIPPED      | SKIPPED                      |
+-----------------------------+----------------+---------------------------+--------------+------------------------------+
| Fedora 40 (ARM)             | PEND           | SKIPPED                   | SKIPPED      | SKIPPED                      |
+-----------------------------+----------------+---------------------------+--------------+------------------------------+
| RHEL9 (ARM)                 | PEND           | SKIPPED                   | SKIPPED      | SKIPPED                      |
+-----------------------------+----------------+---------------------------+--------------+------------------------------+
| Ubuntu 22.04 (ARM)          | PEND           | SKIPPED                   | SKIPPED      | SKIPPED                      |
+-----------------------------+----------------+---------------------------+--------------+------------------------------+
| Ubuntu 20.04 (ARM)          | PEND           | SKIPPED                   | SKIPPED      | SKIPPED                      |
+-----------------------------+----------------+---------------------------+--------------+------------------------------+
| Ubuntu 24.04 (ARM)          | PEND           | SKIPPED                   | SKIPPED      | SKIPPED                      |
+-----------------------------+----------------+---------------------------+--------------+------------------------------+
| Ubuntu 20.04 ARM SVE        | SKIPPED        | SKIPPED                   | PASS         | SKIPPED                      |
+-----------------------------+----------------+---------------------------+--------------+------------------------------+


CentOS Stream 9 (ARM)
	Kernel: Container Host Kernel
	Compiler: gcc 11.4.1

Debian 11 (Buster) (ARM)
	Kernel: Container Host Kernel
	Compiler: gcc 10.2.1

Debian 12 (arm)
	Kernel: Container Host Kernel
	Compiler: gcc 12.2.0

Fedora 37 (ARM)
	Kernel: Depends on container host
	Compiler: gcc 12.3.1

32-bit Ubuntu 20.04.4 (ARM)
	Kernel: 5.4.0-155-generic aarch64
	Compiler: gcc 9.4

Fedora 38 (ARM)
	Kernel: Depends on container host
	Compiler: gcc 13.2.1

Fedora 38 (ARM Clang)
	Kernel: Depends on container host
	Compiler: clang 16.0.6

Fedora 39 (ARM)
	Kernel: Depends on container host
	Compiler: gcc 13.2.1

Fedora 39 (ARM Clang)
	Kernel: Depends on container host
	Compiler: clang 17.0.6

Fedora 40 (ARM Clang)
	Kernel: Depends on container host
	Compiler: clang 18.1.6

Fedora 40 (ARM)
	Kernel: Depends on container host
	Compiler: gcc 14.1.1

RHEL9 (ARM)
	Kernel: Depends on container host
	Compiler: gcc 11.4.1

Ubuntu 22.04 (ARM)
	Kernel: Container Host Kernel
	Compiler: gcc 11.4.0

Ubuntu 20.04 (ARM)
	Kernel: Container Host Kernel
	Compiler: gcc 9.4.0

Ubuntu 24.04 (ARM)
	Kernel: 5.4.0-167-generic
	Compiler: gcc 13.2.0

Ubuntu 20.04 ARM SVE
	Kernel: 5.4.0-167-generic
	Compiler: gcc (Ubuntu 10.5.0-1ubuntu1~20.04) 10.5.0

To view detailed results, visit:
https://lab.dpdk.org/results/dashboard/patchsets/30410/

UNH-IOL DPDK Community Lab

To manage your email subscriptions, visit: 
https://lab.dpdk.org/results/dashboard/preferences/subscriptions/