From mboxrd@z Thu Jan  1 00:00:00 1970
Return-Path: <test-report-bounces@dpdk.org>
Received: from mails.dpdk.org (mails.dpdk.org [217.70.189.124])
	by inbox.dpdk.org (Postfix) with ESMTP id D10CE45588
	for <public@inbox.dpdk.org>; Thu,  4 Jul 2024 13:23:43 +0200 (CEST)
Received: from mails.dpdk.org (localhost [127.0.0.1])
	by mails.dpdk.org (Postfix) with ESMTP id CCD0040280;
	Thu,  4 Jul 2024 13:23:43 +0200 (CEST)
Received: from mail-yw1-f225.google.com (mail-yw1-f225.google.com
 [209.85.128.225])
 by mails.dpdk.org (Postfix) with ESMTP id 0D9404025C
 for <test-report@dpdk.org>; Thu,  4 Jul 2024 13:23:42 +0200 (CEST)
Received: by mail-yw1-f225.google.com with SMTP id
 00721157ae682-6512866fa87so5225817b3.2
 for <test-report@dpdk.org>; Thu, 04 Jul 2024 04:23:42 -0700 (PDT)
DKIM-Signature: v=1; a=rsa-sha256; c=relaxed/relaxed;
 d=iol.unh.edu; s=unh-iol; t=1720092221; x=1720697021; darn=dpdk.org;
 h=references:in-reply-to:cc:to:from:subject:message-id:date:from:to
 :cc:subject:date:message-id:reply-to;
 bh=R4TQJGqiBfk0YaXhLBkzPd4PVn5mXyRkqYOnCNc9+I8=;
 b=eT2mtrqXvrRrGGreZZPCxRrIuFSQgG4anpGHfgx/au4gTFmBlSWKeNUe65JLWmyw8F
 20kAJckxG18BnELviAzUWn2gcRDOZI3mreva7LuQCxn7G+wUct/PtvgLC78odwTj3QT0
 o4E4t5IFGYX/bLhzRsSdRLYMDbTIxbBUQT+7c=
X-Google-DKIM-Signature: v=1; a=rsa-sha256; c=relaxed/relaxed;
 d=1e100.net; s=20230601; t=1720092221; x=1720697021;
 h=references:in-reply-to:cc:to:from:subject:message-id:date
 :x-gm-message-state:from:to:cc:subject:date:message-id:reply-to;
 bh=R4TQJGqiBfk0YaXhLBkzPd4PVn5mXyRkqYOnCNc9+I8=;
 b=Rj9OQGswXC6/bpabjjJSfZ6GLNpny9x/B2lu1ArS2gvWUtvEFOXcUe+S2779RtfqnM
 iOfCrN8AsMrNfvzMC7+J8yh4pEJGKgGE+fd33OQJPreCvQ+TVfilx9OM6sL2xCasEhpO
 ntP/sjrCIEdTUHJE08HwIJmYrrN64DNrUCGjeu3PIkj3xmgeOEFfUo+ADgfIwQ8sx3/O
 CcZ+gIn+hUH0COvkpWfmvp6hkkxdpSdiamaeOwc0/PTOWTLDgvZaHp+1Q4PtLIG6ecLv
 WejPzzW/TP3aIu48U0EW8QUtXj3mjgYL6W3MxFHp2DPJqQOtKhSNqw62QAXEI/BYA9ay
 Y38g==
X-Gm-Message-State: AOJu0YwK3J0KycYOn0VTvUF5nmwdytJqRMQ7NjPMCHQ/449cLPXPfxgq
 jUxIDSpRJ0W0YyL2s1krBVsxWjzBM0R/u7mgYVHh+tHdNkPCkxUc89f8a/xBHkOgPzHEDM0n7j2
 jpsqHgNLK530nUVNjGNFtUsMkMkM51XQbo8jpKKU2
X-Google-Smtp-Source: AGHT+IFODvTnwLUyLk9Qmcwo7snwZ8xOSWuwXxtaH06frp7EzpvnqAXFL6WA3VsPBEjEoDzrV7UvwQCD0jKF
X-Received: by 2002:a81:8485:0:b0:64a:5443:7cba with SMTP id
 00721157ae682-652d64d9415mr11990707b3.31.1720092221419; 
 Thu, 04 Jul 2024 04:23:41 -0700 (PDT)
Received: from postal.iol.unh.edu (postal.iol.unh.edu. [132.177.123.84])
 by smtp-relay.gmail.com with ESMTPS id
 00721157ae682-64b7f7f29b3sm2065157b3.19.2024.07.04.04.23.41
 (version=TLS1_2 cipher=ECDHE-ECDSA-AES128-GCM-SHA256 bits=128/128);
 Thu, 04 Jul 2024 04:23:41 -0700 (PDT)
X-Relaying-Domain: iol.unh.edu
Date: Thu, 04 Jul 2024 04:23:41 -0700 (PDT)
Message-ID: <6686863d.050a0220.90330.f182SMTPIN_ADDED_MISSING@mx.google.com>
Received: from [172.21.0.6] (unknown [172.18.0.240])
 by postal.iol.unh.edu (Postfix) with ESMTP id 0AD4A60526E2;
 Thu,  4 Jul 2024 07:23:41 -0400 (EDT)
Subject: |SUCCESS| pw142097-142099 [PATCH] [v5,3/3] testpmd: replace EAL logt
From: dpdklab@iol.unh.edu
To: Test Report <test-report@dpdk.org>
Cc: dpdk-test-reports@iol.unh.edu
In-Reply-To: <20240703162929.78438-4-stephen@networkplumber.org>
References: <20240703162929.78438-4-stephen@networkplumber.org>
Content-Type: text/plain
X-BeenThere: test-report@dpdk.org
X-Mailman-Version: 2.1.29
Precedence: list
List-Id: automatic DPDK test reports <test-report.dpdk.org>
List-Unsubscribe: <https://mails.dpdk.org/options/test-report>,
 <mailto:test-report-request@dpdk.org?subject=unsubscribe>
List-Archive: <http://mails.dpdk.org/archives/test-report/>
List-Post: <mailto:test-report@dpdk.org>
List-Help: <mailto:test-report-request@dpdk.org?subject=help>
List-Subscribe: <https://mails.dpdk.org/listinfo/test-report>,
 <mailto:test-report-request@dpdk.org?subject=subscribe>
Errors-To: test-report-bounces@dpdk.org

Test-Label: iol-unit-amd64-testing
Test-Status: SUCCESS
http://dpdk.org/patch/142099

_Testing PASS_

Submitter: Stephen Hemminger <stephen@networkplumber.org>
Date: Wednesday, July 03 2024 16:28:21 
DPDK git baseline: Repo:dpdk
  Branch: master
  CommitID:95bea772528d316c969a170e6206f3b05ac39413

142097-142099 --> testing pass

Test environment and result as below:

+-------------------+----------------+
|    Environment    | dpdk_unit_test |
+===================+================+
| CentOS Stream 8   | PASS           |
+-------------------+----------------+
| CentOS Stream 9   | PASS           |
+-------------------+----------------+
| Debian Bullseye   | PASS           |
+-------------------+----------------+
| Debian 12         | PASS           |
+-------------------+----------------+
| Fedora 38         | PASS           |
+-------------------+----------------+
| Fedora 38 (Clang) | PASS           |
+-------------------+----------------+
| Fedora 39         | PASS           |
+-------------------+----------------+
| Fedora 39 (Clang) | PASS           |
+-------------------+----------------+
| Fedora 40         | PASS           |
+-------------------+----------------+
| Fedora 40 (Clang) | PASS           |
+-------------------+----------------+
| openSUSE Leap 15  | PASS           |
+-------------------+----------------+
| RHEL8             | PASS           |
+-------------------+----------------+
| RHEL9             | PASS           |
+-------------------+----------------+
| Ubuntu 20.04      | PASS           |
+-------------------+----------------+
| Ubuntu 24.04      | PASS           |
+-------------------+----------------+
| Ubuntu 22.04      | PASS           |
+-------------------+----------------+


CentOS Stream 8
	Kernel: 5.4.0-167-generic
	Compiler: gcc 8.5.0 20210514

CentOS Stream 9
	Kernel: 5.4.0-167-generic
	Compiler: gcc 11.4.1 20230605

Debian Bullseye
	Kernel: 5.4.0-167-generic
	Compiler: gcc 10.2.1-6

Debian 12
	Kernel: Container Host Kernel
	Compiler: gcc 12.2.0

Fedora 38
	Kernel: Depends on container host
	Compiler: gcc 13.2.1

Fedora 38 (Clang)
	Kernel: Depends on container host
	Compiler: clang 16.0.6

Fedora 39
	Kernel: Depends on container host
	Compiler: gcc 13.2.1

Fedora 39 (Clang)
	Kernel: Depends on container host
	Compiler: clang 17.0.6

Fedora 40
	Kernel: Depends on container host
	Compiler: gcc 14.1.1

Fedora 40 (Clang)
	Kernel: Depends on container host
	Compiler: clang 18.1.6

openSUSE Leap 15
	Kernel: 5.4.0-167-generic
	Compiler: gcc 7.5.0

RHEL8
	Kernel: 5.4.0-167-generic
	Compiler: gcc 8.5.0 20210514 (Red Hat 8.5.0-20)

RHEL9
	Kernel: Depends on container host
	Compiler: gcc 11.4.1

Ubuntu 20.04
	Kernel: 5.4.0-167-generic
	Compiler: gcc 9.4.0-1ubuntu1~20.04.1

Ubuntu 24.04
	Kernel: 5.4.0-167-generic
	Compiler: gcc 13.2.0

Ubuntu 22.04
	Kernel: 5.4.0-167-generic
	Compiler: gcc 11.4.0

To view detailed results, visit:
https://lab.dpdk.org/results/dashboard/patchsets/30407/

UNH-IOL DPDK Community Lab

To manage your email subscriptions, visit: 
https://lab.dpdk.org/results/dashboard/preferences/subscriptions/