From mboxrd@z Thu Jan  1 00:00:00 1970
Return-Path: <test-report-bounces@dpdk.org>
Received: from mails.dpdk.org (mails.dpdk.org [217.70.189.124])
	by inbox.dpdk.org (Postfix) with ESMTP id 7143745589
	for <public@inbox.dpdk.org>; Thu,  4 Jul 2024 14:08:55 +0200 (CEST)
Received: from mails.dpdk.org (localhost [127.0.0.1])
	by mails.dpdk.org (Postfix) with ESMTP id 6D1B440280;
	Thu,  4 Jul 2024 14:08:55 +0200 (CEST)
Received: from mail-pl1-f227.google.com (mail-pl1-f227.google.com
 [209.85.214.227])
 by mails.dpdk.org (Postfix) with ESMTP id D8DF54025C
 for <test-report@dpdk.org>; Thu,  4 Jul 2024 14:08:53 +0200 (CEST)
Received: by mail-pl1-f227.google.com with SMTP id
 d9443c01a7336-1fb0d88fd25so4021215ad.0
 for <test-report@dpdk.org>; Thu, 04 Jul 2024 05:08:53 -0700 (PDT)
DKIM-Signature: v=1; a=rsa-sha256; c=relaxed/relaxed;
 d=iol.unh.edu; s=unh-iol; t=1720094933; x=1720699733; darn=dpdk.org;
 h=references:in-reply-to:cc:to:from:subject:message-id:date:from:to
 :cc:subject:date:message-id:reply-to;
 bh=JRnlnvHvkTgi3R28itqwYB+clAxk/4ckNgZ8rFaGqoc=;
 b=MGNcTZbSzpqalxrcJ5r4vPNzPJSV9wtrs2nAoRvuNsWt6fRPkjWNnchg1HCrk406HL
 uAm/yEvMP6SRkDftk8UP+ohWPabaRH1najhKDWoUEFJK6afuin5vp+TfWY17I++swV1P
 BFB0hCCEREo5uxFd9Bjz2o6ipU7kTp0rabZjI=
X-Google-DKIM-Signature: v=1; a=rsa-sha256; c=relaxed/relaxed;
 d=1e100.net; s=20230601; t=1720094933; x=1720699733;
 h=references:in-reply-to:cc:to:from:subject:message-id:date
 :x-gm-message-state:from:to:cc:subject:date:message-id:reply-to;
 bh=JRnlnvHvkTgi3R28itqwYB+clAxk/4ckNgZ8rFaGqoc=;
 b=Y/76x4JCw1pzhp97203v1We7t01hrnawLgcSACixr/Urnoi6+UCDLvAGOhYnbMdz4K
 TZueNu8JTu6JZ/b5j3ZmQCcbujFLyd/I0axn2E3NPukALEcskNcAU6SlAJ1rSLLVJ8Ba
 hWhQ7JxFxeYmfKPiYyqz4wQx3PVKl7HuAFEDLKBeSr3QoVfBLzkt972MbInO5IIIpTZ0
 v3ANzJxMRlA3LNqysls6eDptyjyJkT/gqnRSs3UdLSUQYW0chqj/GCqDK48llVhPGULk
 2YPuNs7bUOoDfDf6iE1KRIg6jeWZevTYbAYIiGQNcbr8Yl9pY+MwH9tXvB67yaNiMJm6
 Mgdg==
X-Gm-Message-State: AOJu0YwmKi2sdX/XTqBZsqScbqZe9zIkWJ3sySPq5ImkCO/+tx6C9pLz
 vN5IpkbeJ/RoP1A9JX3LLRL40vB4cv1T4SdtscFSUIRQxq0CWTeQ98XS3kTw342qpff7hvLky6a
 gTBbtSXglCmxSrGJ4XTYRetoakmFFqWXOT/3YnLNJ
X-Google-Smtp-Source: AGHT+IEcCMWhP4MwEde3VuS02Sj8x8+FpYBpndsNV+GbwglF3mGU3hYHwJjdjrtKYfC04w9OheWqWZxfjpA3
X-Received: by 2002:a17:902:c402:b0:1fb:15ff:8499 with SMTP id
 d9443c01a7336-1fb3700d240mr16296665ad.4.1720094932949; 
 Thu, 04 Jul 2024 05:08:52 -0700 (PDT)
Received: from postal.iol.unh.edu (postal.iol.unh.edu. [132.177.123.84])
 by smtp-relay.gmail.com with ESMTPS id
 d9443c01a7336-1fac155b11bsm4094385ad.87.2024.07.04.05.08.52
 (version=TLS1_2 cipher=ECDHE-ECDSA-AES128-GCM-SHA256 bits=128/128);
 Thu, 04 Jul 2024 05:08:52 -0700 (PDT)
X-Relaying-Domain: iol.unh.edu
Date: Thu, 04 Jul 2024 05:08:52 -0700 (PDT)
Message-ID: <668690d4.170a0220.904d1.f179SMTPIN_ADDED_MISSING@mx.google.com>
Received: from [172.21.0.7] (unknown [172.18.0.240])
 by postal.iol.unh.edu (Postfix) with ESMTP id 1DD6560526E2;
 Thu,  4 Jul 2024 08:08:52 -0400 (EDT)
Subject: |PENDING| pw142097-142099 [PATCH] [v5,3/3] testpmd: replace EAL logt
From: dpdklab@iol.unh.edu
To: Test Report <test-report@dpdk.org>
Cc: dpdk-test-reports@iol.unh.edu
In-Reply-To: <20240703162929.78438-4-stephen@networkplumber.org>
References: <20240703162929.78438-4-stephen@networkplumber.org>
Content-Type: text/plain
X-BeenThere: test-report@dpdk.org
X-Mailman-Version: 2.1.29
Precedence: list
List-Id: automatic DPDK test reports <test-report.dpdk.org>
List-Unsubscribe: <https://mails.dpdk.org/options/test-report>,
 <mailto:test-report-request@dpdk.org?subject=unsubscribe>
List-Archive: <http://mails.dpdk.org/archives/test-report/>
List-Post: <mailto:test-report@dpdk.org>
List-Help: <mailto:test-report-request@dpdk.org?subject=help>
List-Subscribe: <https://mails.dpdk.org/listinfo/test-report>,
 <mailto:test-report-request@dpdk.org?subject=subscribe>
Errors-To: test-report-bounces@dpdk.org

Test-Label: iol-compile-amd64-testing
Test-Status: PENDING
http://dpdk.org/patch/142099

_Testing pending_

Submitter: Stephen Hemminger <stephen@networkplumber.org>
Date: Wednesday, July 03 2024 16:28:21 
DPDK git baseline: Repo:dpdk
  Branch: master
  CommitID:95bea772528d316c969a170e6206f3b05ac39413

142097-142099 --> testing pending

Test environment and result as below:

+---------------------+--------------------+------------------+-------------------+----------------------+
|     Environment     | dpdk_meson_compile | dpdk_compile_ovs | dpdk_compile_spdk | dpdk_mingw64_compile |
+=====================+====================+==================+===================+======================+
| CentOS Stream 8     | PASS               | PASS             | PASS              | SKIPPED              |
+---------------------+--------------------+------------------+-------------------+----------------------+
| Debian Bullseye     | PASS               | PASS             | PASS              | SKIPPED              |
+---------------------+--------------------+------------------+-------------------+----------------------+
| CentOS Stream 9     | PASS               | PASS             | PASS              | SKIPPED              |
+---------------------+--------------------+------------------+-------------------+----------------------+
| Debian 12           | PEND               | PEND             | PEND              | SKIPPED              |
+---------------------+--------------------+------------------+-------------------+----------------------+
| Fedora 37           | PASS               | PASS             | PASS              | SKIPPED              |
+---------------------+--------------------+------------------+-------------------+----------------------+
| Fedora 39           | PASS               | PASS             | PASS              | SKIPPED              |
+---------------------+--------------------+------------------+-------------------+----------------------+
| Fedora 38           | PASS               | PASS             | PASS              | SKIPPED              |
+---------------------+--------------------+------------------+-------------------+----------------------+
| Fedora 38 (Clang)   | PEND               | PEND             | PEND              | SKIPPED              |
+---------------------+--------------------+------------------+-------------------+----------------------+
| Fedora 40 (Clang)   | PEND               | PEND             | PEND              | SKIPPED              |
+---------------------+--------------------+------------------+-------------------+----------------------+
| Fedora 39 (Clang)   | PEND               | PEND             | PEND              | SKIPPED              |
+---------------------+--------------------+------------------+-------------------+----------------------+
| Fedora 40           | PASS               | PASS             | PASS              | SKIPPED              |
+---------------------+--------------------+------------------+-------------------+----------------------+
| openSUSE Leap 15    | PASS               | PASS             | SKIPPED           | SKIPPED              |
+---------------------+--------------------+------------------+-------------------+----------------------+
| RHEL8               | PEND               | PEND             | SKIPPED           | SKIPPED              |
+---------------------+--------------------+------------------+-------------------+----------------------+
| RHEL9               | PASS               | PASS             | SKIPPED           | SKIPPED              |
+---------------------+--------------------+------------------+-------------------+----------------------+
| Ubuntu 20.04        | PASS               | PASS             | SKIPPED           | SKIPPED              |
+---------------------+--------------------+------------------+-------------------+----------------------+
| Ubuntu 22.04        | PASS               | PASS             | PEND              | SKIPPED              |
+---------------------+--------------------+------------------+-------------------+----------------------+
| Ubuntu 24.04        | PASS               | PASS             | PEND              | SKIPPED              |
+---------------------+--------------------+------------------+-------------------+----------------------+
| Windows Server 2019 | PASS               | SKIPPED          | SKIPPED           | PASS                 |
+---------------------+--------------------+------------------+-------------------+----------------------+
| Windows Server 2022 | PASS               | SKIPPED          | SKIPPED           | SKIPPED              |
+---------------------+--------------------+------------------+-------------------+----------------------+
| Alpine              | PASS               | PASS             | SKIPPED           | SKIPPED              |
+---------------------+--------------------+------------------+-------------------+----------------------+
| FreeBSD 13.3        | PASS               | SKIPPED          | SKIPPED           | SKIPPED              |
+---------------------+--------------------+------------------+-------------------+----------------------+
| FreeBSD 14.1        | PASS               | SKIPPED          | SKIPPED           | SKIPPED              |
+---------------------+--------------------+------------------+-------------------+----------------------+


CentOS Stream 8
	Kernel: 5.4.0-167-generic
	Compiler: gcc 8.5.0 20210514

Debian Bullseye
	Kernel: 5.4.0-167-generic
	Compiler: gcc 10.2.1-6

CentOS Stream 9
	Kernel: 5.4.0-167-generic
	Compiler: gcc 11.4.1 20230605

Debian 12
	Kernel: Container Host Kernel
	Compiler: gcc 12.2.0

Fedora 37
	Kernel: Depends on container host system
	Compiler: gcc 12.3.1

Fedora 39
	Kernel: Depends on container host
	Compiler: gcc 13.2.1

Fedora 38
	Kernel: Depends on container host
	Compiler: gcc 13.2.1

Fedora 38 (Clang)
	Kernel: Depends on container host
	Compiler: clang 16.0.6

Fedora 40 (Clang)
	Kernel: Depends on container host
	Compiler: clang 18.1.6

Fedora 39 (Clang)
	Kernel: Depends on container host
	Compiler: clang 17.0.6

Fedora 40
	Kernel: Depends on container host
	Compiler: gcc 14.1.1

openSUSE Leap 15
	Kernel: 5.4.0-167-generic
	Compiler: gcc 7.5.0

RHEL8
	Kernel: 5.4.0-167-generic
	Compiler: gcc 8.5.0 20210514 (Red Hat 8.5.0-20)

RHEL9
	Kernel: Depends on container host
	Compiler: gcc 11.4.1

Ubuntu 20.04
	Kernel: 5.4.0-167-generic
	Compiler: gcc 9.4.0-1ubuntu1~20.04.1

Ubuntu 22.04
	Kernel: 5.4.0-167-generic
	Compiler: gcc 11.4.0

Ubuntu 24.04
	Kernel: 5.4.0-167-generic
	Compiler: gcc 13.2.0

Windows Server 2019
	Kernel: 10.0.17763
	Compiler: clang 14.0 and gcc 8.1.0 (MinGW)

Windows Server 2022
	Kernel: 10.0.20348.2031
	Compiler: clang 15.0.7, gcc 8.1.0 (MinGW), and MSVC VS 17.9

Alpine
	Kernel: 5.4.0-167-generic
	Compiler: gcc (Alpine 13.2.1_git20231014) 13.2.1 20231014

FreeBSD 13.3
	Kernel: 13.3-RELEASE-p1
	Compiler: clang 17.0.6

FreeBSD 14.1
	Kernel: 14.1
	Compiler: clang 18.1.5

To view detailed results, visit:
https://lab.dpdk.org/results/dashboard/patchsets/30407/

UNH-IOL DPDK Community Lab

To manage your email subscriptions, visit: 
https://lab.dpdk.org/results/dashboard/preferences/subscriptions/