From mboxrd@z Thu Jan  1 00:00:00 1970
Return-Path: <test-report-bounces@dpdk.org>
Received: from mails.dpdk.org (mails.dpdk.org [217.70.189.124])
	by inbox.dpdk.org (Postfix) with ESMTP id 6112545589
	for <public@inbox.dpdk.org>; Thu,  4 Jul 2024 14:46:36 +0200 (CEST)
Received: from mails.dpdk.org (localhost [127.0.0.1])
	by mails.dpdk.org (Postfix) with ESMTP id 5D5A740280;
	Thu,  4 Jul 2024 14:46:36 +0200 (CEST)
Received: from mail-pl1-f228.google.com (mail-pl1-f228.google.com
 [209.85.214.228])
 by mails.dpdk.org (Postfix) with ESMTP id E25AD4025C
 for <test-report@dpdk.org>; Thu,  4 Jul 2024 14:46:34 +0200 (CEST)
Received: by mail-pl1-f228.google.com with SMTP id
 d9443c01a7336-1fb3cf78fbdso1988475ad.1
 for <test-report@dpdk.org>; Thu, 04 Jul 2024 05:46:34 -0700 (PDT)
DKIM-Signature: v=1; a=rsa-sha256; c=relaxed/relaxed;
 d=iol.unh.edu; s=unh-iol; t=1720097194; x=1720701994; darn=dpdk.org;
 h=references:in-reply-to:cc:to:from:subject:message-id:date:from:to
 :cc:subject:date:message-id:reply-to;
 bh=4uXh9lSfxcMGkjqYYktl7lKwQ3GvOl1fMa9bFXrfxhg=;
 b=IE7jG5tsUFT7C/xrYzYEvm5pwzq37R3cDi/nX0bkwMCwBKPnw1HhjO5nb+FuZASPJX
 x/E8ELAgC9i28S9sGBwzwelQfygVh26BbkM63nap70wF7lR+Q7TovM02W0ulexI0k5An
 Ktoo/lKXjH5MbGzsw57xqc8aXZJmA1CC8psE4=
X-Google-DKIM-Signature: v=1; a=rsa-sha256; c=relaxed/relaxed;
 d=1e100.net; s=20230601; t=1720097194; x=1720701994;
 h=references:in-reply-to:cc:to:from:subject:message-id:date
 :x-gm-message-state:from:to:cc:subject:date:message-id:reply-to;
 bh=4uXh9lSfxcMGkjqYYktl7lKwQ3GvOl1fMa9bFXrfxhg=;
 b=CZ60c6UAVxzZWotggiYKBvtA2/ih8n9t6tcCkx3EYRG5ig7wH+4lDrhgSUfKOyEeI3
 eqdW1Jp473m884peNltOwxsWoTXc55IZ3SaLALFVpwA2GnwXoRMjzhmfc0sZx7ZQYNQY
 JQGb6lq3HNEZT/QorO1XaOLAfB008ZupJuwWW3IGkK2kb5NyEKURxBEWc3CsNPfe4bQe
 tiCvhTtJkik4C01LzKbAaUdNK0wMTYhy7E8nihVRqCJOXFfuQKj/5Oma7eraw3fLH2gg
 Fv8XhDX3SDu3eKXJjAJev0f2rH5M3fpHiIO97wbKn/f32M5iZgTq6mNPeYICtCsHOmYr
 YHzw==
X-Gm-Message-State: AOJu0YydrZtordCbfjaxmCTxKO4WALI9nWGd6GOXhSJLT+/lXxsuQJJ/
 tbwfjLwKXHbOtDtPvKD+iAz1Ozaoo2SK6FSM3gdfmKAJmGGI0mRAOkasAgo4wy849yeZYy2ZxR3
 A+DPNxrsdM+zfqSQvKUJ4pCO5/q9TFpQXRS5SwJbq
X-Google-Smtp-Source: AGHT+IGS1zKoDnyGNZhFO4a1jS6VIHjkmCX7lBg1TiEXhSu9amSGIRePwX0LCZlkx4kQeLTJBmaBY3bXs3Wg
X-Received: by 2002:a17:903:2448:b0:1fb:24ea:fdf7 with SMTP id
 d9443c01a7336-1fb33f0ec3fmr12240935ad.61.1720097194075; 
 Thu, 04 Jul 2024 05:46:34 -0700 (PDT)
Received: from postal.iol.unh.edu (postal.iol.unh.edu. [132.177.123.84])
 by smtp-relay.gmail.com with ESMTPS id
 d9443c01a7336-1fac11e7e35sm4001005ad.42.2024.07.04.05.46.33
 (version=TLS1_2 cipher=ECDHE-ECDSA-AES128-GCM-SHA256 bits=128/128);
 Thu, 04 Jul 2024 05:46:34 -0700 (PDT)
X-Relaying-Domain: iol.unh.edu
Date: Thu, 04 Jul 2024 05:46:34 -0700 (PDT)
Message-ID: <668699aa.170a0220.f55a4.df28SMTPIN_ADDED_MISSING@mx.google.com>
Received: from [172.21.0.6] (unknown [172.18.0.240])
 by postal.iol.unh.edu (Postfix) with ESMTP id 3245A60526E2;
 Thu,  4 Jul 2024 08:46:33 -0400 (EDT)
Subject: |PENDING| pw142063-142073 [PATCH] [11/11] crypto/dpaa2_sec: fix issu
From: dpdklab@iol.unh.edu
To: Test Report <test-report@dpdk.org>
Cc: dpdk-test-reports@iol.unh.edu
In-Reply-To: <20240703102649.3096530-12-g.singh@nxp.com>
References: <20240703102649.3096530-12-g.singh@nxp.com>
Content-Type: text/plain
X-BeenThere: test-report@dpdk.org
X-Mailman-Version: 2.1.29
Precedence: list
List-Id: automatic DPDK test reports <test-report.dpdk.org>
List-Unsubscribe: <https://mails.dpdk.org/options/test-report>,
 <mailto:test-report-request@dpdk.org?subject=unsubscribe>
List-Archive: <http://mails.dpdk.org/archives/test-report/>
List-Post: <mailto:test-report@dpdk.org>
List-Help: <mailto:test-report-request@dpdk.org?subject=help>
List-Subscribe: <https://mails.dpdk.org/listinfo/test-report>,
 <mailto:test-report-request@dpdk.org?subject=subscribe>
Errors-To: test-report-bounces@dpdk.org

Test-Label: iol-abi-testing
Test-Status: PENDING
http://dpdk.org/patch/142073

_Testing pending_

Submitter: Gagandeep Singh <g.singh@nxp.com>
Date: Wednesday, July 03 2024 10:26:49 
DPDK git baseline: Repo:dpdk
  Branch: master
  CommitID:95bea772528d316c969a170e6206f3b05ac39413

142063-142073 --> testing pending

Test environment and result as below:

+-------------------+----------+
|    Environment    | abi_test |
+===================+==========+
| CentOS Stream 8   | PASS     |
+-------------------+----------+
| CentOS Stream 9   | PASS     |
+-------------------+----------+
| Debian Bullseye   | PASS     |
+-------------------+----------+
| Debian 12         | PASS     |
+-------------------+----------+
| Fedora 37         | PASS     |
+-------------------+----------+
| Fedora 38 (Clang) | PASS     |
+-------------------+----------+
| Fedora 38         | PASS     |
+-------------------+----------+
| Fedora 39 (Clang) | PASS     |
+-------------------+----------+
| Fedora 39         | PASS     |
+-------------------+----------+
| Fedora 40 (Clang) | PASS     |
+-------------------+----------+
| Fedora 40         | PEND     |
+-------------------+----------+
| openSUSE Leap 15  | PASS     |
+-------------------+----------+
| RHEL8             | PEND     |
+-------------------+----------+
| RHEL9             | PASS     |
+-------------------+----------+
| Ubuntu 22.04      | PASS     |
+-------------------+----------+
| Ubuntu 24.04      | PEND     |
+-------------------+----------+


CentOS Stream 8
	Kernel: 5.4.0-167-generic
	Compiler: gcc 8.5.0 20210514

CentOS Stream 9
	Kernel: 5.4.0-167-generic
	Compiler: gcc 11.4.1 20230605

Debian Bullseye
	Kernel: 5.4.0-167-generic
	Compiler: gcc 10.2.1-6

Debian 12
	Kernel: Container Host Kernel
	Compiler: gcc 12.2.0

Fedora 37
	Kernel: Depends on container host system
	Compiler: gcc 12.3.1

Fedora 38 (Clang)
	Kernel: Depends on container host
	Compiler: clang 16.0.6

Fedora 38
	Kernel: Depends on container host
	Compiler: gcc 13.2.1

Fedora 39 (Clang)
	Kernel: Depends on container host
	Compiler: clang 17.0.6

Fedora 39
	Kernel: Depends on container host
	Compiler: gcc 13.2.1

Fedora 40 (Clang)
	Kernel: Depends on container host
	Compiler: clang 18.1.6

Fedora 40
	Kernel: Depends on container host
	Compiler: gcc 14.1.1

openSUSE Leap 15
	Kernel: 5.4.0-167-generic
	Compiler: gcc 7.5.0

RHEL8
	Kernel: 5.4.0-167-generic
	Compiler: gcc 8.5.0 20210514 (Red Hat 8.5.0-20)

RHEL9
	Kernel: Depends on container host
	Compiler: gcc 11.4.1

Ubuntu 22.04
	Kernel: 5.4.0-167-generic
	Compiler: gcc 11.4.0

Ubuntu 24.04
	Kernel: 5.4.0-167-generic
	Compiler: gcc 13.2.0

To view detailed results, visit:
https://lab.dpdk.org/results/dashboard/patchsets/30398/

UNH-IOL DPDK Community Lab

To manage your email subscriptions, visit: 
https://lab.dpdk.org/results/dashboard/preferences/subscriptions/