From mboxrd@z Thu Jan  1 00:00:00 1970
Return-Path: <test-report-bounces@dpdk.org>
Received: from mails.dpdk.org (mails.dpdk.org [217.70.189.124])
	by inbox.dpdk.org (Postfix) with ESMTP id 3192A4558A
	for <public@inbox.dpdk.org>; Fri,  5 Jul 2024 00:03:29 +0200 (CEST)
Received: from mails.dpdk.org (localhost [127.0.0.1])
	by mails.dpdk.org (Postfix) with ESMTP id 26E1B4027E;
	Fri,  5 Jul 2024 00:03:29 +0200 (CEST)
Received: from mail-qv1-f99.google.com (mail-qv1-f99.google.com
 [209.85.219.99]) by mails.dpdk.org (Postfix) with ESMTP id 4318740275
 for <test-report@dpdk.org>; Fri,  5 Jul 2024 00:03:28 +0200 (CEST)
Received: by mail-qv1-f99.google.com with SMTP id
 6a1803df08f44-6b5f46191b5so1268346d6.3
 for <test-report@dpdk.org>; Thu, 04 Jul 2024 15:03:28 -0700 (PDT)
DKIM-Signature: v=1; a=rsa-sha256; c=relaxed/relaxed;
 d=iol.unh.edu; s=unh-iol; t=1720130607; x=1720735407; darn=dpdk.org;
 h=references:in-reply-to:cc:to:from:subject:message-id:date:from:to
 :cc:subject:date:message-id:reply-to;
 bh=CeEIWjKQH8e0IzUC7eK58wFNjJofbglC++RAhg9Br+w=;
 b=LZToEGJzsgFD2z4JFj91YsZV2yNAX9n3BFC1Cu8N5rlN3tg81l/aBuBlIRKoJXxSO5
 v8GOTnJD+mbXQ37Ea7oNI2tYX8uXBidTYZu4wcmU8/BLF8RK8qF+ue09hh/xkHrb075O
 jB436iJFgkQB3VNqeVZH4MhCN+opQtJ7P8oxk=
X-Google-DKIM-Signature: v=1; a=rsa-sha256; c=relaxed/relaxed;
 d=1e100.net; s=20230601; t=1720130607; x=1720735407;
 h=references:in-reply-to:cc:to:from:subject:message-id:date
 :x-gm-message-state:from:to:cc:subject:date:message-id:reply-to;
 bh=CeEIWjKQH8e0IzUC7eK58wFNjJofbglC++RAhg9Br+w=;
 b=XQxrAC/4K1TtOxKSsOiXG/YOAOw26f59M7Nnq+6godhkrb+7NU7WpLvwfEE/1GhexL
 6ZDtKVh/Q0tRSGNmH9Qce3KureJoUUrLagLIk8yMlQVtUTnp4iLAHDX+y77fW8zrQ1nm
 gEkmsK42f9yaqb7XHg5ALD4l52CbbNenZzdpqOS1s7NFe7O0YgEuA0x+T4JAwxkgfs+n
 pCFjRO7YKra5gM+386ArgUtd76l9opoXZvCPaCN/Ex1tJcXa0JlHLhjzrh5ndm+VZ43a
 6eVgzR2tW15PU1DkFZPllcbz6ytNDUB2IXpMOuEO6Ok8llEajUGQbAzEKLVZCLUk4h6P
 LFwg==
X-Gm-Message-State: AOJu0YwQcOK/y1BRrjZcdq+QlSmOEBIm3vjxTixuZRMZ92ovVFmGNd9r
 0I2Tk6c6dOfWJCp8Jb3Pu1zLpax6BNtubiRq2J1x0mhL6wZ6inrvSg3UVWtZDtWY3sGFQ5JDIGs
 4/tKqF9E8f8GYMA7tGvbYk6duxk4UQsxD3zOpb1IeQeimAWe3ZDjfwZWH
X-Google-Smtp-Source: AGHT+IFId0nfwuu3dKTN824hFr4lsX/UxW0DBn7zEVFIv1jupMnQzPm283w1TSl2ZFZtTy8y7ufARzFtMTDj
X-Received: by 2002:a05:6214:ca1:b0:6b0:9479:cdc9 with SMTP id
 6a1803df08f44-6b5ed03d663mr31904876d6.49.1720130603297; 
 Thu, 04 Jul 2024 15:03:23 -0700 (PDT)
Received: from postal.iol.unh.edu (postal.iol.unh.edu.
 [2606:4100:3880:1234::84]) by smtp-relay.gmail.com with ESMTPS id
 6a1803df08f44-6b59e367713sm7027636d6.16.2024.07.04.15.03.23
 (version=TLS1_2 cipher=ECDHE-ECDSA-AES128-GCM-SHA256 bits=128/128);
 Thu, 04 Jul 2024 15:03:23 -0700 (PDT)
X-Relaying-Domain: iol.unh.edu
Date: Thu, 04 Jul 2024 15:03:23 -0700 (PDT)
Message-ID: <66871c2b.d40a0220.9fec4.924aSMTPIN_ADDED_MISSING@mx.google.com>
Received: from [172.21.0.6] (unknown [172.18.0.240])
 by postal.iol.unh.edu (Postfix) with ESMTP id 0FA55605C20D;
 Thu,  4 Jul 2024 18:03:23 -0400 (EDT)
Subject: |PENDING| pw142113-142116 [PATCH] [v2,4/4] dts: add dynamic queue co
From: dpdklab@iol.unh.edu
To: Test Report <test-report@dpdk.org>
Cc: dpdk-test-reports@iol.unh.edu
In-Reply-To: <20240703215828.80079-5-jspewock@iol.unh.edu>
References: <20240703215828.80079-5-jspewock@iol.unh.edu>
Content-Type: text/plain
X-BeenThere: test-report@dpdk.org
X-Mailman-Version: 2.1.29
Precedence: list
List-Id: automatic DPDK test reports <test-report.dpdk.org>
List-Unsubscribe: <https://mails.dpdk.org/options/test-report>,
 <mailto:test-report-request@dpdk.org?subject=unsubscribe>
List-Archive: <http://mails.dpdk.org/archives/test-report/>
List-Post: <mailto:test-report@dpdk.org>
List-Help: <mailto:test-report-request@dpdk.org?subject=help>
List-Subscribe: <https://mails.dpdk.org/listinfo/test-report>,
 <mailto:test-report-request@dpdk.org?subject=subscribe>
Errors-To: test-report-bounces@dpdk.org

Test-Label: iol-unit-amd64-testing
Test-Status: PENDING
http://dpdk.org/patch/142116

_Testing pending_

Submitter: Jeremy Spewock <jspewock@iol.unh.edu>
Date: Wednesday, July 03 2024 21:58:28 
DPDK git baseline: Repo:dpdk
  Branch: master
  CommitID:95bea772528d316c969a170e6206f3b05ac39413

142113-142116 --> testing pending

Test environment and result as below:

+-------------------+----------------+
|    Environment    | dpdk_unit_test |
+===================+================+
| CentOS Stream 8   | PASS           |
+-------------------+----------------+
| CentOS Stream 9   | PASS           |
+-------------------+----------------+
| Debian Bullseye   | PASS           |
+-------------------+----------------+
| Debian 12         | PASS           |
+-------------------+----------------+
| Fedora 38         | PASS           |
+-------------------+----------------+
| Fedora 39         | PASS           |
+-------------------+----------------+
| Fedora 39 (Clang) | PASS           |
+-------------------+----------------+
| Fedora 40         | PASS           |
+-------------------+----------------+
| Fedora 40 (Clang) | PASS           |
+-------------------+----------------+
| RHEL8             | PASS           |
+-------------------+----------------+
| openSUSE Leap 15  | PASS           |
+-------------------+----------------+
| RHEL9             | PASS           |
+-------------------+----------------+
| Ubuntu 20.04      | PASS           |
+-------------------+----------------+
| Ubuntu 22.04      | PASS           |
+-------------------+----------------+
| Ubuntu 24.04      | PASS           |
+-------------------+----------------+
| Fedora 37         | PEND           |
+-------------------+----------------+
| Fedora 38 (Clang) | PEND           |
+-------------------+----------------+


CentOS Stream 8
	Kernel: 5.4.0-167-generic
	Compiler: gcc 8.5.0 20210514

CentOS Stream 9
	Kernel: 5.4.0-167-generic
	Compiler: gcc 11.4.1 20230605

Debian Bullseye
	Kernel: 5.4.0-167-generic
	Compiler: gcc 10.2.1-6

Debian 12
	Kernel: Container Host Kernel
	Compiler: gcc 12.2.0

Fedora 38
	Kernel: Depends on container host
	Compiler: gcc 13.2.1

Fedora 39
	Kernel: Depends on container host
	Compiler: gcc 13.2.1

Fedora 39 (Clang)
	Kernel: Depends on container host
	Compiler: clang 17.0.6

Fedora 40
	Kernel: Depends on container host
	Compiler: gcc 14.1.1

Fedora 40 (Clang)
	Kernel: Depends on container host
	Compiler: clang 18.1.6

RHEL8
	Kernel: 5.4.0-167-generic
	Compiler: gcc 8.5.0 20210514 (Red Hat 8.5.0-20)

openSUSE Leap 15
	Kernel: 5.4.0-167-generic
	Compiler: gcc 7.5.0

RHEL9
	Kernel: Depends on container host
	Compiler: gcc 11.4.1

Ubuntu 20.04
	Kernel: 5.4.0-167-generic
	Compiler: gcc 9.4.0-1ubuntu1~20.04.1

Ubuntu 22.04
	Kernel: 5.4.0-167-generic
	Compiler: gcc 11.4.0

Ubuntu 24.04
	Kernel: 5.4.0-167-generic
	Compiler: gcc 13.2.0

Fedora 37
	Kernel: Depends on container host system
	Compiler: gcc 12.3.1

Fedora 38 (Clang)
	Kernel: Depends on container host
	Compiler: clang 16.0.6

To view detailed results, visit:
https://lab.dpdk.org/results/dashboard/patchsets/30412/

UNH-IOL DPDK Community Lab

To manage your email subscriptions, visit: 
https://lab.dpdk.org/results/dashboard/preferences/subscriptions/