From mboxrd@z Thu Jan  1 00:00:00 1970
Return-Path: <test-report-bounces@dpdk.org>
Received: from mails.dpdk.org (mails.dpdk.org [217.70.189.124])
	by inbox.dpdk.org (Postfix) with ESMTP id DE6F64558E
	for <public@inbox.dpdk.org>; Fri,  5 Jul 2024 04:37:21 +0200 (CEST)
Received: from mails.dpdk.org (localhost [127.0.0.1])
	by mails.dpdk.org (Postfix) with ESMTP id D83D340EE2;
	Fri,  5 Jul 2024 04:37:21 +0200 (CEST)
Received: from mail-vk1-f226.google.com (mail-vk1-f226.google.com
 [209.85.221.226])
 by mails.dpdk.org (Postfix) with ESMTP id 626124029C
 for <test-report@dpdk.org>; Fri,  5 Jul 2024 04:37:21 +0200 (CEST)
Received: by mail-vk1-f226.google.com with SMTP id
 71dfb90a1353d-4f2e147ee98so390979e0c.0
 for <test-report@dpdk.org>; Thu, 04 Jul 2024 19:37:21 -0700 (PDT)
DKIM-Signature: v=1; a=rsa-sha256; c=relaxed/relaxed;
 d=iol.unh.edu; s=unh-iol; t=1720147040; x=1720751840; darn=dpdk.org;
 h=references:in-reply-to:cc:to:from:subject:message-id:date:from:to
 :cc:subject:date:message-id:reply-to;
 bh=KXUJPKohaPrrt8ecfz8AdDmiN9oo/KsnAq/MW0Fiwvc=;
 b=M4PYLSNv0DoFXa8uiNAnanmCrNUfMGummtRB0qRTqErTv7p1cKkT8iFqcCPaVsJcA8
 x60L+zgLhaNG1PRhv02210xMyUKIF9w6W6TO13c8YXvEqCFaL3ovnunxd108VDax2h05
 VyTW+MRwDRaXFrOMPExdPw1Xc9nff4xV8NtQk=
X-Google-DKIM-Signature: v=1; a=rsa-sha256; c=relaxed/relaxed;
 d=1e100.net; s=20230601; t=1720147040; x=1720751840;
 h=references:in-reply-to:cc:to:from:subject:message-id:date
 :x-gm-message-state:from:to:cc:subject:date:message-id:reply-to;
 bh=KXUJPKohaPrrt8ecfz8AdDmiN9oo/KsnAq/MW0Fiwvc=;
 b=W4uQq18oW20PBWIO2kbcHPfiTX7163Ef5k5M7GPFEMsdJdcHnGl8JN9zlCMY7vCDN3
 I8DyhSPeYT8QPfDSNcqBOPRJ1Cql2RhY7ixsW4j94ObaYz04zc4JXh01kJtq3NRHPTIe
 h+3Ww1frMLEynAPHMP7mC4VEkJX0m8FwNySaHQrE8rJ8mw5Admx44klvDVgtV5iqAnMY
 FJdLaFLS7kizAVS9QV0VlmSHr8UN7sBan5Pa16Rlg1DEHXNxioODkB6ybv0XnF6zSJo2
 7g0Yoaz3mFTtIpiMTSptgJ4kOWpQxhYOLSImUiLprvmZUiMmPQSdJaqw1VLqquxvCfTT
 6ZxQ==
X-Gm-Message-State: AOJu0YykFi6Ec3hbTwC2gUYUyHY4EPSEVyP2UJJwqJtxwFF81ZLOK3Th
 xbRCfNjyfaGzkUFMRTj/JGN/SXISzDFl3oAOx+44ammLdr5qMz28q7CxNAQ1ezyrDKa/qP9LGe2
 qzBXHmfk9dLttN1gRRnb8ABsetvl523sBi+DjxJ8mstPLtpbqxtWfuJUP
X-Google-Smtp-Source: AGHT+IGjuzK3SqAw1lRT3duPNhDarRvE1nia6hwtJ0ZvfS5jUM2tadN5JRb+16S5KK6ZmKBZPzeupmPQKIJ6
X-Received: by 2002:a05:6122:4d1c:b0:4ef:5744:483 with SMTP id
 71dfb90a1353d-4f2f3e5fd7emr4064306e0c.6.1720147040715; 
 Thu, 04 Jul 2024 19:37:20 -0700 (PDT)
Received: from postal.iol.unh.edu (postal.iol.unh.edu.
 [2606:4100:3880:1234::84]) by smtp-relay.gmail.com with ESMTPS id
 6a1803df08f44-6b5f7bfd48asm217906d6.56.2024.07.04.19.37.20
 (version=TLS1_2 cipher=ECDHE-ECDSA-AES128-GCM-SHA256 bits=128/128);
 Thu, 04 Jul 2024 19:37:20 -0700 (PDT)
X-Relaying-Domain: iol.unh.edu
Date: Thu, 04 Jul 2024 19:37:20 -0700 (PDT)
Message-ID: <66875c60.d40a0220.ef64e.162cSMTPIN_ADDED_MISSING@mx.google.com>
Received: from [172.17.0.2] (unknown [172.18.0.217])
 by postal.iol.unh.edu (Postfix) with ESMTP id 6C86D605C351;
 Thu,  4 Jul 2024 22:37:20 -0400 (EDT)
Subject: |PENDING| pw142124 [PATCH] [v2] net/mlx5: add metadata split for com
From: dpdklab@iol.unh.edu
To: Test Report <test-report@dpdk.org>
Cc: dpdk-test-reports@iol.unh.edu
In-Reply-To: <20240704102603.3355-1-bingz@nvidia.com>
References: <20240704102603.3355-1-bingz@nvidia.com>
Content-Type: text/plain
X-BeenThere: test-report@dpdk.org
X-Mailman-Version: 2.1.29
Precedence: list
List-Id: automatic DPDK test reports <test-report.dpdk.org>
List-Unsubscribe: <https://mails.dpdk.org/options/test-report>,
 <mailto:test-report-request@dpdk.org?subject=unsubscribe>
List-Archive: <http://mails.dpdk.org/archives/test-report/>
List-Post: <mailto:test-report@dpdk.org>
List-Help: <mailto:test-report-request@dpdk.org?subject=help>
List-Subscribe: <https://mails.dpdk.org/listinfo/test-report>,
 <mailto:test-report-request@dpdk.org?subject=subscribe>
Errors-To: test-report-bounces@dpdk.org

Test-Label: iol-compile-amd64-testing
Test-Status: PENDING
http://dpdk.org/patch/142124

_Testing pending_

Submitter: Bing Zhao <bingz@nvidia.com>
Date: Thursday, July 04 2024 10:26:03 
DPDK git baseline: Repo:dpdk
  Branch: master
  CommitID:b31811d96c1d0fb36df78dc34ef8325bce447bfc

142124 --> testing pending

Test environment and result as below:

+---------------------+----------------------+--------------------+
|     Environment     | dpdk_mingw64_compile | dpdk_meson_compile |
+=====================+======================+====================+
| Windows Server 2022 | PASS                 | PASS               |
+---------------------+----------------------+--------------------+
| Windows Server 2019 | PEND                 | PEND               |
+---------------------+----------------------+--------------------+
| FreeBSD 13.3        | SKIPPED              | PASS               |
+---------------------+----------------------+--------------------+
| FreeBSD 14.1        | SKIPPED              | PASS               |
+---------------------+----------------------+--------------------+


Windows Server 2022
	Kernel: 10.0.20348.2031
	Compiler: clang 15.0.7, gcc 8.1.0 (MinGW), and MSVC VS 17.9

Windows Server 2019
	Kernel: 10.0.17763
	Compiler: clang 14.0 and gcc 8.1.0 (MinGW)

FreeBSD 13.3
	Kernel: 13.3-RELEASE-p1
	Compiler: clang 17.0.6

FreeBSD 14.1
	Kernel: 14.1
	Compiler: clang 18.1.5

To view detailed results, visit:
https://lab.dpdk.org/results/dashboard/patchsets/30420/

UNH-IOL DPDK Community Lab

To manage your email subscriptions, visit: 
https://lab.dpdk.org/results/dashboard/preferences/subscriptions/