From: dpdklab@iol.unh.edu
To: Test Report <test-report@dpdk.org>
Cc: dpdk-test-reports@iol.unh.edu, Jerin Jacob <jerinj@marvell.com>
Subject: |SUCCESS| [GIT MASTER] 55b2c404060c59fa769d5127a19b947e8de79cac
Date: Thu, 04 Jul 2024 19:51:58 -0700 (PDT) [thread overview]
Message-ID: <66875fce.050a0220.6990a.1b95SMTPIN_ADDED_MISSING@mx.google.com> (raw)
_Testing PASS_
Branch: dpdk-next-eventdev
55b2c404060c59fa769d5127a19b947e8de79cac --> testing pass
Test environment and result as below:
+---------------------+--------------------+----------------------+
| Environment | dpdk_meson_compile | dpdk_mingw64_compile |
+=====================+====================+======================+
| Windows Server 2022 | PASS | PASS |
+---------------------+--------------------+----------------------+
| Windows Server 2019 | PASS | PASS |
+---------------------+--------------------+----------------------+
| FreeBSD 14.1 | PASS | SKIPPED |
+---------------------+--------------------+----------------------+
| FreeBSD 13.3 | PASS | SKIPPED |
+---------------------+--------------------+----------------------+
Windows Server 2022
Kernel: 10.0.20348.2031
Compiler: clang 15.0.7, gcc 8.1.0 (MinGW), and MSVC VS 17.9
Windows Server 2019
Kernel: 10.0.17763
Compiler: clang 14.0 and gcc 8.1.0 (MinGW)
FreeBSD 14.1
Kernel: 14.1
Compiler: clang 18.1.5
FreeBSD 13.3
Kernel: 13.3-RELEASE-p1
Compiler: clang 17.0.6
To view detailed results, visit:
https://lab.dpdk.org/results/dashboard/tarballs/29728/
UNH-IOL DPDK Community Lab
To manage your email subscriptions, visit:
https://lab.dpdk.org/results/dashboard/preferences/subscriptions/
next reply other threads:[~2024-07-05 2:52 UTC|newest]
Thread overview: 22+ messages / expand[flat|nested] mbox.gz Atom feed top
2024-07-05 2:51 dpdklab [this message]
-- strict thread matches above, loose matches on Subject: below --
2024-07-08 18:13 dpdklab
2024-07-08 18:01 dpdklab
2024-07-06 14:28 dpdklab
2024-07-06 2:22 dpdklab
2024-07-06 1:37 dpdklab
2024-07-05 16:30 dpdklab
2024-07-05 14:11 dpdklab
2024-07-05 11:27 dpdklab
2024-07-05 11:06 dpdklab
2024-07-05 11:01 dpdklab
2024-07-05 10:56 dpdklab
2024-07-05 10:52 dpdklab
2024-07-05 2:57 dpdklab
2024-07-05 2:56 dpdklab
2024-07-05 2:22 dpdklab
2024-07-04 17:32 dpdklab
2024-07-04 17:29 dpdklab
2024-07-04 17:24 dpdklab
2024-07-04 17:14 dpdklab
2024-07-04 17:11 dpdklab
2024-07-04 17:07 dpdklab
Reply instructions:
You may reply publicly to this message via plain-text email
using any one of the following methods:
* Save the following mbox file, import it into your mail client,
and reply-to-all from there: mbox
Avoid top-posting and favor interleaved quoting:
https://en.wikipedia.org/wiki/Posting_style#Interleaved_style
* Reply using the --to, --cc, and --in-reply-to
switches of git-send-email(1):
git send-email \
--in-reply-to=66875fce.050a0220.6990a.1b95SMTPIN_ADDED_MISSING@mx.google.com \
--to=dpdklab@iol.unh.edu \
--cc=dpdk-test-reports@iol.unh.edu \
--cc=jerinj@marvell.com \
--cc=test-report@dpdk.org \
/path/to/YOUR_REPLY
https://kernel.org/pub/software/scm/git/docs/git-send-email.html
* If your mail client supports setting the In-Reply-To header
via mailto: links, try the mailto: link
Be sure your reply has a Subject: header at the top and a blank line
before the message body.
This is a public inbox, see mirroring instructions
for how to clone and mirror all data and code used for this inbox;
as well as URLs for NNTP newsgroup(s).