From mboxrd@z Thu Jan  1 00:00:00 1970
Return-Path: <test-report-bounces@dpdk.org>
Received: from mails.dpdk.org (mails.dpdk.org [217.70.189.124])
	by inbox.dpdk.org (Postfix) with ESMTP id 91FE645596
	for <public@inbox.dpdk.org>; Fri,  5 Jul 2024 12:03:36 +0200 (CEST)
Received: from mails.dpdk.org (localhost [127.0.0.1])
	by mails.dpdk.org (Postfix) with ESMTP id 8DA4B40FDE;
	Fri,  5 Jul 2024 12:03:36 +0200 (CEST)
Received: from mail-oa1-f100.google.com (mail-oa1-f100.google.com
 [209.85.160.100])
 by mails.dpdk.org (Postfix) with ESMTP id 092E6402BE
 for <test-report@dpdk.org>; Fri,  5 Jul 2024 12:03:35 +0200 (CEST)
Received: by mail-oa1-f100.google.com with SMTP id
 586e51a60fabf-25e0971ab06so687737fac.1
 for <test-report@dpdk.org>; Fri, 05 Jul 2024 03:03:34 -0700 (PDT)
DKIM-Signature: v=1; a=rsa-sha256; c=relaxed/relaxed;
 d=iol.unh.edu; s=unh-iol; t=1720173814; x=1720778614; darn=dpdk.org;
 h=references:in-reply-to:cc:to:from:subject:message-id:date:from:to
 :cc:subject:date:message-id:reply-to;
 bh=Zs7KIOPIBQNKBhX5PGrqhCmXw8Mi5/ffJyWaSFbEFgc=;
 b=ARSjYH+GkLGxNL9/6Wyt/sAprua7Urn4xgY8vq9pZNc/vwDbzWT4AtoqG4KjE69kOS
 z3TpaVU/afA+fRVK9eXu9YcPFlhrM+nmeJLjV7EyzCZ/oJIgfhk0LcWFAy4LH49/CW1u
 w0pUStXLndwpHvqG0dR+dKxLUKx//Bfn5geJM=
X-Google-DKIM-Signature: v=1; a=rsa-sha256; c=relaxed/relaxed;
 d=1e100.net; s=20230601; t=1720173814; x=1720778614;
 h=references:in-reply-to:cc:to:from:subject:message-id:date
 :x-gm-message-state:from:to:cc:subject:date:message-id:reply-to;
 bh=Zs7KIOPIBQNKBhX5PGrqhCmXw8Mi5/ffJyWaSFbEFgc=;
 b=cIU1kzFymTqdlaei7kTCk3yUaHExbfRbBX3teBGyp3pftq6glCvkQJmYaMgM3EFZf6
 daxAY8pC9Kb1UEhweG6c48hshFWCN6KRGXebbTAQhfqYgHNeFr9Q6x4wfnOok1i2eNTP
 FULhf7j4qUQsZCMK2QKeTV7ZU+AboO6FHdPcTfAkhHrPmkeI1ISOi96dTAVetrKVYo3M
 vZAq95jfmBLBn1q0QolPJVpR4p9nCpX1hpPLfROQxm8Tcw3rjifcT3wu1RGj0ww2oQI4
 o+lhLEWl+YVTtG2jnOvsI9lRc8cebqsqtXcsF4ujPGn/K750DUuuQf78wszk9hrAZis5
 YuYw==
X-Gm-Message-State: AOJu0YznsO1lsGarU/FT6p7+MPZRTIquezOWfuq5Nogv4cGWbNJhtJEa
 1oiwKgne6waze8r5CYx4bT2Y6dkW3ilLxDuSvYzix50ODRVNeZSz8ulJjTlcMFxa5lHllm8gb6y
 bOegwSgzoD5ImQS1gqPhZ93wbLNW6aU/Ompm0f5tJ
X-Google-Smtp-Source: AGHT+IF+CkvbQlTeqtuCMWuiml+eHPkaGddE53ELExD/TgotpejbHQqFjPYDug1y/UbRNcWyPOqyvPenKbAd
X-Received: by 2002:a05:6871:24d9:b0:254:6e47:f40e with SMTP id
 586e51a60fabf-25e2f424278mr1774763fac.10.1720173814144; 
 Fri, 05 Jul 2024 03:03:34 -0700 (PDT)
Received: from postal.iol.unh.edu (postal.iol.unh.edu. [132.177.123.84])
 by smtp-relay.gmail.com with ESMTPS id
 586e51a60fabf-25e4da07673sm17068fac.47.2024.07.05.03.03.34
 (version=TLS1_2 cipher=ECDHE-ECDSA-AES128-GCM-SHA256 bits=128/128);
 Fri, 05 Jul 2024 03:03:34 -0700 (PDT)
X-Relaying-Domain: iol.unh.edu
Date: Fri, 05 Jul 2024 03:03:34 -0700 (PDT)
Message-ID: <6687c4f6.050a0220.c0646.12e7SMTPIN_ADDED_MISSING@mx.google.com>
Received: from [172.17.0.4] (unknown [172.18.0.214])
 by postal.iol.unh.edu (Postfix) with ESMTP id 6244B60526E2;
 Fri,  5 Jul 2024 06:03:33 -0400 (EDT)
Subject: |PENDING| pw142118 [PATCH] net/hns3: support more VLAN fields matchi
From: dpdklab@iol.unh.edu
To: Test Report <test-report@dpdk.org>
Cc: dpdk-test-reports@iol.unh.edu
In-Reply-To: <20240704021538.836403-1-haijie1@huawei.com>
References: <20240704021538.836403-1-haijie1@huawei.com>
Content-Type: text/plain
X-BeenThere: test-report@dpdk.org
X-Mailman-Version: 2.1.29
Precedence: list
List-Id: automatic DPDK test reports <test-report.dpdk.org>
List-Unsubscribe: <https://mails.dpdk.org/options/test-report>,
 <mailto:test-report-request@dpdk.org?subject=unsubscribe>
List-Archive: <http://mails.dpdk.org/archives/test-report/>
List-Post: <mailto:test-report@dpdk.org>
List-Help: <mailto:test-report-request@dpdk.org?subject=help>
List-Subscribe: <https://mails.dpdk.org/listinfo/test-report>,
 <mailto:test-report-request@dpdk.org?subject=subscribe>
Errors-To: test-report-bounces@dpdk.org

Test-Label: iol-unit-amd64-testing
Test-Status: PENDING
http://dpdk.org/patch/142118

_Testing pending_

Submitter: Jie Hai <haijie1@huawei.com>
Date: Thursday, July 04 2024 02:15:38 
DPDK git baseline: Repo:dpdk
  Branch: master
  CommitID:fbba6db3640f9f623c29c452e1a6b057073e81d2

142118 --> testing pending

Test environment and result as below:

+-------------------+----------------+
|    Environment    | dpdk_unit_test |
+===================+================+
| CentOS Stream 8   | PASS           |
+-------------------+----------------+
| Debian Bullseye   | PASS           |
+-------------------+----------------+
| CentOS Stream 9   | PASS           |
+-------------------+----------------+
| Debian 12         | PASS           |
+-------------------+----------------+
| Fedora 37         | PEND           |
+-------------------+----------------+
| Fedora 38         | PASS           |
+-------------------+----------------+
| Fedora 39         | PASS           |
+-------------------+----------------+
| Fedora 38 (Clang) | PASS           |
+-------------------+----------------+
| Fedora 40 (Clang) | PEND           |
+-------------------+----------------+
| Fedora 40         | PASS           |
+-------------------+----------------+
| RHEL9             | PEND           |
+-------------------+----------------+
| openSUSE Leap 15  | PEND           |
+-------------------+----------------+
| RHEL8             | PEND           |
+-------------------+----------------+
| Ubuntu 22.04      | PEND           |
+-------------------+----------------+
| Ubuntu 20.04      | PEND           |
+-------------------+----------------+
| Ubuntu 24.04      | PEND           |
+-------------------+----------------+
| Fedora 39 (Clang) | PASS           |
+-------------------+----------------+


CentOS Stream 8
	Kernel: 5.4.0-167-generic
	Compiler: gcc 8.5.0 20210514

Debian Bullseye
	Kernel: 5.4.0-167-generic
	Compiler: gcc 10.2.1-6

CentOS Stream 9
	Kernel: 5.4.0-167-generic
	Compiler: gcc 11.4.1 20230605

Debian 12
	Kernel: Container Host Kernel
	Compiler: gcc 12.2.0

Fedora 37
	Kernel: Depends on container host system
	Compiler: gcc 12.3.1

Fedora 38
	Kernel: Depends on container host
	Compiler: gcc 13.2.1

Fedora 39
	Kernel: Depends on container host
	Compiler: gcc 13.2.1

Fedora 38 (Clang)
	Kernel: Depends on container host
	Compiler: clang 16.0.6

Fedora 40 (Clang)
	Kernel: Depends on container host
	Compiler: clang 18.1.6

Fedora 40
	Kernel: Depends on container host
	Compiler: gcc 14.1.1

RHEL9
	Kernel: Depends on container host
	Compiler: gcc 11.4.1

openSUSE Leap 15
	Kernel: 5.4.0-167-generic
	Compiler: gcc 7.5.0

RHEL8
	Kernel: 5.4.0-167-generic
	Compiler: gcc 8.5.0 20210514 (Red Hat 8.5.0-20)

Ubuntu 22.04
	Kernel: 5.4.0-167-generic
	Compiler: gcc 11.4.0

Ubuntu 20.04
	Kernel: 5.4.0-167-generic
	Compiler: gcc 9.4.0-1ubuntu1~20.04.1

Ubuntu 24.04
	Kernel: 5.4.0-167-generic
	Compiler: gcc 13.2.0

Fedora 39 (Clang)
	Kernel: Depends on container host
	Compiler: clang 17.0.6

To view detailed results, visit:
https://lab.dpdk.org/results/dashboard/patchsets/30414/

UNH-IOL DPDK Community Lab

To manage your email subscriptions, visit: 
https://lab.dpdk.org/results/dashboard/preferences/subscriptions/