From mboxrd@z Thu Jan  1 00:00:00 1970
Return-Path: <test-report-bounces@dpdk.org>
Received: from mails.dpdk.org (mails.dpdk.org [217.70.189.124])
	by inbox.dpdk.org (Postfix) with ESMTP id A74F145599
	for <public@inbox.dpdk.org>; Fri,  5 Jul 2024 14:02:09 +0200 (CEST)
Received: from mails.dpdk.org (localhost [127.0.0.1])
	by mails.dpdk.org (Postfix) with ESMTP id A2E1042EF4;
	Fri,  5 Jul 2024 14:02:09 +0200 (CEST)
Received: from mail-oo1-f99.google.com (mail-oo1-f99.google.com
 [209.85.161.99]) by mails.dpdk.org (Postfix) with ESMTP id 0E5AC402BE
 for <test-report@dpdk.org>; Fri,  5 Jul 2024 14:02:08 +0200 (CEST)
Received: by mail-oo1-f99.google.com with SMTP id
 006d021491bc7-5c46e01c9cdso751476eaf.2
 for <test-report@dpdk.org>; Fri, 05 Jul 2024 05:02:08 -0700 (PDT)
DKIM-Signature: v=1; a=rsa-sha256; c=relaxed/relaxed;
 d=iol.unh.edu; s=unh-iol; t=1720180927; x=1720785727; darn=dpdk.org;
 h=references:in-reply-to:cc:to:from:subject:message-id:date:from:to
 :cc:subject:date:message-id:reply-to;
 bh=i/tvTLbaboayX/6pDrVEalw23nlDHaqGMBdL9iLqPlY=;
 b=TTXkIRBMUsmpVk7otVfilpj5QTpE0EjzzLKzLmgZsGbEzBF2nbFan3XQQyZhg/W3zd
 dJlCYwaKbPZHK6BP4k+xsdfXkmsZ/5X0TzYqul15ZvUKI17zzu9SytUq9KA5uE0DarRM
 ubfI5Ju5X3R3PnCmFggWeleT61K+NF6Dz6L8g=
X-Google-DKIM-Signature: v=1; a=rsa-sha256; c=relaxed/relaxed;
 d=1e100.net; s=20230601; t=1720180927; x=1720785727;
 h=references:in-reply-to:cc:to:from:subject:message-id:date
 :x-gm-message-state:from:to:cc:subject:date:message-id:reply-to;
 bh=i/tvTLbaboayX/6pDrVEalw23nlDHaqGMBdL9iLqPlY=;
 b=kyJGw0UUQVHho15Ap1cgmUrRhLj4m0ESYBfJAawvnXQJp8dXhsUL+IPUfqrwZt1a4B
 EtZJfMukW68M+pq9zMlkhEkUAhzL5GfmrlT/yObqAElvyayb2IUv6kCyNMDb/J0+kzkB
 2kkGTCvHA3mWjnE5I7DeYsEhl9eLVmf4gaVU8263jsJ5mW0j2g9tYixYtk6U/EzQmuGJ
 egkm0ieTdR1GtfamQGLTFenEtBIYJKI+QXbx3uPsV2rhCeMZUfkm+367DS5jHpQx7WkE
 eK56+pCGT6wq3VgpsTr510d/EA3UYbRJYfKwZoz6iHHdVVd3dijIL6D0iQk9uGr0uB3K
 kXAg==
X-Gm-Message-State: AOJu0Yzd8prRGHIChPsV5LPNeYjpaU/Ft/OtbVg14A8vpR+6VIqekwRy
 LyCaZX/JyweHQL0UddaqjL7n6d/gBimpU+69/B3F1AJ7zt1zmvrf0IvUZys7+1A+96LU/lQHUlR
 8QskKHjujWn2tAOBaDxStuslYtu/JDXxQss61eTQl
X-Google-Smtp-Source: AGHT+IEFtUOCmkAGhSG+aZCMuwKjnrQSTEddopUx/2aWFRkzkgPjL0etiK4vA6HZXRD/reAOgNSYahqeINq1
X-Received: by 2002:a4a:55c9:0:b0:5c2:222f:7e33 with SMTP id
 006d021491bc7-5c646e1a0c2mr6148548eaf.3.1720180927221; 
 Fri, 05 Jul 2024 05:02:07 -0700 (PDT)
Received: from postal.iol.unh.edu (postal.iol.unh.edu. [132.177.123.84])
 by smtp-relay.gmail.com with ESMTPS id
 006d021491bc7-5c4149d05bcsm170665eaf.20.2024.07.05.05.02.07
 (version=TLS1_2 cipher=ECDHE-ECDSA-AES128-GCM-SHA256 bits=128/128);
 Fri, 05 Jul 2024 05:02:07 -0700 (PDT)
X-Relaying-Domain: iol.unh.edu
Date: Fri, 05 Jul 2024 05:02:07 -0700 (PDT)
Message-ID: <6687e0bf.4a0a0220.c42de.c116SMTPIN_ADDED_MISSING@mx.google.com>
Received: from [172.21.0.6] (unknown [172.18.0.240])
 by postal.iol.unh.edu (Postfix) with ESMTP id 93EF360526E2;
 Fri,  5 Jul 2024 08:02:06 -0400 (EDT)
Subject: |SUCCESS| pw142063-142073 [PATCH] [11/11] crypto/dpaa2_sec: fix issu
From: dpdklab@iol.unh.edu
To: Test Report <test-report@dpdk.org>
Cc: dpdk-test-reports@iol.unh.edu
In-Reply-To: <20240703102649.3096530-12-g.singh@nxp.com>
References: <20240703102649.3096530-12-g.singh@nxp.com>
Content-Type: text/plain
X-BeenThere: test-report@dpdk.org
X-Mailman-Version: 2.1.29
Precedence: list
List-Id: automatic DPDK test reports <test-report.dpdk.org>
List-Unsubscribe: <https://mails.dpdk.org/options/test-report>,
 <mailto:test-report-request@dpdk.org?subject=unsubscribe>
List-Archive: <http://mails.dpdk.org/archives/test-report/>
List-Post: <mailto:test-report@dpdk.org>
List-Help: <mailto:test-report-request@dpdk.org?subject=help>
List-Subscribe: <https://mails.dpdk.org/listinfo/test-report>,
 <mailto:test-report-request@dpdk.org?subject=subscribe>
Errors-To: test-report-bounces@dpdk.org

Test-Label: iol-compile-arm64-testing
Test-Status: SUCCESS
http://dpdk.org/patch/142073

_Testing PASS_

Submitter: Gagandeep Singh <g.singh@nxp.com>
Date: Wednesday, July 03 2024 10:26:49 
DPDK git baseline: Repo:dpdk
  Branch: master
  CommitID:95bea772528d316c969a170e6206f3b05ac39413

142063-142073 --> testing pass

Test environment and result as below:

+----------------------------------------+--------------------+
|              Environment               | dpdk_meson_compile |
+========================================+====================+
| RHEL9 (ARM)                            | PASS               |
+----------------------------------------+--------------------+
| Ubuntu 20.04 ARM GCC Cross Compile     | PASS               |
+----------------------------------------+--------------------+
| Ubuntu 20.04 ARM SVE                   | PASS               |
+----------------------------------------+--------------------+
| Debian 12 with MUSDK                   | PASS               |
+----------------------------------------+--------------------+
| Fedora 37 (ARM)                        | PASS               |
+----------------------------------------+--------------------+
| Fedora 38 (ARM)                        | PASS               |
+----------------------------------------+--------------------+
| Fedora 38 (ARM Clang)                  | PASS               |
+----------------------------------------+--------------------+
| Fedora 39 (ARM)                        | PASS               |
+----------------------------------------+--------------------+
| Fedora 39 (ARM Clang)                  | PASS               |
+----------------------------------------+--------------------+
| Fedora 40 (ARM)                        | PASS               |
+----------------------------------------+--------------------+
| Fedora 40 (ARM Clang)                  | PASS               |
+----------------------------------------+--------------------+
| Ubuntu 20.04 (ARM)                     | PASS               |
+----------------------------------------+--------------------+
| Ubuntu 22.04 (ARM)                     | PASS               |
+----------------------------------------+--------------------+
| Ubuntu 24.04 (ARM)                     | PASS               |
+----------------------------------------+--------------------+
| CentOS Stream 9 (ARM)                  | PASS               |
+----------------------------------------+--------------------+
| Debian 11 (Buster) (ARM)               | PASS               |
+----------------------------------------+--------------------+
| Debian 12 (arm)                        | PASS               |
+----------------------------------------+--------------------+
| Ubuntu 20.04 ARM Clang Cross Compile   | PASS               |
+----------------------------------------+--------------------+
| Ubuntu 20.04 aarch32 GCC Cross Compile | PASS               |
+----------------------------------------+--------------------+


RHEL9 (ARM)
	Kernel: Depends on container host
	Compiler: gcc 11.4.1

Ubuntu 20.04 ARM GCC Cross Compile
	Kernel: 5.4.0-167-generic
	Compiler: aarch64-linux-gnu-gcc (Ubuntu 9.4.0-1ubuntu1~20.04.2) 9.4.0

Ubuntu 20.04 ARM SVE
	Kernel: 5.4.0-167-generic
	Compiler: gcc (Ubuntu 10.5.0-1ubuntu1~20.04) 10.5.0

Debian 12 with MUSDK
	Kernel: Container Host Kernel
	Compiler: gcc 12.2.0

Fedora 37 (ARM)
	Kernel: Depends on container host
	Compiler: gcc 12.3.1

Fedora 38 (ARM)
	Kernel: Depends on container host
	Compiler: gcc 13.2.1

Fedora 38 (ARM Clang)
	Kernel: Depends on container host
	Compiler: clang 16.0.6

Fedora 39 (ARM)
	Kernel: Depends on container host
	Compiler: gcc 13.2.1

Fedora 39 (ARM Clang)
	Kernel: Depends on container host
	Compiler: clang 17.0.6

Fedora 40 (ARM)
	Kernel: Depends on container host
	Compiler: gcc 14.1.1

Fedora 40 (ARM Clang)
	Kernel: Depends on container host
	Compiler: clang 18.1.6

Ubuntu 20.04 (ARM)
	Kernel: Container Host Kernel
	Compiler: gcc 9.4.0

Ubuntu 22.04 (ARM)
	Kernel: Container Host Kernel
	Compiler: gcc 11.4.0

Ubuntu 24.04 (ARM)
	Kernel: 5.4.0-167-generic
	Compiler: gcc 13.2.0

CentOS Stream 9 (ARM)
	Kernel: Container Host Kernel
	Compiler: gcc 11.4.1

Debian 11 (Buster) (ARM)
	Kernel: Container Host Kernel
	Compiler: gcc 10.2.1

Debian 12 (arm)
	Kernel: Container Host Kernel
	Compiler: gcc 12.2.0

Ubuntu 20.04 ARM Clang Cross Compile
	Kernel: 5.4.0-72-generic
	Compiler: clang 10.0.0-4ubuntu1

Ubuntu 20.04 aarch32 GCC Cross Compile
	Kernel: 5.4.0-167-generic
	Compiler: gcc 9.4.0

To view detailed results, visit:
https://lab.dpdk.org/results/dashboard/patchsets/30398/

UNH-IOL DPDK Community Lab

To manage your email subscriptions, visit: 
https://lab.dpdk.org/results/dashboard/preferences/subscriptions/