From mboxrd@z Thu Jan  1 00:00:00 1970
Return-Path: <test-report-bounces@dpdk.org>
Received: from mails.dpdk.org (mails.dpdk.org [217.70.189.124])
	by inbox.dpdk.org (Postfix) with ESMTP id 2D0C24559E
	for <public@inbox.dpdk.org>; Sat,  6 Jul 2024 01:04:48 +0200 (CEST)
Received: from mails.dpdk.org (localhost [127.0.0.1])
	by mails.dpdk.org (Postfix) with ESMTP id 2575043346;
	Sat,  6 Jul 2024 01:04:48 +0200 (CEST)
Received: from mail-oa1-f99.google.com (mail-oa1-f99.google.com
 [209.85.160.99]) by mails.dpdk.org (Postfix) with ESMTP id EB94C40268
 for <test-report@dpdk.org>; Sat,  6 Jul 2024 01:04:46 +0200 (CEST)
Received: by mail-oa1-f99.google.com with SMTP id
 586e51a60fabf-25e3bc751daso828584fac.3
 for <test-report@dpdk.org>; Fri, 05 Jul 2024 16:04:46 -0700 (PDT)
DKIM-Signature: v=1; a=rsa-sha256; c=relaxed/relaxed;
 d=iol.unh.edu; s=unh-iol; t=1720220686; x=1720825486; darn=dpdk.org;
 h=references:in-reply-to:cc:to:from:subject:message-id:date:from:to
 :cc:subject:date:message-id:reply-to;
 bh=PvHL9XCKIberHgLe48Ep2lYzr1ymJedez8dPEX0wNzc=;
 b=QL8elu0ku0/wWm6pwZ2dR4MUZS2clI+lM6xXsqZVzStv3ePYXVkpsEt7bzOmB+Dp+O
 63WP8Tul4HyaRwHicOvubZ9EFssG6xgU0m55TG7bUkZP2P4U7qHPLyJsW+gDKNsuVbfe
 4AAF033qizB9bdr0QLi1m2YybsXx8OfdybG+g=
X-Google-DKIM-Signature: v=1; a=rsa-sha256; c=relaxed/relaxed;
 d=1e100.net; s=20230601; t=1720220686; x=1720825486;
 h=references:in-reply-to:cc:to:from:subject:message-id:date
 :x-gm-message-state:from:to:cc:subject:date:message-id:reply-to;
 bh=PvHL9XCKIberHgLe48Ep2lYzr1ymJedez8dPEX0wNzc=;
 b=LHy/eo1rgEEIr6kD1gWT5ahQmbj5ssQX/DmyOoLzi5d1Lqgo2yMlspzf5mu6YXPd6b
 byefThNOY4SnkrwbqMwOdtcNpITJfxxwQUOZpy5ruovaqqtyRzwAFBKHkoMO3NnXYSCz
 KyIZ3empGFjRmczHJ15D/00Ghtr2FRnSFFRtwxzgJwWlmpmJVicdjAHS3wz23Z9fkxdG
 fTlbjnpeH33bR1moTy18WiR+5WBJFZAcPyPToVrFsQ+T7H1q82MVbufRi0Ymb821Rc4j
 19kZ4m2jMkl01RBP8HvvrN6PV1aAQdquep+5o4y9JxbMtWZlBZ9UfoveriWxEK5RyFUk
 JjkQ==
X-Gm-Message-State: AOJu0Ywxs4+/QG18v8P4u6tgXL9H+8sKXs3nxF1XCFZcKtvpcdfPC4VX
 PJMPofeaj+9Adhbde3nLGH6mTzhGyfWulxK0Wjc23BfRtPDrwrUEEFS+iqE6UJtk4QnfO9+5IbR
 dnTlkzY/tc5yXYE6rcciUYJx8Axnv4DCMa/MhIBNv0Kp1FuNX0OUQH6Np
X-Google-Smtp-Source: AGHT+IHIZFU7rSmokqeEcCwjNzjKpzV0ut0i+A2jrqJKqfv7T2rcwnhaotEoTr2po2Qi/SwwAmxaLXyGOXlz
X-Received: by 2002:a05:6870:9690:b0:25e:56b:484f with SMTP id
 586e51a60fabf-25e2ba183c2mr4730832fac.16.1720220686045; 
 Fri, 05 Jul 2024 16:04:46 -0700 (PDT)
Received: from postal.iol.unh.edu (postal.iol.unh.edu.
 [2606:4100:3880:1234::84]) by smtp-relay.gmail.com with ESMTPS id
 586e51a60fabf-25e4a633f90sm64516fac.15.2024.07.05.16.04.45
 (version=TLS1_2 cipher=ECDHE-ECDSA-AES128-GCM-SHA256 bits=128/128);
 Fri, 05 Jul 2024 16:04:46 -0700 (PDT)
X-Relaying-Domain: iol.unh.edu
Date: Fri, 05 Jul 2024 16:04:46 -0700 (PDT)
Message-ID: <66887c0e.050a0220.30077.4292SMTPIN_ADDED_MISSING@mx.google.com>
Received: from [172.21.0.7] (unknown [172.18.0.240])
 by postal.iol.unh.edu (Postfix) with ESMTP id 82131605C352;
 Fri,  5 Jul 2024 19:04:45 -0400 (EDT)
Subject: |PENDING| pw142164-142169 [PATCH] [v2,6/6] doc: dpdk documentation c
From: dpdklab@iol.unh.edu
To: Test Report <test-report@dpdk.org>
Cc: dpdk-test-reports@iol.unh.edu
In-Reply-To: <20240705183325.32381-1-npratte@iol.unh.edu>
References: <20240705183325.32381-1-npratte@iol.unh.edu>
Content-Type: text/plain
X-BeenThere: test-report@dpdk.org
X-Mailman-Version: 2.1.29
Precedence: list
List-Id: automatic DPDK test reports <test-report.dpdk.org>
List-Unsubscribe: <https://mails.dpdk.org/options/test-report>,
 <mailto:test-report-request@dpdk.org?subject=unsubscribe>
List-Archive: <http://mails.dpdk.org/archives/test-report/>
List-Post: <mailto:test-report@dpdk.org>
List-Help: <mailto:test-report-request@dpdk.org?subject=help>
List-Subscribe: <https://mails.dpdk.org/listinfo/test-report>,
 <mailto:test-report-request@dpdk.org?subject=subscribe>
Errors-To: test-report-bounces@dpdk.org

Test-Label: iol-abi-testing
Test-Status: PENDING
http://dpdk.org/patch/142169

_Testing pending_

Submitter: Nicholas Pratte <npratte@iol.unh.edu>
Date: Friday, July 05 2024 18:33:24 
DPDK git baseline: Repo:dpdk
  Branch: master
  CommitID:fcfb19cda4f6439f260cdeabb6c44d3c6f0d5fc4

142164-142169 --> testing pending

Test environment and result as below:

+-------------------+----------+
|    Environment    | abi_test |
+===================+==========+
| CentOS Stream 8   | PASS     |
+-------------------+----------+
| CentOS Stream 9   | PEND     |
+-------------------+----------+
| Debian Bullseye   | PASS     |
+-------------------+----------+
| Debian 12         | PEND     |
+-------------------+----------+
| Fedora 37         | PEND     |
+-------------------+----------+
| Fedora 38 (Clang) | PEND     |
+-------------------+----------+
| Fedora 38         | PEND     |
+-------------------+----------+
| Fedora 39 (Clang) | PEND     |
+-------------------+----------+
| Fedora 39         | PASS     |
+-------------------+----------+
| Fedora 40 (Clang) | PEND     |
+-------------------+----------+
| Fedora 40         | PEND     |
+-------------------+----------+
| openSUSE Leap 15  | PEND     |
+-------------------+----------+
| RHEL8             | PEND     |
+-------------------+----------+
| RHEL9             | PEND     |
+-------------------+----------+
| Ubuntu 22.04      | PEND     |
+-------------------+----------+
| Ubuntu 24.04      | PEND     |
+-------------------+----------+


CentOS Stream 8
	Kernel: 5.4.0-167-generic
	Compiler: gcc 8.5.0 20210514

CentOS Stream 9
	Kernel: 5.4.0-167-generic
	Compiler: gcc 11.4.1 20230605

Debian Bullseye
	Kernel: 5.4.0-167-generic
	Compiler: gcc 10.2.1-6

Debian 12
	Kernel: Container Host Kernel
	Compiler: gcc 12.2.0

Fedora 37
	Kernel: Depends on container host system
	Compiler: gcc 12.3.1

Fedora 38 (Clang)
	Kernel: Depends on container host
	Compiler: clang 16.0.6

Fedora 38
	Kernel: Depends on container host
	Compiler: gcc 13.2.1

Fedora 39 (Clang)
	Kernel: Depends on container host
	Compiler: clang 17.0.6

Fedora 39
	Kernel: Depends on container host
	Compiler: gcc 13.2.1

Fedora 40 (Clang)
	Kernel: Depends on container host
	Compiler: clang 18.1.6

Fedora 40
	Kernel: Depends on container host
	Compiler: gcc 14.1.1

openSUSE Leap 15
	Kernel: 5.4.0-167-generic
	Compiler: gcc 7.5.0

RHEL8
	Kernel: 5.4.0-167-generic
	Compiler: gcc 8.5.0 20210514 (Red Hat 8.5.0-20)

RHEL9
	Kernel: Depends on container host
	Compiler: gcc 11.4.1

Ubuntu 22.04
	Kernel: 5.4.0-167-generic
	Compiler: gcc 11.4.0

Ubuntu 24.04
	Kernel: 5.4.0-167-generic
	Compiler: gcc 13.2.0

To view detailed results, visit:
https://lab.dpdk.org/results/dashboard/patchsets/30434/

UNH-IOL DPDK Community Lab

To manage your email subscriptions, visit: 
https://lab.dpdk.org/results/dashboard/preferences/subscriptions/