From mboxrd@z Thu Jan  1 00:00:00 1970
Return-Path: <test-report-bounces@dpdk.org>
Received: from mails.dpdk.org (mails.dpdk.org [217.70.189.124])
	by inbox.dpdk.org (Postfix) with ESMTP id 7F35F45597
	for <public@inbox.dpdk.org>; Sat,  6 Jul 2024 03:05:06 +0200 (CEST)
Received: from mails.dpdk.org (localhost [127.0.0.1])
	by mails.dpdk.org (Postfix) with ESMTP id 77B9C40270;
	Sat,  6 Jul 2024 03:05:06 +0200 (CEST)
Received: from mail-pf1-f226.google.com (mail-pf1-f226.google.com
 [209.85.210.226])
 by mails.dpdk.org (Postfix) with ESMTP id 45F4740268
 for <test-report@dpdk.org>; Sat,  6 Jul 2024 03:05:05 +0200 (CEST)
Received: by mail-pf1-f226.google.com with SMTP id
 d2e1a72fcca58-701b0b0be38so1669314b3a.0
 for <test-report@dpdk.org>; Fri, 05 Jul 2024 18:05:05 -0700 (PDT)
DKIM-Signature: v=1; a=rsa-sha256; c=relaxed/relaxed;
 d=iol.unh.edu; s=unh-iol; t=1720227904; x=1720832704; darn=dpdk.org;
 h=references:in-reply-to:cc:to:from:subject:message-id:date:from:to
 :cc:subject:date:message-id:reply-to;
 bh=evyObHt9cgaplGfsaFddrDACdOPEiFadUmSJc/TM1M8=;
 b=HX2TiKo/OkNY1ecqmjTF3b28aEjD6jhh1dZw8BBfryAtu92LjzXDEiHaKF9VTkPicI
 n0QfirI+Ho4s5A17hIhfQTcKRFLqEhB1G3KnfjdxP0fPcsyml3qcxEjglp3igoocrxG5
 qoOTt6fNCRVFBkTgET9ISLkH4iXVkMnBkLFcM=
X-Google-DKIM-Signature: v=1; a=rsa-sha256; c=relaxed/relaxed;
 d=1e100.net; s=20230601; t=1720227904; x=1720832704;
 h=references:in-reply-to:cc:to:from:subject:message-id:date
 :x-gm-message-state:from:to:cc:subject:date:message-id:reply-to;
 bh=evyObHt9cgaplGfsaFddrDACdOPEiFadUmSJc/TM1M8=;
 b=tOBpwIY6ZoJn3oH+RmCo35SBZDBmOhd9BATUvS2K1e6xEVWl2hO8d5EW4brLGSTeFp
 0XZYPk1Q/bonWpX1Uv5oOQ6gURX3bjE2jUby6qIUuwkhS2OCTweC+TSH/lenmeffTZmo
 TmS7JTF0/hx5rOAfa9HdymyVm7EBEVlVTccMXXBRoUwi3+7Gbi0F80QVZr2qL1SCQMoa
 d39oM4vtyPnrXwQtiACngcfUpEAbzNO5+7NJ5La8XklN9FGuTo9ejXe/gfMEGdh4+yTg
 4jj5ewyk1vaG7h8X/6OskyyXCgS7ORAZI3z/NNjejmPaENKJTWYN0tU+mS5fXi9pawRF
 P3KQ==
X-Gm-Message-State: AOJu0YxBmIrTbYjkGfr68ENkiE07W8WhU/njA/+MWtIvU6d7vdZZbx8v
 2md5A4sNooifvqKpTboM7MgY8Zo/YhxIyWnAXeVXZy/VEW7AJNzC3LBjGxYoeYXdnKm6K/N9jM3
 3jK+7tAKmKF0eNXHlyWslUZIYKbl5uOoc5D+8q9iW0NwTWpkbVE0+H1ly
X-Google-Smtp-Source: AGHT+IGE7VgTOlHNOUQGFTtI92usMTzjsyuIJX+wC206cjGPg/20mkT4SZH5r8bzxLMqBhXfrgf05knCnuu5
X-Received: by 2002:a05:6a20:6a1d:b0:1c0:e53f:62d8 with SMTP id
 adf61e73a8af0-1c0e53f6591mr952736637.18.1720227904295; 
 Fri, 05 Jul 2024 18:05:04 -0700 (PDT)
Received: from postal.iol.unh.edu (postal.iol.unh.edu.
 [2606:4100:3880:1234::84]) by smtp-relay.gmail.com with ESMTPS id
 98e67ed59e1d1-2c99aa8cd30sm172758a91.17.2024.07.05.18.05.04
 (version=TLS1_2 cipher=ECDHE-ECDSA-AES128-GCM-SHA256 bits=128/128);
 Fri, 05 Jul 2024 18:05:04 -0700 (PDT)
X-Relaying-Domain: iol.unh.edu
Date: Fri, 05 Jul 2024 18:05:04 -0700 (PDT)
Message-ID: <66889840.170a0220.59b58.bb4fSMTPIN_ADDED_MISSING@mx.google.com>
Received: from [172.21.0.6] (unknown [172.18.0.240])
 by postal.iol.unh.edu (Postfix) with ESMTP id 7A1C9605C351;
 Fri,  5 Jul 2024 21:05:03 -0400 (EDT)
Subject: |PENDING| pw142146-142147 [PATCH] [v4,2/2] net/cpfl: fix +ve error c
From: dpdklab@iol.unh.edu
To: Test Report <test-report@dpdk.org>
Cc: dpdk-test-reports@iol.unh.edu
In-Reply-To: <20240705130515.3090598-3-soumyadeep.hore@intel.com>
References: <20240705130515.3090598-3-soumyadeep.hore@intel.com>
Content-Type: text/plain
X-BeenThere: test-report@dpdk.org
X-Mailman-Version: 2.1.29
Precedence: list
List-Id: automatic DPDK test reports <test-report.dpdk.org>
List-Unsubscribe: <https://mails.dpdk.org/options/test-report>,
 <mailto:test-report-request@dpdk.org?subject=unsubscribe>
List-Archive: <http://mails.dpdk.org/archives/test-report/>
List-Post: <mailto:test-report@dpdk.org>
List-Help: <mailto:test-report-request@dpdk.org?subject=help>
List-Subscribe: <https://mails.dpdk.org/listinfo/test-report>,
 <mailto:test-report-request@dpdk.org?subject=subscribe>
Errors-To: test-report-bounces@dpdk.org

Test-Label: iol-abi-testing
Test-Status: PENDING
http://dpdk.org/patch/142147

_Testing pending_

Submitter: Soumyadeep Hore <soumyadeep.hore@intel.com>
Date: Friday, July 05 2024 13:05:15 
DPDK git baseline: Repo:dpdk
  Branch: master
  CommitID:fcfb19cda4f6439f260cdeabb6c44d3c6f0d5fc4

142146-142147 --> testing pending

Test environment and result as below:

+-------------------+----------+
|    Environment    | abi_test |
+===================+==========+
| CentOS Stream 8   | PASS     |
+-------------------+----------+
| CentOS Stream 9   | PASS     |
+-------------------+----------+
| Debian Bullseye   | PASS     |
+-------------------+----------+
| Fedora 37         | PASS     |
+-------------------+----------+
| Debian 12         | PASS     |
+-------------------+----------+
| Fedora 38 (Clang) | PASS     |
+-------------------+----------+
| Fedora 39 (Clang) | PASS     |
+-------------------+----------+
| Fedora 39         | PEND     |
+-------------------+----------+
| Fedora 40 (Clang) | PASS     |
+-------------------+----------+
| Fedora 40         | PASS     |
+-------------------+----------+
| openSUSE Leap 15  | PASS     |
+-------------------+----------+
| RHEL8             | PEND     |
+-------------------+----------+
| RHEL9             | PASS     |
+-------------------+----------+
| Ubuntu 22.04      | PEND     |
+-------------------+----------+
| Ubuntu 24.04      | PEND     |
+-------------------+----------+


CentOS Stream 8
	Kernel: 5.4.0-167-generic
	Compiler: gcc 8.5.0 20210514

CentOS Stream 9
	Kernel: 5.4.0-167-generic
	Compiler: gcc 11.4.1 20230605

Debian Bullseye
	Kernel: 5.4.0-167-generic
	Compiler: gcc 10.2.1-6

Fedora 37
	Kernel: Depends on container host system
	Compiler: gcc 12.3.1

Debian 12
	Kernel: Container Host Kernel
	Compiler: gcc 12.2.0

Fedora 38 (Clang)
	Kernel: Depends on container host
	Compiler: clang 16.0.6

Fedora 39 (Clang)
	Kernel: Depends on container host
	Compiler: clang 17.0.6

Fedora 39
	Kernel: Depends on container host
	Compiler: gcc 13.2.1

Fedora 40 (Clang)
	Kernel: Depends on container host
	Compiler: clang 18.1.6

Fedora 40
	Kernel: Depends on container host
	Compiler: gcc 14.1.1

openSUSE Leap 15
	Kernel: 5.4.0-167-generic
	Compiler: gcc 7.5.0

RHEL8
	Kernel: 5.4.0-167-generic
	Compiler: gcc 8.5.0 20210514 (Red Hat 8.5.0-20)

RHEL9
	Kernel: Depends on container host
	Compiler: gcc 11.4.1

Ubuntu 22.04
	Kernel: 5.4.0-167-generic
	Compiler: gcc 11.4.0

Ubuntu 24.04
	Kernel: 5.4.0-167-generic
	Compiler: gcc 13.2.0

To view detailed results, visit:
https://lab.dpdk.org/results/dashboard/patchsets/30431/

UNH-IOL DPDK Community Lab

To manage your email subscriptions, visit: 
https://lab.dpdk.org/results/dashboard/preferences/subscriptions/