From mboxrd@z Thu Jan  1 00:00:00 1970
Return-Path: <test-report-bounces@dpdk.org>
Received: from mails.dpdk.org (mails.dpdk.org [217.70.189.124])
	by inbox.dpdk.org (Postfix) with ESMTP id 25DAA45597
	for <public@inbox.dpdk.org>; Sat,  6 Jul 2024 03:24:12 +0200 (CEST)
Received: from mails.dpdk.org (localhost [127.0.0.1])
	by mails.dpdk.org (Postfix) with ESMTP id 22A1B40270;
	Sat,  6 Jul 2024 03:24:12 +0200 (CEST)
Received: from mail-pl1-f227.google.com (mail-pl1-f227.google.com
 [209.85.214.227])
 by mails.dpdk.org (Postfix) with ESMTP id 1132140268
 for <test-report@dpdk.org>; Sat,  6 Jul 2024 03:24:09 +0200 (CEST)
Received: by mail-pl1-f227.google.com with SMTP id
 d9443c01a7336-1fb3cf78fcaso12388845ad.1
 for <test-report@dpdk.org>; Fri, 05 Jul 2024 18:24:09 -0700 (PDT)
DKIM-Signature: v=1; a=rsa-sha256; c=relaxed/relaxed;
 d=iol.unh.edu; s=unh-iol; t=1720229048; x=1720833848; darn=dpdk.org;
 h=references:in-reply-to:cc:to:from:subject:message-id:date:from:to
 :cc:subject:date:message-id:reply-to;
 bh=T/j8L9htcazzUnA1Gj6o4Sq8OYBW/or1bPJAAZFKr3o=;
 b=gCmiutYlX6CMnMeY9z6NL/BvIkLh/5bkfNPCWs1BXDyG7L3qWUHVUGoWyKBmbRrcry
 TMtzP65g4pJiBZTdL+JyDIGDDJzp8e70ibCt32GaNZ9yam5DHP9VGQnl2cuxqZ2+HqB4
 wA0CvxFslR+dz4nh8uy3MsgVlpf2fM5UhYpdM=
X-Google-DKIM-Signature: v=1; a=rsa-sha256; c=relaxed/relaxed;
 d=1e100.net; s=20230601; t=1720229048; x=1720833848;
 h=references:in-reply-to:cc:to:from:subject:message-id:date
 :x-gm-message-state:from:to:cc:subject:date:message-id:reply-to;
 bh=T/j8L9htcazzUnA1Gj6o4Sq8OYBW/or1bPJAAZFKr3o=;
 b=pB8WGqPFUU9c1OaT8oLfs5tocakTAWshsqUaGM2IBPn0ia2hleAx2wLq3GTeuajhoa
 OI1gpbWNAu+H25tEVmO4Kb+KQwE4i5C8nQ5Eh/LaN1FYYrGKzYam5ET6raYb/1OROek4
 tcNHs6Onk1J3U0yqrM4sS4GUEdoXuGPB9k6Wr7KbHBHFgXYCnX7vVk/m1XlogIEIl3Gp
 xAPcYtJgCLnvKsUS3YDqrLPdFpsrW9JItP08txQ/0qGC7lQ1uQLJ9TbS+70ZaWMf7qbc
 BCynVegKcxgVtcbf50K8t/Leum9cliUesxJ3hReQbwO1rkUtrXIAPzTGntjqQQv801NF
 US5A==
X-Gm-Message-State: AOJu0YzNYUeDLDoQE5A32nnLD1N8p4HvFTrWoRZObB+LOjIVPKM0xqhs
 Q9vHg+RrG2ojg+SEDkuDQrg1BwJqcx668KFY61hBHfNwdot8SdmmCOHRokhabt+pOLwodOsVs+p
 XVTCknW6kfe5ELhayB5KaIq7Fej2wWRtzVnGiiZpX
X-Google-Smtp-Source: AGHT+IGQ2ZgvBBB81goBWOuTzKQyC7OzMYz9mgszJ35jAn0midhTfj/dKcZH2g1A6HIxcDbOqHesmoAt5gFg
X-Received: by 2002:a17:902:d2d1:b0:1f9:d6cc:e504 with SMTP id
 d9443c01a7336-1fb33e1890fmr65669975ad.24.1720229048149; 
 Fri, 05 Jul 2024 18:24:08 -0700 (PDT)
Received: from postal.iol.unh.edu (postal.iol.unh.edu. [132.177.123.84])
 by smtp-relay.gmail.com with ESMTPS id
 d9443c01a7336-1fac10e3727sm5052625ad.24.2024.07.05.18.24.08
 (version=TLS1_2 cipher=ECDHE-ECDSA-AES128-GCM-SHA256 bits=128/128);
 Fri, 05 Jul 2024 18:24:08 -0700 (PDT)
X-Relaying-Domain: iol.unh.edu
Date: Fri, 05 Jul 2024 18:24:08 -0700 (PDT)
Message-ID: <66889cb8.170a0220.ba30.49c0SMTPIN_ADDED_MISSING@mx.google.com>
Received: from [172.21.0.6] (unknown [172.18.0.240])
 by postal.iol.unh.edu (Postfix) with ESMTP id 30785605C351;
 Fri,  5 Jul 2024 21:24:07 -0400 (EDT)
Subject: |SUCCESS| pw142146-142147 [PATCH] [v4,2/2] net/cpfl: fix +ve error c
From: dpdklab@iol.unh.edu
To: Test Report <test-report@dpdk.org>
Cc: dpdk-test-reports@iol.unh.edu
In-Reply-To: <20240705130515.3090598-3-soumyadeep.hore@intel.com>
References: <20240705130515.3090598-3-soumyadeep.hore@intel.com>
Content-Type: text/plain
X-BeenThere: test-report@dpdk.org
X-Mailman-Version: 2.1.29
Precedence: list
List-Id: automatic DPDK test reports <test-report.dpdk.org>
List-Unsubscribe: <https://mails.dpdk.org/options/test-report>,
 <mailto:test-report-request@dpdk.org?subject=unsubscribe>
List-Archive: <http://mails.dpdk.org/archives/test-report/>
List-Post: <mailto:test-report@dpdk.org>
List-Help: <mailto:test-report-request@dpdk.org?subject=help>
List-Subscribe: <https://mails.dpdk.org/listinfo/test-report>,
 <mailto:test-report-request@dpdk.org?subject=subscribe>
Errors-To: test-report-bounces@dpdk.org

Test-Label: iol-abi-testing
Test-Status: SUCCESS
http://dpdk.org/patch/142147

_Testing PASS_

Submitter: Soumyadeep Hore <soumyadeep.hore@intel.com>
Date: Friday, July 05 2024 13:05:15 
DPDK git baseline: Repo:dpdk
  Branch: master
  CommitID:fcfb19cda4f6439f260cdeabb6c44d3c6f0d5fc4

142146-142147 --> testing pass

Test environment and result as below:

+-------------------+----------+
|    Environment    | abi_test |
+===================+==========+
| CentOS Stream 8   | PASS     |
+-------------------+----------+
| CentOS Stream 9   | PASS     |
+-------------------+----------+
| Debian Bullseye   | PASS     |
+-------------------+----------+
| Fedora 37         | PASS     |
+-------------------+----------+
| Debian 12         | PASS     |
+-------------------+----------+
| Fedora 38 (Clang) | PASS     |
+-------------------+----------+
| Fedora 39 (Clang) | PASS     |
+-------------------+----------+
| Fedora 39         | PASS     |
+-------------------+----------+
| Fedora 40 (Clang) | PASS     |
+-------------------+----------+
| Fedora 40         | PASS     |
+-------------------+----------+
| openSUSE Leap 15  | PASS     |
+-------------------+----------+
| RHEL8             | PASS     |
+-------------------+----------+
| RHEL9             | PASS     |
+-------------------+----------+
| Ubuntu 22.04      | PASS     |
+-------------------+----------+
| Ubuntu 24.04      | PASS     |
+-------------------+----------+


CentOS Stream 8
	Kernel: 5.4.0-167-generic
	Compiler: gcc 8.5.0 20210514

CentOS Stream 9
	Kernel: 5.4.0-167-generic
	Compiler: gcc 11.4.1 20230605

Debian Bullseye
	Kernel: 5.4.0-167-generic
	Compiler: gcc 10.2.1-6

Fedora 37
	Kernel: Depends on container host system
	Compiler: gcc 12.3.1

Debian 12
	Kernel: Container Host Kernel
	Compiler: gcc 12.2.0

Fedora 38 (Clang)
	Kernel: Depends on container host
	Compiler: clang 16.0.6

Fedora 39 (Clang)
	Kernel: Depends on container host
	Compiler: clang 17.0.6

Fedora 39
	Kernel: Depends on container host
	Compiler: gcc 13.2.1

Fedora 40 (Clang)
	Kernel: Depends on container host
	Compiler: clang 18.1.6

Fedora 40
	Kernel: Depends on container host
	Compiler: gcc 14.1.1

openSUSE Leap 15
	Kernel: 5.4.0-167-generic
	Compiler: gcc 7.5.0

RHEL8
	Kernel: 5.4.0-167-generic
	Compiler: gcc 8.5.0 20210514 (Red Hat 8.5.0-20)

RHEL9
	Kernel: Depends on container host
	Compiler: gcc 11.4.1

Ubuntu 22.04
	Kernel: 5.4.0-167-generic
	Compiler: gcc 11.4.0

Ubuntu 24.04
	Kernel: 5.4.0-167-generic
	Compiler: gcc 13.2.0

To view detailed results, visit:
https://lab.dpdk.org/results/dashboard/patchsets/30431/

UNH-IOL DPDK Community Lab

To manage your email subscriptions, visit: 
https://lab.dpdk.org/results/dashboard/preferences/subscriptions/