From mboxrd@z Thu Jan  1 00:00:00 1970
Return-Path: <test-report-bounces@dpdk.org>
Received: from mails.dpdk.org (mails.dpdk.org [217.70.189.124])
	by inbox.dpdk.org (Postfix) with ESMTP id 49AE74559E
	for <public@inbox.dpdk.org>; Sat,  6 Jul 2024 04:21:30 +0200 (CEST)
Received: from mails.dpdk.org (localhost [127.0.0.1])
	by mails.dpdk.org (Postfix) with ESMTP id 4717140270;
	Sat,  6 Jul 2024 04:21:30 +0200 (CEST)
Received: from mail-qk1-f227.google.com (mail-qk1-f227.google.com
 [209.85.222.227])
 by mails.dpdk.org (Postfix) with ESMTP id 63A0540268
 for <test-report@dpdk.org>; Sat,  6 Jul 2024 04:21:24 +0200 (CEST)
Received: by mail-qk1-f227.google.com with SMTP id
 af79cd13be357-79f02c71290so13833185a.2
 for <test-report@dpdk.org>; Fri, 05 Jul 2024 19:21:24 -0700 (PDT)
DKIM-Signature: v=1; a=rsa-sha256; c=relaxed/relaxed;
 d=iol.unh.edu; s=unh-iol; t=1720232483; x=1720837283; darn=dpdk.org;
 h=references:in-reply-to:cc:to:from:subject:message-id:date:from:to
 :cc:subject:date:message-id:reply-to;
 bh=OhB2n1zMWNYfFLqhBp3yQ86cnZZq96rT0Mx0S1KmqB4=;
 b=GHJW9FrlW71yfcScQkg3YWRBfJcGMr8o0KPrFji3GzdvonzybSBWffHWIJhnfkaNVO
 5jb3BGhP2N+ab1G+ot3bmRMKUsdUUVf5GYelqhPeobzQKAASeLhBeJda310vNARireKL
 J4qc6e52f1zvAmD+OmTl8eFnd5bKGY3t/Uiwc=
X-Google-DKIM-Signature: v=1; a=rsa-sha256; c=relaxed/relaxed;
 d=1e100.net; s=20230601; t=1720232483; x=1720837283;
 h=references:in-reply-to:cc:to:from:subject:message-id:date
 :x-gm-message-state:from:to:cc:subject:date:message-id:reply-to;
 bh=OhB2n1zMWNYfFLqhBp3yQ86cnZZq96rT0Mx0S1KmqB4=;
 b=IGE6uGtNs4X5e6Qz2GoB50k4/a+8ou7ulHexTUDZwLDvwWIVnpoz32TaNoEIbJD+Yp
 larGbqa/AaBmMrsPxFvQeDgJPSYnfAqBohoVXuB3BtgJ4iwyRuwfCM2T/Xd/MoTjqYww
 PrEDxBz3lLikVfPhfSXsl62xIR2q7Rgcam4D5hGaCEWPP++aKcqBu6EqCrxH1Z1WInIU
 3+kJTgVIVl2z1hh8RxGQfEY63jT/tbcCrdXiJBkbkikTmA+8nGmlCDyj61s1ud6wZekm
 yN1NCoJL7o0vLIrA5Z+U5y1nh9ST4Kpj8RMSHVqLXRPHlVZVlt5t/WXNIASm/xgHNjsY
 gl4A==
X-Gm-Message-State: AOJu0YxhWYGH6EmcMJ91pFrDV8gq0i8Vsza9517KuhqyRxAmTk0hz/MW
 sX2TpaF8X3da4iTdDhos4ZZxWE1TEtHixsPlxeV81Xs3LK51KV5fmdQUDhfDNt8hMpcjCrXvWob
 SSmFi80abSChnrJWRlQYceTPZbO5OQjKhEzh2IFhbkimDnVdiUqmPqhZN
X-Google-Smtp-Source: AGHT+IHISY3eX+U770QnJAe6qYW5AnIVgHTZIXlQQMNOThJGcRS5U2LSZp7aj00i0NwRY0Bz28fLDMr8nowg
X-Received: by 2002:a05:6214:19ca:b0:6b4:fc6f:17ba with SMTP id
 6a1803df08f44-6b5ed1d7658mr83021746d6.33.1720232483714; 
 Fri, 05 Jul 2024 19:21:23 -0700 (PDT)
Received: from postal.iol.unh.edu (postal.iol.unh.edu.
 [2606:4100:3880:1234::84]) by smtp-relay.gmail.com with ESMTPS id
 6a1803df08f44-6b5e42c2e6csm3024316d6.12.2024.07.05.19.21.23
 (version=TLS1_2 cipher=ECDHE-ECDSA-AES128-GCM-SHA256 bits=128/128);
 Fri, 05 Jul 2024 19:21:23 -0700 (PDT)
X-Relaying-Domain: iol.unh.edu
Date: Fri, 05 Jul 2024 19:21:23 -0700 (PDT)
Message-ID: <6688aa23.050a0220.1c6e6.5d18SMTPIN_ADDED_MISSING@mx.google.com>
Received: from [172.21.0.7] (unknown [172.18.0.240])
 by postal.iol.unh.edu (Postfix) with ESMTP id 69B2D605C351;
 Fri,  5 Jul 2024 22:21:23 -0400 (EDT)
Subject: |SUCCESS| pw142146-142147 [PATCH] [v4,2/2] net/cpfl: fix +ve error c
From: dpdklab@iol.unh.edu
To: Test Report <test-report@dpdk.org>
Cc: dpdk-test-reports@iol.unh.edu
In-Reply-To: <20240705130515.3090598-3-soumyadeep.hore@intel.com>
References: <20240705130515.3090598-3-soumyadeep.hore@intel.com>
Content-Type: text/plain
X-BeenThere: test-report@dpdk.org
X-Mailman-Version: 2.1.29
Precedence: list
List-Id: automatic DPDK test reports <test-report.dpdk.org>
List-Unsubscribe: <https://mails.dpdk.org/options/test-report>,
 <mailto:test-report-request@dpdk.org?subject=unsubscribe>
List-Archive: <http://mails.dpdk.org/archives/test-report/>
List-Post: <mailto:test-report@dpdk.org>
List-Help: <mailto:test-report-request@dpdk.org?subject=help>
List-Subscribe: <https://mails.dpdk.org/listinfo/test-report>,
 <mailto:test-report-request@dpdk.org?subject=subscribe>
Errors-To: test-report-bounces@dpdk.org

Test-Label: iol-compile-amd64-testing
Test-Status: SUCCESS
http://dpdk.org/patch/142147

_Testing PASS_

Submitter: Soumyadeep Hore <soumyadeep.hore@intel.com>
Date: Friday, July 05 2024 13:05:15 
DPDK git baseline: Repo:dpdk
  Branch: master
  CommitID:fcfb19cda4f6439f260cdeabb6c44d3c6f0d5fc4

142146-142147 --> testing pass

Test environment and result as below:

+---------------------+--------------------+----------------------+-------------------+
|     Environment     | dpdk_meson_compile | dpdk_mingw64_compile | dpdk_msvc_compile |
+=====================+====================+======================+===================+
| Windows Server 2019 | PASS               | PASS                 | SKIPPED           |
+---------------------+--------------------+----------------------+-------------------+
| Windows Server 2022 | PASS               | PASS                 | PASS              |
+---------------------+--------------------+----------------------+-------------------+
| FreeBSD 13.3        | PASS               | SKIPPED              | SKIPPED           |
+---------------------+--------------------+----------------------+-------------------+
| FreeBSD 14.1        | PASS               | SKIPPED              | SKIPPED           |
+---------------------+--------------------+----------------------+-------------------+


Windows Server 2019
	Kernel: 10.0.17763
	Compiler: clang 14.0 and gcc 8.1.0 (MinGW)

Windows Server 2022
	Kernel: 10.0.20348.2031
	Compiler: clang 15.0.7, gcc 8.1.0 (MinGW), and MSVC VS 17.9

FreeBSD 13.3
	Kernel: 13.3-RELEASE-p1
	Compiler: clang 17.0.6

FreeBSD 14.1
	Kernel: 14.1
	Compiler: clang 18.1.5

To view detailed results, visit:
https://lab.dpdk.org/results/dashboard/patchsets/30431/

UNH-IOL DPDK Community Lab

To manage your email subscriptions, visit: 
https://lab.dpdk.org/results/dashboard/preferences/subscriptions/