From: dpdklab@iol.unh.edu
To: Test Report <test-report@dpdk.org>
Cc: dpdk-test-reports@iol.unh.edu
Subject: |PENDING| pw142136 [PATCH] [v3] buildtools: fix invalid symbols
Date: Fri, 05 Jul 2024 19:46:23 -0700 (PDT) [thread overview]
Message-ID: <6688afff.050a0220.239c5.eeb8SMTPIN_ADDED_MISSING@mx.google.com> (raw)
In-Reply-To: <20240705082550.1670765-1-mingjinx.ye@intel.com>
Test-Label: iol-abi-testing
Test-Status: PENDING
http://dpdk.org/patch/142136
_Testing pending_
Submitter: Mingjin Ye <mingjinx.ye@intel.com>
Date: Friday, July 05 2024 08:25:50
DPDK git baseline: Repo:dpdk
Branch: master
CommitID:fcfb19cda4f6439f260cdeabb6c44d3c6f0d5fc4
142136 --> testing pending
Test environment and result as below:
+-------------------+----------+
| Environment | abi_test |
+===================+==========+
| CentOS Stream 8 | PEND |
+-------------------+----------+
| CentOS Stream 9 | PASS |
+-------------------+----------+
| Debian Bullseye | PASS |
+-------------------+----------+
| Debian 12 | PEND |
+-------------------+----------+
| Fedora 37 | PEND |
+-------------------+----------+
| Fedora 38 (Clang) | PEND |
+-------------------+----------+
| Fedora 38 | PEND |
+-------------------+----------+
| Fedora 39 | PASS |
+-------------------+----------+
| Fedora 40 (Clang) | PEND |
+-------------------+----------+
| Fedora 40 | PEND |
+-------------------+----------+
| openSUSE Leap 15 | PEND |
+-------------------+----------+
| RHEL8 | PEND |
+-------------------+----------+
| RHEL9 | PEND |
+-------------------+----------+
| Ubuntu 22.04 | PEND |
+-------------------+----------+
| Ubuntu 24.04 | PEND |
+-------------------+----------+
| Fedora 39 (Clang) | PEND |
+-------------------+----------+
CentOS Stream 8
Kernel: 5.4.0-167-generic
Compiler: gcc 8.5.0 20210514
CentOS Stream 9
Kernel: 5.4.0-167-generic
Compiler: gcc 11.4.1 20230605
Debian Bullseye
Kernel: 5.4.0-167-generic
Compiler: gcc 10.2.1-6
Debian 12
Kernel: Container Host Kernel
Compiler: gcc 12.2.0
Fedora 37
Kernel: Depends on container host system
Compiler: gcc 12.3.1
Fedora 38 (Clang)
Kernel: Depends on container host
Compiler: clang 16.0.6
Fedora 38
Kernel: Depends on container host
Compiler: gcc 13.2.1
Fedora 39
Kernel: Depends on container host
Compiler: gcc 13.2.1
Fedora 40 (Clang)
Kernel: Depends on container host
Compiler: clang 18.1.6
Fedora 40
Kernel: Depends on container host
Compiler: gcc 14.1.1
openSUSE Leap 15
Kernel: 5.4.0-167-generic
Compiler: gcc 7.5.0
RHEL8
Kernel: 5.4.0-167-generic
Compiler: gcc 8.5.0 20210514 (Red Hat 8.5.0-20)
RHEL9
Kernel: Depends on container host
Compiler: gcc 11.4.1
Ubuntu 22.04
Kernel: 5.4.0-167-generic
Compiler: gcc 11.4.0
Ubuntu 24.04
Kernel: 5.4.0-167-generic
Compiler: gcc 13.2.0
Fedora 39 (Clang)
Kernel: Depends on container host
Compiler: clang 17.0.6
To view detailed results, visit:
https://lab.dpdk.org/results/dashboard/patchsets/30425/
UNH-IOL DPDK Community Lab
To manage your email subscriptions, visit:
https://lab.dpdk.org/results/dashboard/preferences/subscriptions/
next prev parent reply other threads:[~2024-07-06 2:46 UTC|newest]
Thread overview: 83+ messages / expand[flat|nested] mbox.gz Atom feed top
[not found] <20240705082550.1670765-1-mingjinx.ye@intel.com>
2024-07-05 8:49 ` |SUCCESS| pw142136 [PATCH v3] " checkpatch
2024-07-05 9:43 ` 0-day Robot
2024-07-05 12:09 ` qemudev
2024-07-05 12:14 ` qemudev
2024-07-06 2:00 ` |PENDING| pw142136 [PATCH] [v3] " dpdklab
2024-07-06 2:12 ` |SUCCESS| " dpdklab
2024-07-06 2:14 ` dpdklab
2024-07-06 2:20 ` dpdklab
2024-07-06 2:34 ` dpdklab
2024-07-06 2:35 ` |PENDING| " dpdklab
2024-07-06 2:36 ` dpdklab
2024-07-06 2:46 ` dpdklab [this message]
2024-07-06 2:53 ` |SUCCESS| " dpdklab
2024-07-06 2:53 ` |PENDING| " dpdklab
2024-07-06 2:58 ` dpdklab
2024-07-06 3:01 ` dpdklab
2024-07-06 3:04 ` dpdklab
2024-07-06 3:04 ` dpdklab
2024-07-06 3:07 ` dpdklab
2024-07-06 3:09 ` dpdklab
2024-07-06 3:14 ` dpdklab
2024-07-06 3:18 ` dpdklab
2024-07-06 3:20 ` dpdklab
2024-07-06 3:29 ` |SUCCESS| " dpdklab
2024-07-06 3:30 ` dpdklab
2024-07-06 4:05 ` dpdklab
2024-07-06 4:08 ` dpdklab
2024-07-06 4:10 ` dpdklab
2024-07-06 4:14 ` dpdklab
2024-07-06 4:16 ` dpdklab
2024-07-06 4:19 ` dpdklab
2024-07-06 4:39 ` dpdklab
2024-07-06 4:50 ` dpdklab
2024-07-06 9:26 ` |PENDING| " dpdklab
2024-07-06 9:27 ` dpdklab
2024-07-06 9:30 ` dpdklab
2024-07-06 9:32 ` dpdklab
2024-07-06 9:37 ` dpdklab
2024-07-06 9:40 ` |SUCCESS| " dpdklab
2024-07-06 9:41 ` dpdklab
2024-07-06 10:12 ` |PENDING| " dpdklab
2024-07-06 11:05 ` dpdklab
2024-07-06 12:11 ` dpdklab
2024-07-06 12:12 ` dpdklab
2024-07-06 12:16 ` dpdklab
2024-07-06 12:16 ` dpdklab
2024-07-06 12:19 ` dpdklab
2024-07-06 12:27 ` dpdklab
2024-07-06 12:28 ` dpdklab
2024-07-06 12:29 ` dpdklab
2024-07-06 12:31 ` dpdklab
2024-07-06 12:32 ` dpdklab
2024-07-06 12:35 ` dpdklab
2024-07-06 12:36 ` dpdklab
2024-07-06 12:38 ` dpdklab
2024-07-06 12:39 ` dpdklab
2024-07-06 13:45 ` |SUCCESS| " dpdklab
2024-07-06 20:41 ` |PENDING| " dpdklab
2024-07-06 21:16 ` dpdklab
2024-07-06 21:17 ` dpdklab
2024-07-06 21:20 ` dpdklab
2024-07-06 21:22 ` dpdklab
2024-07-06 21:24 ` dpdklab
2024-07-06 21:27 ` dpdklab
2024-07-06 21:27 ` dpdklab
2024-07-06 21:29 ` dpdklab
2024-07-06 21:29 ` dpdklab
2024-07-06 21:30 ` dpdklab
2024-07-06 21:31 ` dpdklab
2024-07-06 21:33 ` dpdklab
2024-07-06 21:34 ` dpdklab
2024-07-06 21:34 ` dpdklab
2024-07-06 21:34 ` dpdklab
2024-07-06 21:35 ` dpdklab
2024-07-06 21:42 ` dpdklab
2024-07-06 21:42 ` dpdklab
2024-07-06 21:44 ` |SUCCESS| " dpdklab
2024-07-06 21:47 ` |PENDING| " dpdklab
2024-07-06 21:54 ` |SUCCESS| " dpdklab
2024-07-06 22:51 ` |PENDING| " dpdklab
2024-07-06 23:03 ` |SUCCESS| " dpdklab
2024-07-09 3:19 ` dpdklab
2024-07-09 3:33 ` dpdklab
Reply instructions:
You may reply publicly to this message via plain-text email
using any one of the following methods:
* Save the following mbox file, import it into your mail client,
and reply-to-all from there: mbox
Avoid top-posting and favor interleaved quoting:
https://en.wikipedia.org/wiki/Posting_style#Interleaved_style
* Reply using the --to, --cc, and --in-reply-to
switches of git-send-email(1):
git send-email \
--in-reply-to=6688afff.050a0220.239c5.eeb8SMTPIN_ADDED_MISSING@mx.google.com \
--to=dpdklab@iol.unh.edu \
--cc=dpdk-test-reports@iol.unh.edu \
--cc=test-report@dpdk.org \
/path/to/YOUR_REPLY
https://kernel.org/pub/software/scm/git/docs/git-send-email.html
* If your mail client supports setting the In-Reply-To header
via mailto: links, try the mailto: link
Be sure your reply has a Subject: header at the top and a blank line
before the message body.
This is a public inbox, see mirroring instructions
for how to clone and mirror all data and code used for this inbox;
as well as URLs for NNTP newsgroup(s).