From mboxrd@z Thu Jan  1 00:00:00 1970
Return-Path: <test-report-bounces@dpdk.org>
Received: from mails.dpdk.org (mails.dpdk.org [217.70.189.124])
	by inbox.dpdk.org (Postfix) with ESMTP id 2B7AF4559E
	for <public@inbox.dpdk.org>; Sat,  6 Jul 2024 06:17:01 +0200 (CEST)
Received: from mails.dpdk.org (localhost [127.0.0.1])
	by mails.dpdk.org (Postfix) with ESMTP id 2000242EDD;
	Sat,  6 Jul 2024 06:17:01 +0200 (CEST)
Received: from mail-il1-f225.google.com (mail-il1-f225.google.com
 [209.85.166.225])
 by mails.dpdk.org (Postfix) with ESMTP id DFF5A40268
 for <test-report@dpdk.org>; Sat,  6 Jul 2024 06:16:59 +0200 (CEST)
Received: by mail-il1-f225.google.com with SMTP id
 e9e14a558f8ab-381f24d6bc4so8908795ab.2
 for <test-report@dpdk.org>; Fri, 05 Jul 2024 21:16:59 -0700 (PDT)
DKIM-Signature: v=1; a=rsa-sha256; c=relaxed/relaxed;
 d=iol.unh.edu; s=unh-iol; t=1720239419; x=1720844219; darn=dpdk.org;
 h=references:in-reply-to:cc:to:from:subject:message-id:date:from:to
 :cc:subject:date:message-id:reply-to;
 bh=azxn+qAlk83rhbAtMr6lW4q+Bkaz3vs1tA2eZVW9nXY=;
 b=g8cWt0IxHfenD1f0jVRiyScx172MHDcnZY/Ln1x8GswrLAs6O5VeLvfKyYVGsCer2n
 1yDbWk9ogFH+KyO0t2oOGymYO6QxsnG8UmckF0FjCLFNcAAHkcMuIGr0ihj6IT3bqNA1
 KgvPSybpep+X2x3TwKlZ7R9KIKpesKe/9vigc=
X-Google-DKIM-Signature: v=1; a=rsa-sha256; c=relaxed/relaxed;
 d=1e100.net; s=20230601; t=1720239419; x=1720844219;
 h=references:in-reply-to:cc:to:from:subject:message-id:date
 :x-gm-message-state:from:to:cc:subject:date:message-id:reply-to;
 bh=azxn+qAlk83rhbAtMr6lW4q+Bkaz3vs1tA2eZVW9nXY=;
 b=sBrS6s4zuKgwrFs2faprPA5W3dzyerRFcifUgdhbcYDq1T3oWbN6+pwc+zF5sIG9MD
 JhO06lRUrYMhYmurmzQ15GvcfUU4gFaa+ovSmZfPpi1EXjTY5zveomOTYo+TRzE6erfv
 JUwMsvadlSeNOUtWXUvQs/4oAtCE5PZSNAI8YyW/tp2800d/CCznrkMEbLJr2vgSh/zh
 ytIIvw1yVF2bd8PnHm+OrOmq0Cb5nBPAeaeg0vJPHyzAhd9Ygm1zNjX8P0NNtC28l6SB
 7YV4LrTcq3zQwWBGuJ/dOEfMHxvgL8HPQpR1QFBsv7/x/C84mMqFZrU4pnGBRMyxFdnx
 yc1g==
X-Gm-Message-State: AOJu0YxAWfR8RFSCikP3anFlb6mrk5mtX9mKvHmvtdi4zYw11Tcej+r5
 nc4DjvYHHzIavzl6Y0NQKN55qk1V16cw7ik5qTUJ1zFerh8UWOI+zMeG7nNp0uyoACc04475x4k
 AeKcAYcxLEiNBs/mwipQMFNd11T4CiYqQ/k9D9vCR
X-Google-Smtp-Source: AGHT+IFQDwlAWXpLYaAj5FAQkeV34A2k7fWi5nfRfNobnAaHDLYGFHMxvU7yyWdIap/rf9K5vN05yr93d2tK
X-Received: by 2002:a05:6e02:1a42:b0:382:db50:6ebd with SMTP id
 e9e14a558f8ab-3839aea9bd6mr71528205ab.27.1720239419240; 
 Fri, 05 Jul 2024 21:16:59 -0700 (PDT)
Received: from postal.iol.unh.edu (postal.iol.unh.edu. [132.177.123.84])
 by smtp-relay.gmail.com with ESMTPS id
 e9e14a558f8ab-382fae51b26sm2392775ab.33.2024.07.05.21.16.59
 (version=TLS1_2 cipher=ECDHE-ECDSA-AES128-GCM-SHA256 bits=128/128);
 Fri, 05 Jul 2024 21:16:59 -0700 (PDT)
X-Relaying-Domain: iol.unh.edu
Date: Fri, 05 Jul 2024 21:16:59 -0700 (PDT)
Message-ID: <6688c53b.050a0220.82352.110dSMTPIN_ADDED_MISSING@mx.google.com>
Received: from [172.21.0.6] (unknown [172.18.0.240])
 by postal.iol.unh.edu (Postfix) with ESMTP id C914C605C351;
 Sat,  6 Jul 2024 00:16:58 -0400 (EDT)
Subject: |PENDING| pw142146-142147 [PATCH] [v4,2/2] net/cpfl: fix +ve error c
From: dpdklab@iol.unh.edu
To: Test Report <test-report@dpdk.org>
Cc: dpdk-test-reports@iol.unh.edu
In-Reply-To: <20240705130515.3090598-3-soumyadeep.hore@intel.com>
References: <20240705130515.3090598-3-soumyadeep.hore@intel.com>
Content-Type: text/plain
X-BeenThere: test-report@dpdk.org
X-Mailman-Version: 2.1.29
Precedence: list
List-Id: automatic DPDK test reports <test-report.dpdk.org>
List-Unsubscribe: <https://mails.dpdk.org/options/test-report>,
 <mailto:test-report-request@dpdk.org?subject=unsubscribe>
List-Archive: <http://mails.dpdk.org/archives/test-report/>
List-Post: <mailto:test-report@dpdk.org>
List-Help: <mailto:test-report-request@dpdk.org?subject=help>
List-Subscribe: <https://mails.dpdk.org/listinfo/test-report>,
 <mailto:test-report-request@dpdk.org?subject=subscribe>
Errors-To: test-report-bounces@dpdk.org

Test-Label: iol-unit-amd64-testing
Test-Status: PENDING
http://dpdk.org/patch/142147

_Testing pending_

Submitter: Soumyadeep Hore <soumyadeep.hore@intel.com>
Date: Friday, July 05 2024 13:05:15 
DPDK git baseline: Repo:dpdk
  Branch: master
  CommitID:fcfb19cda4f6439f260cdeabb6c44d3c6f0d5fc4

142146-142147 --> testing pending

Test environment and result as below:

+-------------------+----------------+
|    Environment    | dpdk_unit_test |
+===================+================+
| CentOS Stream 9   | PEND           |
+-------------------+----------------+
| CentOS Stream 8   | PASS           |
+-------------------+----------------+
| Debian Bullseye   | PASS           |
+-------------------+----------------+
| Debian 12         | PEND           |
+-------------------+----------------+
| Fedora 37         | PASS           |
+-------------------+----------------+
| Fedora 38         | PEND           |
+-------------------+----------------+
| Fedora 38 (Clang) | PEND           |
+-------------------+----------------+
| Fedora 39         | PEND           |
+-------------------+----------------+
| Fedora 39 (Clang) | PEND           |
+-------------------+----------------+
| Fedora 40         | PEND           |
+-------------------+----------------+
| Fedora 40 (Clang) | PEND           |
+-------------------+----------------+
| openSUSE Leap 15  | PEND           |
+-------------------+----------------+
| RHEL8             | PEND           |
+-------------------+----------------+
| RHEL9             | PEND           |
+-------------------+----------------+
| Ubuntu 20.04      | PEND           |
+-------------------+----------------+
| Ubuntu 22.04      | PEND           |
+-------------------+----------------+
| Ubuntu 24.04      | PEND           |
+-------------------+----------------+


CentOS Stream 9
	Kernel: 5.4.0-167-generic
	Compiler: gcc 11.4.1 20230605

CentOS Stream 8
	Kernel: 5.4.0-167-generic
	Compiler: gcc 8.5.0 20210514

Debian Bullseye
	Kernel: 5.4.0-167-generic
	Compiler: gcc 10.2.1-6

Debian 12
	Kernel: Container Host Kernel
	Compiler: gcc 12.2.0

Fedora 37
	Kernel: Depends on container host system
	Compiler: gcc 12.3.1

Fedora 38
	Kernel: Depends on container host
	Compiler: gcc 13.2.1

Fedora 38 (Clang)
	Kernel: Depends on container host
	Compiler: clang 16.0.6

Fedora 39
	Kernel: Depends on container host
	Compiler: gcc 13.2.1

Fedora 39 (Clang)
	Kernel: Depends on container host
	Compiler: clang 17.0.6

Fedora 40
	Kernel: Depends on container host
	Compiler: gcc 14.1.1

Fedora 40 (Clang)
	Kernel: Depends on container host
	Compiler: clang 18.1.6

openSUSE Leap 15
	Kernel: 5.4.0-167-generic
	Compiler: gcc 7.5.0

RHEL8
	Kernel: 5.4.0-167-generic
	Compiler: gcc 8.5.0 20210514 (Red Hat 8.5.0-20)

RHEL9
	Kernel: Depends on container host
	Compiler: gcc 11.4.1

Ubuntu 20.04
	Kernel: 5.4.0-167-generic
	Compiler: gcc 9.4.0-1ubuntu1~20.04.1

Ubuntu 22.04
	Kernel: 5.4.0-167-generic
	Compiler: gcc 11.4.0

Ubuntu 24.04
	Kernel: 5.4.0-167-generic
	Compiler: gcc 13.2.0

To view detailed results, visit:
https://lab.dpdk.org/results/dashboard/patchsets/30431/

UNH-IOL DPDK Community Lab

To manage your email subscriptions, visit: 
https://lab.dpdk.org/results/dashboard/preferences/subscriptions/