From mboxrd@z Thu Jan  1 00:00:00 1970
Return-Path: <test-report-bounces@dpdk.org>
Received: from mails.dpdk.org (mails.dpdk.org [217.70.189.124])
	by inbox.dpdk.org (Postfix) with ESMTP id 3A6EA4559E
	for <public@inbox.dpdk.org>; Sat,  6 Jul 2024 06:21:29 +0200 (CEST)
Received: from mails.dpdk.org (localhost [127.0.0.1])
	by mails.dpdk.org (Postfix) with ESMTP id 1A29F42EDD;
	Sat,  6 Jul 2024 06:21:29 +0200 (CEST)
Received: from mail-il1-f228.google.com (mail-il1-f228.google.com
 [209.85.166.228])
 by mails.dpdk.org (Postfix) with ESMTP id ED25640268
 for <test-report@dpdk.org>; Sat,  6 Jul 2024 06:21:27 +0200 (CEST)
Received: by mail-il1-f228.google.com with SMTP id
 e9e14a558f8ab-382458be739so10271515ab.1
 for <test-report@dpdk.org>; Fri, 05 Jul 2024 21:21:27 -0700 (PDT)
DKIM-Signature: v=1; a=rsa-sha256; c=relaxed/relaxed;
 d=iol.unh.edu; s=unh-iol; t=1720239687; x=1720844487; darn=dpdk.org;
 h=references:in-reply-to:cc:to:from:subject:message-id:date:from:to
 :cc:subject:date:message-id:reply-to;
 bh=fTPT9UZQHucroCfceByl4VR3LdvkWBlRL92U4XfPOcg=;
 b=VbwjUIX7yiLn8PpBxS2ijWytRhZEqQcreZj7IpXmHJkB1/UkY4dbUMBtmPa2TjOq8c
 LyLsnpSZ3ydtnkLdzBEh5Hz5NbtAsLmiRuAVynlUOQVo2eCu64/x61AhnRjZbPsHwQbd
 McObnFycLOx0TZ89NjzDUUOCN1J6hJmXHXuxU=
X-Google-DKIM-Signature: v=1; a=rsa-sha256; c=relaxed/relaxed;
 d=1e100.net; s=20230601; t=1720239687; x=1720844487;
 h=references:in-reply-to:cc:to:from:subject:message-id:date
 :x-gm-message-state:from:to:cc:subject:date:message-id:reply-to;
 bh=fTPT9UZQHucroCfceByl4VR3LdvkWBlRL92U4XfPOcg=;
 b=Ox7k/SVhihHSlSU11C9qv6toNIBpWXL0bAEcmd8sJrxh/17P5ha0d2Bifb10JJ2UCb
 yl+2OkTca5Z9+rmFUMw1hlEtCvvICnZx6oLqER59X7e+keEhcHZApXCPsNBOjB1/tTaV
 MrIKIPxMUTQXHxILGKMzoOZm850tSW06RrKAa+2C0Dlk8La6RwWKp9Psx+xTkGZ8Rsx4
 tesflQRZC5KYLRVZWgakT/N44wCEtdgOVzixUrPT7E/d85EZVexF/g+pnkRSOUkveEPs
 lapzlaBwB9ofFKge6ufENHsEFNezAdwzU18E4q+0JeOj3vV9uExWJ3AsdnTjQJ5SmX7w
 KQlA==
X-Gm-Message-State: AOJu0Yz0JC+mQGrKhkvefEFOsjjtFV8bjIjlJoFvtlGVMDBveAMKeyhW
 8F94TChjz08drxRmpN0fMhPzWksQd9BvI1vl+zPV9h+lNSJKBTI01KMvzXFanG3AGgYB33akcrj
 GUDVuT6qv+HzfMv6y2lZk8uyNlR8t5vZrhSqolPJZbxJpKtaoYn3V4vLM
X-Google-Smtp-Source: AGHT+IGUwcX2STMRF2PKjgEefDA6/KA58S2wKTEkSioSxunu4HjfuYXCmXUOmlaLb4n9Y6oZP/mR2ipIv4RM
X-Received: by 2002:a05:6e02:1c8e:b0:383:284:115 with SMTP id
 e9e14a558f8ab-3839acbe1cbmr80850985ab.29.1720239687203; 
 Fri, 05 Jul 2024 21:21:27 -0700 (PDT)
Received: from postal.iol.unh.edu (postal.iol.unh.edu.
 [2606:4100:3880:1234::84]) by smtp-relay.gmail.com with ESMTPS id
 e9e14a558f8ab-37ad2f40786sm7147265ab.46.2024.07.05.21.21.27
 (version=TLS1_2 cipher=ECDHE-ECDSA-AES128-GCM-SHA256 bits=128/128);
 Fri, 05 Jul 2024 21:21:27 -0700 (PDT)
X-Relaying-Domain: iol.unh.edu
Date: Fri, 05 Jul 2024 21:21:27 -0700 (PDT)
Message-ID: <6688c647.050a0220.cb851.4717SMTPIN_ADDED_MISSING@mx.google.com>
Received: from [172.21.0.6] (unknown [172.18.0.240])
 by postal.iol.unh.edu (Postfix) with ESMTP id A35E1605C351;
 Sat,  6 Jul 2024 00:21:26 -0400 (EDT)
Subject: |PENDING| pw142146-142147 [PATCH] [v4,2/2] net/cpfl: fix +ve error c
From: dpdklab@iol.unh.edu
To: Test Report <test-report@dpdk.org>
Cc: dpdk-test-reports@iol.unh.edu
In-Reply-To: <20240705130515.3090598-3-soumyadeep.hore@intel.com>
References: <20240705130515.3090598-3-soumyadeep.hore@intel.com>
Content-Type: text/plain
X-BeenThere: test-report@dpdk.org
X-Mailman-Version: 2.1.29
Precedence: list
List-Id: automatic DPDK test reports <test-report.dpdk.org>
List-Unsubscribe: <https://mails.dpdk.org/options/test-report>,
 <mailto:test-report-request@dpdk.org?subject=unsubscribe>
List-Archive: <http://mails.dpdk.org/archives/test-report/>
List-Post: <mailto:test-report@dpdk.org>
List-Help: <mailto:test-report-request@dpdk.org?subject=help>
List-Subscribe: <https://mails.dpdk.org/listinfo/test-report>,
 <mailto:test-report-request@dpdk.org?subject=subscribe>
Errors-To: test-report-bounces@dpdk.org

Test-Label: iol-unit-amd64-testing
Test-Status: PENDING
http://dpdk.org/patch/142147

_Testing pending_

Submitter: Soumyadeep Hore <soumyadeep.hore@intel.com>
Date: Friday, July 05 2024 13:05:15 
DPDK git baseline: Repo:dpdk
  Branch: master
  CommitID:fcfb19cda4f6439f260cdeabb6c44d3c6f0d5fc4

142146-142147 --> testing pending

Test environment and result as below:

+-------------------+----------------+
|    Environment    | dpdk_unit_test |
+===================+================+
| CentOS Stream 9   | PASS           |
+-------------------+----------------+
| CentOS Stream 8   | PASS           |
+-------------------+----------------+
| Debian Bullseye   | PASS           |
+-------------------+----------------+
| Debian 12         | PEND           |
+-------------------+----------------+
| Fedora 37         | PASS           |
+-------------------+----------------+
| Fedora 38         | PEND           |
+-------------------+----------------+
| Fedora 38 (Clang) | PEND           |
+-------------------+----------------+
| Fedora 39         | PEND           |
+-------------------+----------------+
| Fedora 39 (Clang) | PEND           |
+-------------------+----------------+
| Fedora 40         | PEND           |
+-------------------+----------------+
| Fedora 40 (Clang) | PEND           |
+-------------------+----------------+
| openSUSE Leap 15  | PEND           |
+-------------------+----------------+
| RHEL8             | PEND           |
+-------------------+----------------+
| RHEL9             | PEND           |
+-------------------+----------------+
| Ubuntu 20.04      | PEND           |
+-------------------+----------------+
| Ubuntu 22.04      | PEND           |
+-------------------+----------------+
| Ubuntu 24.04      | PEND           |
+-------------------+----------------+


CentOS Stream 9
	Kernel: 5.4.0-167-generic
	Compiler: gcc 11.4.1 20230605

CentOS Stream 8
	Kernel: 5.4.0-167-generic
	Compiler: gcc 8.5.0 20210514

Debian Bullseye
	Kernel: 5.4.0-167-generic
	Compiler: gcc 10.2.1-6

Debian 12
	Kernel: Container Host Kernel
	Compiler: gcc 12.2.0

Fedora 37
	Kernel: Depends on container host system
	Compiler: gcc 12.3.1

Fedora 38
	Kernel: Depends on container host
	Compiler: gcc 13.2.1

Fedora 38 (Clang)
	Kernel: Depends on container host
	Compiler: clang 16.0.6

Fedora 39
	Kernel: Depends on container host
	Compiler: gcc 13.2.1

Fedora 39 (Clang)
	Kernel: Depends on container host
	Compiler: clang 17.0.6

Fedora 40
	Kernel: Depends on container host
	Compiler: gcc 14.1.1

Fedora 40 (Clang)
	Kernel: Depends on container host
	Compiler: clang 18.1.6

openSUSE Leap 15
	Kernel: 5.4.0-167-generic
	Compiler: gcc 7.5.0

RHEL8
	Kernel: 5.4.0-167-generic
	Compiler: gcc 8.5.0 20210514 (Red Hat 8.5.0-20)

RHEL9
	Kernel: Depends on container host
	Compiler: gcc 11.4.1

Ubuntu 20.04
	Kernel: 5.4.0-167-generic
	Compiler: gcc 9.4.0-1ubuntu1~20.04.1

Ubuntu 22.04
	Kernel: 5.4.0-167-generic
	Compiler: gcc 11.4.0

Ubuntu 24.04
	Kernel: 5.4.0-167-generic
	Compiler: gcc 13.2.0

To view detailed results, visit:
https://lab.dpdk.org/results/dashboard/patchsets/30431/

UNH-IOL DPDK Community Lab

To manage your email subscriptions, visit: 
https://lab.dpdk.org/results/dashboard/preferences/subscriptions/