From mboxrd@z Thu Jan  1 00:00:00 1970
Return-Path: <test-report-bounces@dpdk.org>
Received: from mails.dpdk.org (mails.dpdk.org [217.70.189.124])
	by inbox.dpdk.org (Postfix) with ESMTP id C09DC455A3
	for <public@inbox.dpdk.org>; Sat,  6 Jul 2024 11:24:31 +0200 (CEST)
Received: from mails.dpdk.org (localhost [127.0.0.1])
	by mails.dpdk.org (Postfix) with ESMTP id BC5C840270;
	Sat,  6 Jul 2024 11:24:31 +0200 (CEST)
Received: from mail-qv1-f97.google.com (mail-qv1-f97.google.com
 [209.85.219.97]) by mails.dpdk.org (Postfix) with ESMTP id 2E6044021F
 for <test-report@dpdk.org>; Sat,  6 Jul 2024 11:24:30 +0200 (CEST)
Received: by mail-qv1-f97.google.com with SMTP id
 6a1803df08f44-6b5da2730efso13815386d6.2
 for <test-report@dpdk.org>; Sat, 06 Jul 2024 02:24:30 -0700 (PDT)
DKIM-Signature: v=1; a=rsa-sha256; c=relaxed/relaxed;
 d=iol.unh.edu; s=unh-iol; t=1720257869; x=1720862669; darn=dpdk.org;
 h=references:in-reply-to:cc:to:from:subject:message-id:date:from:to
 :cc:subject:date:message-id:reply-to;
 bh=nRrAe8Mf1LDcYjCvbuE3AEX4eFJRr2HvK+lx9NY1q34=;
 b=Pc40IEitZ1V5Hlf6X2cA9vXQO1hA8jdwR3EkybOkXx0J0or1w+6PpQdrUVm5rg+McX
 6GDJP51LaIPTQOIPS6XazB/d1DVvCu2vJqeJhASd9h+pgXN5+pK17slbhxNJ2VmiyPtA
 O3JNjNmam0myUIKKanj9W74mttYkJRXqkUx/k=
X-Google-DKIM-Signature: v=1; a=rsa-sha256; c=relaxed/relaxed;
 d=1e100.net; s=20230601; t=1720257869; x=1720862669;
 h=references:in-reply-to:cc:to:from:subject:message-id:date
 :x-gm-message-state:from:to:cc:subject:date:message-id:reply-to;
 bh=nRrAe8Mf1LDcYjCvbuE3AEX4eFJRr2HvK+lx9NY1q34=;
 b=sT55RgMOYaNW37hKlNP+KdZYbBUBHXHtmKXOMEdH2cmF9thc1jLUBVCRYLyekKI94j
 jwGvyBhJTLX2yUw9zrI7spKbYrZCE/Pn3+V0OOEvsj4+Nc8wD82n7q92vpV8WXZIaraL
 ot++rnFGcYyeUkjoVz5sSEJOHpP2CbSs1UgDFrWQOH45uwMXaH05CrrquzvvLVXwmBvN
 CehhZS+viHwGFvOBM5pLt6+8RNz0F0RdE18EouTxaNeEIgnbA8et3j6iADtxESaAL4ZX
 jOEzsp18JyFXTZO4SyQUXghedkrJtWf5UZMX9nsEsBbQwZLXNkZyjJoC7DXoUw+kfhXS
 E3oA==
X-Gm-Message-State: AOJu0YxWU9dX2j2eJliABKSt9OZ53Ox2eGtwT08VkT7e8V7hea/wYZqE
 YcosR+XEEZyaiKMGbOX7pW6JcA6/OMfBFVnSuq0prpam7Ko17IaM8xD1eFU48PFRvas2zKyW3xG
 1ITL0r6RzwJNuxYfMMNJdyop26GE12jnhib9xEu4yk5Tf9AVZ6ctEpqyE
X-Google-Smtp-Source: AGHT+IES/wUvVdkrFXnUQZ+zefTNgogH6Lc8+HvvRlbr5RCzL3KYfcMj54NXLWX9iX/Xqt+ykS2gaC2uJJ1+
X-Received: by 2002:ad4:574d:0:b0:6b5:47d5:6139 with SMTP id
 6a1803df08f44-6b5ed01ebc4mr85792236d6.34.1720257869259; 
 Sat, 06 Jul 2024 02:24:29 -0700 (PDT)
Received: from postal.iol.unh.edu (postal.iol.unh.edu.
 [2606:4100:3880:1234::84]) by smtp-relay.gmail.com with ESMTPS id
 6a1803df08f44-6b5fd9198e1sm1079096d6.58.2024.07.06.02.24.29
 (version=TLS1_2 cipher=ECDHE-ECDSA-AES128-GCM-SHA256 bits=128/128);
 Sat, 06 Jul 2024 02:24:29 -0700 (PDT)
X-Relaying-Domain: iol.unh.edu
Date: Sat, 06 Jul 2024 02:24:29 -0700 (PDT)
Message-ID: <66890d4d.050a0220.f8a5b.940bSMTPIN_ADDED_MISSING@mx.google.com>
Received: from [172.21.0.8] (unknown [172.18.0.240])
 by postal.iol.unh.edu (Postfix) with ESMTP id F058C60526E2;
 Sat,  6 Jul 2024 05:24:28 -0400 (EDT)
Subject: |PENDING| pw142137 [PATCH] telemetry: lower log level when legacy is
From: dpdklab@iol.unh.edu
To: Test Report <test-report@dpdk.org>
Cc: dpdk-test-reports@iol.unh.edu
In-Reply-To: <20240705090020.481903-2-rjarry@redhat.com>
References: <20240705090020.481903-2-rjarry@redhat.com>
Content-Type: text/plain
X-BeenThere: test-report@dpdk.org
X-Mailman-Version: 2.1.29
Precedence: list
List-Id: automatic DPDK test reports <test-report.dpdk.org>
List-Unsubscribe: <https://mails.dpdk.org/options/test-report>,
 <mailto:test-report-request@dpdk.org?subject=unsubscribe>
List-Archive: <http://mails.dpdk.org/archives/test-report/>
List-Post: <mailto:test-report@dpdk.org>
List-Help: <mailto:test-report-request@dpdk.org?subject=help>
List-Subscribe: <https://mails.dpdk.org/listinfo/test-report>,
 <mailto:test-report-request@dpdk.org?subject=subscribe>
Errors-To: test-report-bounces@dpdk.org

Test-Label: iol-unit-amd64-testing
Test-Status: PENDING
http://dpdk.org/patch/142137

_Testing pending_

Submitter: Robin Jarry <rjarry@redhat.com>
Date: Friday, July 05 2024 09:00:20 
DPDK git baseline: Repo:dpdk
  Branch: master
  CommitID:beb0c321d1e7ebb59d78914c66e82fd936b70f51

142137 --> testing pending

Test environment and result as below:

+-------------------+----------------+
|    Environment    | dpdk_unit_test |
+===================+================+
| CentOS Stream 8   | PASS           |
+-------------------+----------------+
| CentOS Stream 9   | PASS           |
+-------------------+----------------+
| Debian Bullseye   | PASS           |
+-------------------+----------------+
| Fedora 37         | PEND           |
+-------------------+----------------+
| Debian 12         | PEND           |
+-------------------+----------------+
| Fedora 38         | PEND           |
+-------------------+----------------+
| Fedora 38 (Clang) | PEND           |
+-------------------+----------------+
| Fedora 39         | PEND           |
+-------------------+----------------+
| Fedora 39 (Clang) | PEND           |
+-------------------+----------------+
| Fedora 40         | PEND           |
+-------------------+----------------+
| Fedora 40 (Clang) | PEND           |
+-------------------+----------------+
| openSUSE Leap 15  | PEND           |
+-------------------+----------------+
| RHEL8             | PEND           |
+-------------------+----------------+
| RHEL9             | PEND           |
+-------------------+----------------+
| Ubuntu 20.04      | PEND           |
+-------------------+----------------+
| Ubuntu 22.04      | PEND           |
+-------------------+----------------+
| Ubuntu 24.04      | PEND           |
+-------------------+----------------+


CentOS Stream 8
	Kernel: 5.4.0-167-generic
	Compiler: gcc 8.5.0 20210514

CentOS Stream 9
	Kernel: 5.4.0-167-generic
	Compiler: gcc 11.4.1 20230605

Debian Bullseye
	Kernel: 5.4.0-167-generic
	Compiler: gcc 10.2.1-6

Fedora 37
	Kernel: Depends on container host system
	Compiler: gcc 12.3.1

Debian 12
	Kernel: Container Host Kernel
	Compiler: gcc 12.2.0

Fedora 38
	Kernel: Depends on container host
	Compiler: gcc 13.2.1

Fedora 38 (Clang)
	Kernel: Depends on container host
	Compiler: clang 16.0.6

Fedora 39
	Kernel: Depends on container host
	Compiler: gcc 13.2.1

Fedora 39 (Clang)
	Kernel: Depends on container host
	Compiler: clang 17.0.6

Fedora 40
	Kernel: Depends on container host
	Compiler: gcc 14.1.1

Fedora 40 (Clang)
	Kernel: Depends on container host
	Compiler: clang 18.1.6

openSUSE Leap 15
	Kernel: 5.4.0-167-generic
	Compiler: gcc 7.5.0

RHEL8
	Kernel: 5.4.0-167-generic
	Compiler: gcc 8.5.0 20210514 (Red Hat 8.5.0-20)

RHEL9
	Kernel: Depends on container host
	Compiler: gcc 11.4.1

Ubuntu 20.04
	Kernel: 5.4.0-167-generic
	Compiler: gcc 9.4.0-1ubuntu1~20.04.1

Ubuntu 22.04
	Kernel: 5.4.0-167-generic
	Compiler: gcc 11.4.0

Ubuntu 24.04
	Kernel: 5.4.0-167-generic
	Compiler: gcc 13.2.0

To view detailed results, visit:
https://lab.dpdk.org/results/dashboard/patchsets/30426/

UNH-IOL DPDK Community Lab

To manage your email subscriptions, visit: 
https://lab.dpdk.org/results/dashboard/preferences/subscriptions/