From mboxrd@z Thu Jan  1 00:00:00 1970
Return-Path: <test-report-bounces@dpdk.org>
Received: from mails.dpdk.org (mails.dpdk.org [217.70.189.124])
	by inbox.dpdk.org (Postfix) with ESMTP id B418C455A3
	for <public@inbox.dpdk.org>; Sat,  6 Jul 2024 11:28:41 +0200 (CEST)
Received: from mails.dpdk.org (localhost [127.0.0.1])
	by mails.dpdk.org (Postfix) with ESMTP id B083D4275D;
	Sat,  6 Jul 2024 11:28:41 +0200 (CEST)
Received: from mail-pg1-f226.google.com (mail-pg1-f226.google.com
 [209.85.215.226])
 by mails.dpdk.org (Postfix) with ESMTP id 217854021F
 for <test-report@dpdk.org>; Sat,  6 Jul 2024 11:28:31 +0200 (CEST)
Received: by mail-pg1-f226.google.com with SMTP id
 41be03b00d2f7-70df2135426so1319772a12.2
 for <test-report@dpdk.org>; Sat, 06 Jul 2024 02:28:31 -0700 (PDT)
DKIM-Signature: v=1; a=rsa-sha256; c=relaxed/relaxed;
 d=iol.unh.edu; s=unh-iol; t=1720258110; x=1720862910; darn=dpdk.org;
 h=references:in-reply-to:cc:to:from:subject:message-id:date:from:to
 :cc:subject:date:message-id:reply-to;
 bh=mavR28ZZ8i/uamhvLir94ZozyaEpcCDeyVMQDHOsleM=;
 b=L9opc2c61qY1KCrjpp+QtVZR/2vKkvpPis4KpyQSghxZ9+wHRQriITFSVliM12Asun
 DmlN4IJkjjr0K+FBUlKTbLcuC24XokNwCSoPjp7Jr/nC0r7XXPDQHWPjnzP7540+zjGZ
 bAjWYJ8eDdPHh1cj0Cib/kxcknL4W0Ah42YMU=
X-Google-DKIM-Signature: v=1; a=rsa-sha256; c=relaxed/relaxed;
 d=1e100.net; s=20230601; t=1720258110; x=1720862910;
 h=references:in-reply-to:cc:to:from:subject:message-id:date
 :x-gm-message-state:from:to:cc:subject:date:message-id:reply-to;
 bh=mavR28ZZ8i/uamhvLir94ZozyaEpcCDeyVMQDHOsleM=;
 b=UUM11Yy1iWW10T842Brdwuj3DHqxyhcy2s5SMO9YzYJCKMshu5/6N9DKoT2rrjoE4j
 eEa3iCJ1IjiT7EyjV2ruxqVyTZ3OsHOe3f0BPCGjwQqk2fT8+TrZKH1SeF+fNBvfuen8
 vc/H9GmwwgCBoDB0bVvvn8fXcHRa5FazbHZ8ZADFUn6BRs5DvmruKBqmQ9SXcoRGh5Ry
 fcx3A4WX78vU/ktBSUm+MydIpxL8w8+dVPRM65R3uCNSoy37VsEvvAMgRmVQQzShNOpI
 SQdgqeZhRwWcUeho4wfwXHjXoQF8KKSqkpm64wAs6EiIukZx2czR227UmJsD00pKKCsu
 hg2w==
X-Gm-Message-State: AOJu0Yz/71pZtXkK3P+vQ1m/aN/O3aWJ3ysp1M2tOyGo0uestt065jef
 YJKQGtwkbRD/aOdGr8Cf2jX9PaBrujOm2r6u1jLuWFo1vm3dkE3O+v5vAvpA9n8wmWumE6O9oiZ
 o20uEOhQasNIJZ8fTvATHTnTwZTjZcXEMB0PTtDkl
X-Google-Smtp-Source: AGHT+IGC5oA85LluD79aCn6RkcIwUYMtBXZGiMvJFx4LiMG21wDhzsPZsnpUiUB80mC530/HZIAQdblHW9vp
X-Received: by 2002:a17:902:e54e:b0:1fb:719a:28e2 with SMTP id
 d9443c01a7336-1fb719a312amr2392065ad.21.1720258110161; 
 Sat, 06 Jul 2024 02:28:30 -0700 (PDT)
Received: from postal.iol.unh.edu (postal.iol.unh.edu. [132.177.123.84])
 by smtp-relay.gmail.com with ESMTPS id
 d9443c01a7336-1fb277db961sm1721105ad.48.2024.07.06.02.28.30
 (version=TLS1_2 cipher=ECDHE-ECDSA-AES128-GCM-SHA256 bits=128/128);
 Sat, 06 Jul 2024 02:28:30 -0700 (PDT)
X-Relaying-Domain: iol.unh.edu
Date: Sat, 06 Jul 2024 02:28:30 -0700 (PDT)
Message-ID: <66890e3e.170a0220.b2bee.bea9SMTPIN_ADDED_MISSING@mx.google.com>
Received: from [172.17.0.3] (unknown [172.18.0.215])
 by postal.iol.unh.edu (Postfix) with ESMTP id 4F65660526E2;
 Sat,  6 Jul 2024 05:28:29 -0400 (EDT)
Subject: |PENDING| pw142137 [PATCH] telemetry: lower log level when legacy is
From: dpdklab@iol.unh.edu
To: Test Report <test-report@dpdk.org>
Cc: dpdk-test-reports@iol.unh.edu
In-Reply-To: <20240705090020.481903-2-rjarry@redhat.com>
References: <20240705090020.481903-2-rjarry@redhat.com>
Content-Type: text/plain
X-BeenThere: test-report@dpdk.org
X-Mailman-Version: 2.1.29
Precedence: list
List-Id: automatic DPDK test reports <test-report.dpdk.org>
List-Unsubscribe: <https://mails.dpdk.org/options/test-report>,
 <mailto:test-report-request@dpdk.org?subject=unsubscribe>
List-Archive: <http://mails.dpdk.org/archives/test-report/>
List-Post: <mailto:test-report@dpdk.org>
List-Help: <mailto:test-report-request@dpdk.org?subject=help>
List-Subscribe: <https://mails.dpdk.org/listinfo/test-report>,
 <mailto:test-report-request@dpdk.org?subject=subscribe>
Errors-To: test-report-bounces@dpdk.org

Test-Label: iol-unit-amd64-testing
Test-Status: PENDING
http://dpdk.org/patch/142137

_Testing pending_

Submitter: Robin Jarry <rjarry@redhat.com>
Date: Friday, July 05 2024 09:00:20 
DPDK git baseline: Repo:dpdk
  Branch: master
  CommitID:beb0c321d1e7ebb59d78914c66e82fd936b70f51

142137 --> testing pending

Test environment and result as below:

+-------------------+----------------+
|    Environment    | dpdk_unit_test |
+===================+================+
| CentOS Stream 8   | PASS           |
+-------------------+----------------+
| CentOS Stream 9   | PASS           |
+-------------------+----------------+
| Debian Bullseye   | PASS           |
+-------------------+----------------+
| Fedora 37         | PEND           |
+-------------------+----------------+
| Debian 12         | PEND           |
+-------------------+----------------+
| Fedora 38         | PASS           |
+-------------------+----------------+
| Fedora 38 (Clang) | PEND           |
+-------------------+----------------+
| Fedora 39         | PEND           |
+-------------------+----------------+
| Fedora 39 (Clang) | PEND           |
+-------------------+----------------+
| Fedora 40         | PEND           |
+-------------------+----------------+
| Fedora 40 (Clang) | PEND           |
+-------------------+----------------+
| openSUSE Leap 15  | PEND           |
+-------------------+----------------+
| RHEL8             | PEND           |
+-------------------+----------------+
| RHEL9             | PEND           |
+-------------------+----------------+
| Ubuntu 20.04      | PEND           |
+-------------------+----------------+
| Ubuntu 22.04      | PEND           |
+-------------------+----------------+
| Ubuntu 24.04      | PEND           |
+-------------------+----------------+


CentOS Stream 8
	Kernel: 5.4.0-167-generic
	Compiler: gcc 8.5.0 20210514

CentOS Stream 9
	Kernel: 5.4.0-167-generic
	Compiler: gcc 11.4.1 20230605

Debian Bullseye
	Kernel: 5.4.0-167-generic
	Compiler: gcc 10.2.1-6

Fedora 37
	Kernel: Depends on container host system
	Compiler: gcc 12.3.1

Debian 12
	Kernel: Container Host Kernel
	Compiler: gcc 12.2.0

Fedora 38
	Kernel: Depends on container host
	Compiler: gcc 13.2.1

Fedora 38 (Clang)
	Kernel: Depends on container host
	Compiler: clang 16.0.6

Fedora 39
	Kernel: Depends on container host
	Compiler: gcc 13.2.1

Fedora 39 (Clang)
	Kernel: Depends on container host
	Compiler: clang 17.0.6

Fedora 40
	Kernel: Depends on container host
	Compiler: gcc 14.1.1

Fedora 40 (Clang)
	Kernel: Depends on container host
	Compiler: clang 18.1.6

openSUSE Leap 15
	Kernel: 5.4.0-167-generic
	Compiler: gcc 7.5.0

RHEL8
	Kernel: 5.4.0-167-generic
	Compiler: gcc 8.5.0 20210514 (Red Hat 8.5.0-20)

RHEL9
	Kernel: Depends on container host
	Compiler: gcc 11.4.1

Ubuntu 20.04
	Kernel: 5.4.0-167-generic
	Compiler: gcc 9.4.0-1ubuntu1~20.04.1

Ubuntu 22.04
	Kernel: 5.4.0-167-generic
	Compiler: gcc 11.4.0

Ubuntu 24.04
	Kernel: 5.4.0-167-generic
	Compiler: gcc 13.2.0

To view detailed results, visit:
https://lab.dpdk.org/results/dashboard/patchsets/30426/

UNH-IOL DPDK Community Lab

To manage your email subscriptions, visit: 
https://lab.dpdk.org/results/dashboard/preferences/subscriptions/