From mboxrd@z Thu Jan  1 00:00:00 1970
Return-Path: <test-report-bounces@dpdk.org>
Received: from mails.dpdk.org (mails.dpdk.org [217.70.189.124])
	by inbox.dpdk.org (Postfix) with ESMTP id E1C8F455A3
	for <public@inbox.dpdk.org>; Sat,  6 Jul 2024 11:47:09 +0200 (CEST)
Received: from mails.dpdk.org (localhost [127.0.0.1])
	by mails.dpdk.org (Postfix) with ESMTP id DF19040652;
	Sat,  6 Jul 2024 11:47:09 +0200 (CEST)
Received: from mail-ot1-f98.google.com (mail-ot1-f98.google.com
 [209.85.210.98]) by mails.dpdk.org (Postfix) with ESMTP id AB6C440270
 for <test-report@dpdk.org>; Sat,  6 Jul 2024 11:47:08 +0200 (CEST)
Received: by mail-ot1-f98.google.com with SMTP id
 46e09a7af769-6f855b2499cso1428813a34.1
 for <test-report@dpdk.org>; Sat, 06 Jul 2024 02:47:08 -0700 (PDT)
DKIM-Signature: v=1; a=rsa-sha256; c=relaxed/relaxed;
 d=iol.unh.edu; s=unh-iol; t=1720259228; x=1720864028; darn=dpdk.org;
 h=references:in-reply-to:cc:to:from:subject:message-id:date:from:to
 :cc:subject:date:message-id:reply-to;
 bh=PeqxWfiXJaeW+jo0r+U5kRFhkqm0YsnPg4ZLMq3PxQU=;
 b=L5p26HG2djmx3J3T/vnTgJpF1Dru/NG0qmGKBQyXR7/upz/pFGcyWradn+7lKWizPe
 fvRcs7211o6xno+t30CYgnfMUmUtJVC9m7wQoYPtvw9DybWNQgaWreAOfIjGtxHnkzr2
 tK8zDKRGY2oodstYfmiApfkjltfg9EmMD56Hs=
X-Google-DKIM-Signature: v=1; a=rsa-sha256; c=relaxed/relaxed;
 d=1e100.net; s=20230601; t=1720259228; x=1720864028;
 h=references:in-reply-to:cc:to:from:subject:message-id:date
 :x-gm-message-state:from:to:cc:subject:date:message-id:reply-to;
 bh=PeqxWfiXJaeW+jo0r+U5kRFhkqm0YsnPg4ZLMq3PxQU=;
 b=hk8Wkt4SSrGeDTQ6oYKPvEPZM4NKEfN/+5BwE2+OsEDZ3HZZ7+MExJDm8jMmbbSD0m
 AdJ+QHumHw401pLMMetikD6IBXsqBfJ7lYTSFKVq05NiGef2Zw120VkEtFbUBrqq+hLp
 h4t9tVCiLqlWFoBTauMwD1V17bGTgCM/NqozcJj434s2LgoZ3uKz5jEETlYx8pJlL+E0
 jGEO0PUrN04psGR0+mY/50ijlK1z7qq6abschP+Ux2qE7xfdvmiOIAWBNzGFrJI4W3y5
 ZUFenzx2x3Y4sW0GDGCUuFLxTEq4o8Kcw8YmOwpe0cCuwXjoDBVYwvVQPlKdduWHn9p2
 otfg==
X-Gm-Message-State: AOJu0Yy5MZTCK/+nCSuoJGZec/mnnpoVUgyx3Zoakaup/41qq6w5l2Q/
 7Xa0Je2p6toczzZcVJqSvUg+8F/sjoI5n2ReupZKMWk7ksCOhJXI0bc9JNfL1X1fWJNBIezaBb6
 HbkEgwDOkjjFJ9h/VzsqkRrd7dvrkymXTOzgPAqWjLNpcKwyiczM9Sy/l
X-Google-Smtp-Source: AGHT+IGA+PeB5xoWZpFqOsJ+MLG1XmpmA4zI1dzsffOpgP+1xDD4Lmz53YEd+EMYANtqaTbeYU0OehJnEYW+
X-Received: by 2002:a9d:77c1:0:b0:703:6434:aba8 with SMTP id
 46e09a7af769-7036434acc6mr284107a34.0.1720259227744; 
 Sat, 06 Jul 2024 02:47:07 -0700 (PDT)
Received: from postal.iol.unh.edu (postal.iol.unh.edu.
 [2606:4100:3880:1234::84]) by smtp-relay.gmail.com with ESMTPS id
 46e09a7af769-7035e237ebbsm15623a34.8.2024.07.06.02.47.07
 (version=TLS1_2 cipher=ECDHE-ECDSA-AES128-GCM-SHA256 bits=128/128);
 Sat, 06 Jul 2024 02:47:07 -0700 (PDT)
X-Relaying-Domain: iol.unh.edu
Date: Sat, 06 Jul 2024 02:47:07 -0700 (PDT)
Message-ID: <6689129b.050a0220.1e1c7.1109SMTPIN_ADDED_MISSING@mx.google.com>
Received: from [172.17.0.3] (unknown [172.18.0.217])
 by postal.iol.unh.edu (Postfix) with ESMTP id 35B3E60526E2;
 Sat,  6 Jul 2024 05:47:07 -0400 (EDT)
Subject: |PENDING| pw142137 [PATCH] telemetry: lower log level when legacy is
From: dpdklab@iol.unh.edu
To: Test Report <test-report@dpdk.org>
Cc: dpdk-test-reports@iol.unh.edu
In-Reply-To: <20240705090020.481903-2-rjarry@redhat.com>
References: <20240705090020.481903-2-rjarry@redhat.com>
Content-Type: text/plain
X-BeenThere: test-report@dpdk.org
X-Mailman-Version: 2.1.29
Precedence: list
List-Id: automatic DPDK test reports <test-report.dpdk.org>
List-Unsubscribe: <https://mails.dpdk.org/options/test-report>,
 <mailto:test-report-request@dpdk.org?subject=unsubscribe>
List-Archive: <http://mails.dpdk.org/archives/test-report/>
List-Post: <mailto:test-report@dpdk.org>
List-Help: <mailto:test-report-request@dpdk.org?subject=help>
List-Subscribe: <https://mails.dpdk.org/listinfo/test-report>,
 <mailto:test-report-request@dpdk.org?subject=subscribe>
Errors-To: test-report-bounces@dpdk.org

Test-Label: iol-unit-amd64-testing
Test-Status: PENDING
http://dpdk.org/patch/142137

_Testing pending_

Submitter: Robin Jarry <rjarry@redhat.com>
Date: Friday, July 05 2024 09:00:20 
DPDK git baseline: Repo:dpdk
  Branch: master
  CommitID:beb0c321d1e7ebb59d78914c66e82fd936b70f51

142137 --> testing pending

Test environment and result as below:

+-------------------+----------------+
|    Environment    | dpdk_unit_test |
+===================+================+
| CentOS Stream 8   | PASS           |
+-------------------+----------------+
| CentOS Stream 9   | PASS           |
+-------------------+----------------+
| Debian Bullseye   | PASS           |
+-------------------+----------------+
| Fedora 37         | PASS           |
+-------------------+----------------+
| Debian 12         | PASS           |
+-------------------+----------------+
| Fedora 38         | PASS           |
+-------------------+----------------+
| Fedora 38 (Clang) | PASS           |
+-------------------+----------------+
| Fedora 39         | PASS           |
+-------------------+----------------+
| Fedora 39 (Clang) | PASS           |
+-------------------+----------------+
| Fedora 40         | PASS           |
+-------------------+----------------+
| Fedora 40 (Clang) | PEND           |
+-------------------+----------------+
| openSUSE Leap 15  | PASS           |
+-------------------+----------------+
| RHEL8             | PEND           |
+-------------------+----------------+
| RHEL9             | PEND           |
+-------------------+----------------+
| Ubuntu 20.04      | PEND           |
+-------------------+----------------+
| Ubuntu 22.04      | PEND           |
+-------------------+----------------+
| Ubuntu 24.04      | PEND           |
+-------------------+----------------+


CentOS Stream 8
	Kernel: 5.4.0-167-generic
	Compiler: gcc 8.5.0 20210514

CentOS Stream 9
	Kernel: 5.4.0-167-generic
	Compiler: gcc 11.4.1 20230605

Debian Bullseye
	Kernel: 5.4.0-167-generic
	Compiler: gcc 10.2.1-6

Fedora 37
	Kernel: Depends on container host system
	Compiler: gcc 12.3.1

Debian 12
	Kernel: Container Host Kernel
	Compiler: gcc 12.2.0

Fedora 38
	Kernel: Depends on container host
	Compiler: gcc 13.2.1

Fedora 38 (Clang)
	Kernel: Depends on container host
	Compiler: clang 16.0.6

Fedora 39
	Kernel: Depends on container host
	Compiler: gcc 13.2.1

Fedora 39 (Clang)
	Kernel: Depends on container host
	Compiler: clang 17.0.6

Fedora 40
	Kernel: Depends on container host
	Compiler: gcc 14.1.1

Fedora 40 (Clang)
	Kernel: Depends on container host
	Compiler: clang 18.1.6

openSUSE Leap 15
	Kernel: 5.4.0-167-generic
	Compiler: gcc 7.5.0

RHEL8
	Kernel: 5.4.0-167-generic
	Compiler: gcc 8.5.0 20210514 (Red Hat 8.5.0-20)

RHEL9
	Kernel: Depends on container host
	Compiler: gcc 11.4.1

Ubuntu 20.04
	Kernel: 5.4.0-167-generic
	Compiler: gcc 9.4.0-1ubuntu1~20.04.1

Ubuntu 22.04
	Kernel: 5.4.0-167-generic
	Compiler: gcc 11.4.0

Ubuntu 24.04
	Kernel: 5.4.0-167-generic
	Compiler: gcc 13.2.0

To view detailed results, visit:
https://lab.dpdk.org/results/dashboard/patchsets/30426/

UNH-IOL DPDK Community Lab

To manage your email subscriptions, visit: 
https://lab.dpdk.org/results/dashboard/preferences/subscriptions/