From mboxrd@z Thu Jan  1 00:00:00 1970
Return-Path: <test-report-bounces@dpdk.org>
Received: from mails.dpdk.org (mails.dpdk.org [217.70.189.124])
	by inbox.dpdk.org (Postfix) with ESMTP id 8AA78455A4
	for <public@inbox.dpdk.org>; Sat,  6 Jul 2024 13:06:43 +0200 (CEST)
Received: from mails.dpdk.org (localhost [127.0.0.1])
	by mails.dpdk.org (Postfix) with ESMTP id 8829F40270;
	Sat,  6 Jul 2024 13:06:43 +0200 (CEST)
Received: from mail-oi1-f228.google.com (mail-oi1-f228.google.com
 [209.85.167.228])
 by mails.dpdk.org (Postfix) with ESMTP id 6B6A44025D
 for <test-report@dpdk.org>; Sat,  6 Jul 2024 13:06:42 +0200 (CEST)
Received: by mail-oi1-f228.google.com with SMTP id
 5614622812f47-3d566d5eda9so1183853b6e.0
 for <test-report@dpdk.org>; Sat, 06 Jul 2024 04:06:42 -0700 (PDT)
DKIM-Signature: v=1; a=rsa-sha256; c=relaxed/relaxed;
 d=iol.unh.edu; s=unh-iol; t=1720264001; x=1720868801; darn=dpdk.org;
 h=references:in-reply-to:cc:to:from:subject:message-id:date:from:to
 :cc:subject:date:message-id:reply-to;
 bh=2FUvpxjs3eGZKz8+4z/hPoAzbN9VvRdXkoQkcwjnyZY=;
 b=BlQ/YFHhk/4+xx9JApjIndjhkymjQ2iaADqsKrxUisUveg+7IM+DpvHZ09TdZsSFtD
 g5nDoo3bsamFT6a3ogMMjcLGfbFC4WeIE5fVVjoGN9sZSvtPpdr2buSQZRrltpMzW7O/
 kbIDklEqokE//ArSTUr/+2vD5Dgy4poWYkuco=
X-Google-DKIM-Signature: v=1; a=rsa-sha256; c=relaxed/relaxed;
 d=1e100.net; s=20230601; t=1720264001; x=1720868801;
 h=references:in-reply-to:cc:to:from:subject:message-id:date
 :x-gm-message-state:from:to:cc:subject:date:message-id:reply-to;
 bh=2FUvpxjs3eGZKz8+4z/hPoAzbN9VvRdXkoQkcwjnyZY=;
 b=khsEEUlm7n5dDylKVQ45kBaQyNJrI1BxoHOz5ilitGXkc2BIURi9R29Y4HRqubVH6H
 FKgEOZNM5+/L3ljTY1qw70SbfkfGzKMdUD9VOByLv8CuR7BndOmZsLTYGwPu97+4uDkf
 QrQ704eY2F5dr4hGWpJW6k5JNLfaVjIJ4pk63RwablB/4ddO8V9KpaFP9RK9GTMyaZkF
 SGWK3GNd7BZG8TPnuPVui3Nb0hCCmk/zJPmS7taxGuhc3rXbGxJh9VoVUcB0Upae2DSJ
 8fJleLNovWfx/OPC51C6i1HBDJIOScAPMoSLc1SxSbndL3BpEVdXkfRs/3XKQFDMLiw9
 vMSQ==
X-Gm-Message-State: AOJu0YzgoUW6P9ib5VwuU16+doDbllFG3GlChxeibf2jTElSIhgxYFMs
 MDoYyl4fXfOLZGEp+ugz4cpunPfsqNld+B+3vZvITIGsttWJjsU1JulKrgAz4vCKqw6c7VUDm5H
 iKa/X/ssAgkhfE8aMeKxqofKXfHHnNRPFkj0It6qA3A6743jJ6qZYT1s4
X-Google-Smtp-Source: AGHT+IGzmySfhGI5D5saNR9qgkSFV9ZuoxMNAewfPXrHqpEfJKTew7P90lERrq0DAHV2oFpeW30rFxv+uk+Q
X-Received: by 2002:a05:6808:152a:b0:3d9:245c:4209 with SMTP id
 5614622812f47-3d9245c4596mr2093938b6e.40.1720264001613; 
 Sat, 06 Jul 2024 04:06:41 -0700 (PDT)
Received: from postal.iol.unh.edu (postal.iol.unh.edu.
 [2606:4100:3880:1234::84]) by smtp-relay.gmail.com with ESMTPS id
 d2e1a72fcca58-70b0a4f17dbsm153100b3a.25.2024.07.06.04.06.41
 (version=TLS1_2 cipher=ECDHE-ECDSA-AES128-GCM-SHA256 bits=128/128);
 Sat, 06 Jul 2024 04:06:41 -0700 (PDT)
X-Relaying-Domain: iol.unh.edu
Date: Sat, 06 Jul 2024 04:06:41 -0700 (PDT)
Message-ID: <66892541.050a0220.8b4ec.ab76SMTPIN_ADDED_MISSING@mx.google.com>
Received: from [172.17.0.5] (unknown [172.18.0.217])
 by postal.iol.unh.edu (Postfix) with ESMTP id A46C360526E2;
 Sat,  6 Jul 2024 07:06:40 -0400 (EDT)
Subject: |PENDING| pw142144 [PATCH] driver: crypto: scheduler: fix session si
From: dpdklab@iol.unh.edu
To: Test Report <test-report@dpdk.org>
Cc: dpdk-test-reports@iol.unh.edu
In-Reply-To: <20240705083503.218315-1-jhascoet@kalrayinc.com>
References: <20240705083503.218315-1-jhascoet@kalrayinc.com>
Content-Type: text/plain
X-BeenThere: test-report@dpdk.org
X-Mailman-Version: 2.1.29
Precedence: list
List-Id: automatic DPDK test reports <test-report.dpdk.org>
List-Unsubscribe: <https://mails.dpdk.org/options/test-report>,
 <mailto:test-report-request@dpdk.org?subject=unsubscribe>
List-Archive: <http://mails.dpdk.org/archives/test-report/>
List-Post: <mailto:test-report@dpdk.org>
List-Help: <mailto:test-report-request@dpdk.org?subject=help>
List-Subscribe: <https://mails.dpdk.org/listinfo/test-report>,
 <mailto:test-report-request@dpdk.org?subject=subscribe>
Errors-To: test-report-bounces@dpdk.org

Test-Label: iol-unit-amd64-testing
Test-Status: PENDING
http://dpdk.org/patch/142144

_Testing pending_

Submitter: jhascoet <ju.hascoet@gmail.com>
Date: Friday, July 05 2024 08:35:03 
DPDK git baseline: Repo:dpdk
  Branch: master
  CommitID:ba268b0bb43b56174e3d9345a27e6b1675a5a991

142144 --> testing pending

Test environment and result as below:

+-------------------+----------------+
|    Environment    | dpdk_unit_test |
+===================+================+
| CentOS Stream 8   | PASS           |
+-------------------+----------------+
| CentOS Stream 9   | PASS           |
+-------------------+----------------+
| Debian Bullseye   | PASS           |
+-------------------+----------------+
| Debian 12         | PASS           |
+-------------------+----------------+
| Fedora 37         | PASS           |
+-------------------+----------------+
| Fedora 38         | PASS           |
+-------------------+----------------+
| Fedora 38 (Clang) | PASS           |
+-------------------+----------------+
| Fedora 39         | PASS           |
+-------------------+----------------+
| Fedora 39 (Clang) | PASS           |
+-------------------+----------------+
| Fedora 40         | PASS           |
+-------------------+----------------+
| Fedora 40 (Clang) | PASS           |
+-------------------+----------------+
| RHEL8             | PASS           |
+-------------------+----------------+
| openSUSE Leap 15  | PEND           |
+-------------------+----------------+
| Ubuntu 20.04      | PEND           |
+-------------------+----------------+
| RHEL9             | PASS           |
+-------------------+----------------+
| Ubuntu 22.04      | PASS           |
+-------------------+----------------+
| Ubuntu 24.04      | PEND           |
+-------------------+----------------+


CentOS Stream 8
	Kernel: 5.4.0-167-generic
	Compiler: gcc 8.5.0 20210514

CentOS Stream 9
	Kernel: 5.4.0-167-generic
	Compiler: gcc 11.4.1 20230605

Debian Bullseye
	Kernel: 5.4.0-167-generic
	Compiler: gcc 10.2.1-6

Debian 12
	Kernel: Container Host Kernel
	Compiler: gcc 12.2.0

Fedora 37
	Kernel: Depends on container host system
	Compiler: gcc 12.3.1

Fedora 38
	Kernel: Depends on container host
	Compiler: gcc 13.2.1

Fedora 38 (Clang)
	Kernel: Depends on container host
	Compiler: clang 16.0.6

Fedora 39
	Kernel: Depends on container host
	Compiler: gcc 13.2.1

Fedora 39 (Clang)
	Kernel: Depends on container host
	Compiler: clang 17.0.6

Fedora 40
	Kernel: Depends on container host
	Compiler: gcc 14.1.1

Fedora 40 (Clang)
	Kernel: Depends on container host
	Compiler: clang 18.1.6

RHEL8
	Kernel: 5.4.0-167-generic
	Compiler: gcc 8.5.0 20210514 (Red Hat 8.5.0-20)

openSUSE Leap 15
	Kernel: 5.4.0-167-generic
	Compiler: gcc 7.5.0

Ubuntu 20.04
	Kernel: 5.4.0-167-generic
	Compiler: gcc 9.4.0-1ubuntu1~20.04.1

RHEL9
	Kernel: Depends on container host
	Compiler: gcc 11.4.1

Ubuntu 22.04
	Kernel: 5.4.0-167-generic
	Compiler: gcc 11.4.0

Ubuntu 24.04
	Kernel: 5.4.0-167-generic
	Compiler: gcc 13.2.0

To view detailed results, visit:
https://lab.dpdk.org/results/dashboard/patchsets/30429/

UNH-IOL DPDK Community Lab

To manage your email subscriptions, visit: 
https://lab.dpdk.org/results/dashboard/preferences/subscriptions/