From mboxrd@z Thu Jan  1 00:00:00 1970
Return-Path: <test-report-bounces@dpdk.org>
Received: from mails.dpdk.org (mails.dpdk.org [217.70.189.124])
	by inbox.dpdk.org (Postfix) with ESMTP id 12DB6455A4
	for <public@inbox.dpdk.org>; Sat,  6 Jul 2024 13:24:20 +0200 (CEST)
Received: from mails.dpdk.org (localhost [127.0.0.1])
	by mails.dpdk.org (Postfix) with ESMTP id 0F43740270;
	Sat,  6 Jul 2024 13:24:20 +0200 (CEST)
Received: from mail-qv1-f100.google.com (mail-qv1-f100.google.com
 [209.85.219.100])
 by mails.dpdk.org (Postfix) with ESMTP id ADB7A4025D
 for <test-report@dpdk.org>; Sat,  6 Jul 2024 13:24:09 +0200 (CEST)
Received: by mail-qv1-f100.google.com with SMTP id
 6a1803df08f44-6b5dc36b895so13688326d6.1
 for <test-report@dpdk.org>; Sat, 06 Jul 2024 04:24:09 -0700 (PDT)
DKIM-Signature: v=1; a=rsa-sha256; c=relaxed/relaxed;
 d=iol.unh.edu; s=unh-iol; t=1720265049; x=1720869849; darn=dpdk.org;
 h=references:in-reply-to:cc:to:from:subject:message-id:date:from:to
 :cc:subject:date:message-id:reply-to;
 bh=o02zybHi4LTXQkc0jN9XAfwgSH0TLbONLeEaE9A7348=;
 b=dzmgNpc5k+gk8AE4hj0OmmTUJypTzinzXT2+YF/yOVSijpNh0o16m8R4he4K+5YXBv
 UzeER9t3A6LpJojLhkl8BmhSYlmtkDxDD9w9dRnyTfNdRv2xaaiR6Mj3LADnrdmfDnDx
 IXy8yt47zzYBIZBq6vbtkgY94DdRCoHY0Dbp0=
X-Google-DKIM-Signature: v=1; a=rsa-sha256; c=relaxed/relaxed;
 d=1e100.net; s=20230601; t=1720265049; x=1720869849;
 h=references:in-reply-to:cc:to:from:subject:message-id:date
 :x-gm-message-state:from:to:cc:subject:date:message-id:reply-to;
 bh=o02zybHi4LTXQkc0jN9XAfwgSH0TLbONLeEaE9A7348=;
 b=MAt/9FXphJLIoAYHd8G5WbjP6x8D3GPZ4GVluzW7L31sWHyh6baMvftZ0NLIKuZSAX
 kNSfNabWWrPZ1tJ5+qj4SJpBJPcgUBN08fe6R1dQmHITQx68VyIClisvCHgVjjdR5Sna
 sDTZCKh110JAiHVFmzYHqYHUdaSVKnXlaY5OBl/pnc8ARuoQDUZ0IkShVNr+4b3uBxE6
 uqd8ZPJujOmv7Gmi0Afwyg3EWcdp52RmxGtDr5PMB3CG3cltkwnr6m5zGGXIei4jlBq0
 DQ3oqYXcOwTgkpV76z8SW3iceu1hc1zjL8DESXnkrZkILCvf7kEy78yGGM+VKSudhwGv
 aqig==
X-Gm-Message-State: AOJu0Yx1tg+yMaIFqAjIbIKiT8BHZJXJcErJ+vrDWJELLrRPKIrBoE8e
 0cSJcKHfGLHbQ3+f9vBYA+C3NfRJieZCpoVCOmWg+PKHnrbWRuCc26ww+Oqm29WgGCGdM5YW0zF
 2M+cC0z0tD6R2ExJpH3iWyDOQ7jzrXpEHKYsZ1Im/
X-Google-Smtp-Source: AGHT+IGf4y+m+wdJMlpmnT1BSPoMUQjFlkK9vJqecoudPpbznpzcpP9e4HEkjW8KXCVJp3yb6FpyV9XqvZVb
X-Received: by 2002:a05:6214:5012:b0:6b5:d663:bb51 with SMTP id
 6a1803df08f44-6b5ecfab283mr85865906d6.14.1720265048998; 
 Sat, 06 Jul 2024 04:24:08 -0700 (PDT)
Received: from postal.iol.unh.edu (postal.iol.unh.edu. [132.177.123.84])
 by smtp-relay.gmail.com with ESMTPS id
 6a1803df08f44-6b5f3dcd84csm1747326d6.34.2024.07.06.04.24.08
 (version=TLS1_2 cipher=ECDHE-ECDSA-AES128-GCM-SHA256 bits=128/128);
 Sat, 06 Jul 2024 04:24:08 -0700 (PDT)
X-Relaying-Domain: iol.unh.edu
Date: Sat, 06 Jul 2024 04:24:08 -0700 (PDT)
Message-ID: <66892958.d40a0220.5fdce.c6d7SMTPIN_ADDED_MISSING@mx.google.com>
Received: from [172.21.0.8] (unknown [172.18.0.240])
 by postal.iol.unh.edu (Postfix) with ESMTP id ADC9660526E2;
 Sat,  6 Jul 2024 07:24:08 -0400 (EDT)
Subject: |PENDING| pw142144 [PATCH] driver: crypto: scheduler: fix session si
From: dpdklab@iol.unh.edu
To: Test Report <test-report@dpdk.org>
Cc: dpdk-test-reports@iol.unh.edu
In-Reply-To: <20240705083503.218315-1-jhascoet@kalrayinc.com>
References: <20240705083503.218315-1-jhascoet@kalrayinc.com>
Content-Type: text/plain
X-BeenThere: test-report@dpdk.org
X-Mailman-Version: 2.1.29
Precedence: list
List-Id: automatic DPDK test reports <test-report.dpdk.org>
List-Unsubscribe: <https://mails.dpdk.org/options/test-report>,
 <mailto:test-report-request@dpdk.org?subject=unsubscribe>
List-Archive: <http://mails.dpdk.org/archives/test-report/>
List-Post: <mailto:test-report@dpdk.org>
List-Help: <mailto:test-report-request@dpdk.org?subject=help>
List-Subscribe: <https://mails.dpdk.org/listinfo/test-report>,
 <mailto:test-report-request@dpdk.org?subject=subscribe>
Errors-To: test-report-bounces@dpdk.org

Test-Label: iol-unit-amd64-testing
Test-Status: PENDING
http://dpdk.org/patch/142144

_Testing pending_

Submitter: jhascoet <ju.hascoet@gmail.com>
Date: Friday, July 05 2024 08:35:03 
DPDK git baseline: Repo:dpdk
  Branch: master
  CommitID:ba268b0bb43b56174e3d9345a27e6b1675a5a991

142144 --> testing pending

Test environment and result as below:

+-------------------+----------------+
|    Environment    | dpdk_unit_test |
+===================+================+
| CentOS Stream 8   | PASS           |
+-------------------+----------------+
| CentOS Stream 9   | PASS           |
+-------------------+----------------+
| Debian Bullseye   | PASS           |
+-------------------+----------------+
| Debian 12         | PASS           |
+-------------------+----------------+
| Fedora 37         | PASS           |
+-------------------+----------------+
| Fedora 38         | PASS           |
+-------------------+----------------+
| Fedora 38 (Clang) | PASS           |
+-------------------+----------------+
| Fedora 39         | PASS           |
+-------------------+----------------+
| Fedora 39 (Clang) | PASS           |
+-------------------+----------------+
| Fedora 40         | PASS           |
+-------------------+----------------+
| Fedora 40 (Clang) | PASS           |
+-------------------+----------------+
| RHEL8             | PASS           |
+-------------------+----------------+
| openSUSE Leap 15  | PASS           |
+-------------------+----------------+
| Ubuntu 20.04      | PEND           |
+-------------------+----------------+
| RHEL9             | PASS           |
+-------------------+----------------+
| Ubuntu 22.04      | PASS           |
+-------------------+----------------+
| Ubuntu 24.04      | PASS           |
+-------------------+----------------+


CentOS Stream 8
	Kernel: 5.4.0-167-generic
	Compiler: gcc 8.5.0 20210514

CentOS Stream 9
	Kernel: 5.4.0-167-generic
	Compiler: gcc 11.4.1 20230605

Debian Bullseye
	Kernel: 5.4.0-167-generic
	Compiler: gcc 10.2.1-6

Debian 12
	Kernel: Container Host Kernel
	Compiler: gcc 12.2.0

Fedora 37
	Kernel: Depends on container host system
	Compiler: gcc 12.3.1

Fedora 38
	Kernel: Depends on container host
	Compiler: gcc 13.2.1

Fedora 38 (Clang)
	Kernel: Depends on container host
	Compiler: clang 16.0.6

Fedora 39
	Kernel: Depends on container host
	Compiler: gcc 13.2.1

Fedora 39 (Clang)
	Kernel: Depends on container host
	Compiler: clang 17.0.6

Fedora 40
	Kernel: Depends on container host
	Compiler: gcc 14.1.1

Fedora 40 (Clang)
	Kernel: Depends on container host
	Compiler: clang 18.1.6

RHEL8
	Kernel: 5.4.0-167-generic
	Compiler: gcc 8.5.0 20210514 (Red Hat 8.5.0-20)

openSUSE Leap 15
	Kernel: 5.4.0-167-generic
	Compiler: gcc 7.5.0

Ubuntu 20.04
	Kernel: 5.4.0-167-generic
	Compiler: gcc 9.4.0-1ubuntu1~20.04.1

RHEL9
	Kernel: Depends on container host
	Compiler: gcc 11.4.1

Ubuntu 22.04
	Kernel: 5.4.0-167-generic
	Compiler: gcc 11.4.0

Ubuntu 24.04
	Kernel: 5.4.0-167-generic
	Compiler: gcc 13.2.0

To view detailed results, visit:
https://lab.dpdk.org/results/dashboard/patchsets/30429/

UNH-IOL DPDK Community Lab

To manage your email subscriptions, visit: 
https://lab.dpdk.org/results/dashboard/preferences/subscriptions/