From mboxrd@z Thu Jan  1 00:00:00 1970
Return-Path: <test-report-bounces@dpdk.org>
Received: from mails.dpdk.org (mails.dpdk.org [217.70.189.124])
	by inbox.dpdk.org (Postfix) with ESMTP id E649A455A7
	for <public@inbox.dpdk.org>; Sat,  6 Jul 2024 19:53:25 +0200 (CEST)
Received: from mails.dpdk.org (localhost [127.0.0.1])
	by mails.dpdk.org (Postfix) with ESMTP id DF6A040264;
	Sat,  6 Jul 2024 19:53:25 +0200 (CEST)
Received: from mail-vs1-f99.google.com (mail-vs1-f99.google.com
 [209.85.217.99]) by mails.dpdk.org (Postfix) with ESMTP id CBD324025D
 for <test-report@dpdk.org>; Sat,  6 Jul 2024 19:53:24 +0200 (CEST)
Received: by mail-vs1-f99.google.com with SMTP id
 ada2fe7eead31-48ffc762640so568733137.3
 for <test-report@dpdk.org>; Sat, 06 Jul 2024 10:53:24 -0700 (PDT)
DKIM-Signature: v=1; a=rsa-sha256; c=relaxed/relaxed;
 d=iol.unh.edu; s=unh-iol; t=1720288404; x=1720893204; darn=dpdk.org;
 h=references:in-reply-to:cc:to:from:subject:message-id:date:from:to
 :cc:subject:date:message-id:reply-to;
 bh=7BgL7dJ1h2UObj7oqUdWpT1VPt4Dq219vbsZiGdFs/E=;
 b=adsxTHwMCNfKTUDAtTksYZkRenPTEkkUarmltCEyf+PW/zHt2vjKCaBL7tTmBzMqQs
 fT6Er9sYu4JH6nfIk3wviWkbv2yovyz+oyp+92suam3pqzaJ2IEAs395Cgf89FX7onmT
 meEXOVUq/F22sRk9zxP2dCucLbka/7F0+SJMU=
X-Google-DKIM-Signature: v=1; a=rsa-sha256; c=relaxed/relaxed;
 d=1e100.net; s=20230601; t=1720288404; x=1720893204;
 h=references:in-reply-to:cc:to:from:subject:message-id:date
 :x-gm-message-state:from:to:cc:subject:date:message-id:reply-to;
 bh=7BgL7dJ1h2UObj7oqUdWpT1VPt4Dq219vbsZiGdFs/E=;
 b=S/+BrPcUqmcpGacWRT+YjYM7XJnImF7D04nZcsCT7JrhLS0OtTMKXdXjNuJEvHkY3N
 D74mVs+koKSSADajbJiYdRiiptPn6r38mL/eG17rfXeOOr1809tFQIuxc6BeYXR39z9Q
 uhu1qkwTfxGyFBd40qgDIS5XqUgKJQoKzI9O4NUztcRbC94bRoqkATBnBoYNLPDeKqKN
 GS9PqgkRFT8+0LCqtOCPyuKx7k1amQIeC6hezAxcBjCPTci4EsP5i5HUAJ17fJkG+FZ/
 lOj/ZDSuKIo4mzCcQ606gQe4t3Qz7VS2zeKt3fyxodMwttFSGRB/XE7z/XTL2/Y5ZAas
 0UTg==
X-Gm-Message-State: AOJu0YymstlF4w0iOdfKHlnEtyYzfprhIqDhMojfLMXiNHUAUQ7zgGhY
 yxhbVVrWnCE5xaJ8jTmkOnUSc525ztYQURAfnQTGQefmUzFjjVpFsF85P8XQwXycoBvocdF0uB8
 FnXQcQeqAAccHoDTa/o4XRmIZcDCXSpK06ZgSykBHO95xA0tCAzlAtAAY
X-Google-Smtp-Source: AGHT+IFK6GJYy/EcdBzvVYim2HyPfN4LYoP6Qs+cACvVxKfzYt3rBwYfNYz9Ugqy/ITrxUoeCEavir0CS9/W
X-Received: by 2002:a05:6102:4a4b:b0:48f:95f5:5079 with SMTP id
 ada2fe7eead31-48fee7f49a1mr9377550137.33.1720288403466; 
 Sat, 06 Jul 2024 10:53:23 -0700 (PDT)
Received: from postal.iol.unh.edu (postal.iol.unh.edu.
 [2606:4100:3880:1234::84]) by smtp-relay.gmail.com with ESMTPS id
 6a1803df08f44-6b5eed8d5f3sm2650616d6.50.2024.07.06.10.53.23
 (version=TLS1_2 cipher=ECDHE-ECDSA-AES128-GCM-SHA256 bits=128/128);
 Sat, 06 Jul 2024 10:53:23 -0700 (PDT)
X-Relaying-Domain: iol.unh.edu
Date: Sat, 06 Jul 2024 10:53:23 -0700 (PDT)
Message-ID: <66898493.050a0220.3aa0b.335aSMTPIN_ADDED_MISSING@mx.google.com>
Received: from [172.17.0.3] (unknown [172.18.0.217])
 by postal.iol.unh.edu (Postfix) with ESMTP id 2DAE760526E2;
 Sat,  6 Jul 2024 13:53:23 -0400 (EDT)
Subject: |PENDING| pw142143-142142 [PATCH] [v2,4/4] cfgfile: add strict parse
From: dpdklab@iol.unh.edu
To: Test Report <test-report@dpdk.org>
Cc: dpdk-test-reports@iol.unh.edu
In-Reply-To: <20240705093115.4437-5-fengchengwen@huawei.com>
References: <20240705093115.4437-5-fengchengwen@huawei.com>
Content-Type: text/plain
X-BeenThere: test-report@dpdk.org
X-Mailman-Version: 2.1.29
Precedence: list
List-Id: automatic DPDK test reports <test-report.dpdk.org>
List-Unsubscribe: <https://mails.dpdk.org/options/test-report>,
 <mailto:test-report-request@dpdk.org?subject=unsubscribe>
List-Archive: <http://mails.dpdk.org/archives/test-report/>
List-Post: <mailto:test-report@dpdk.org>
List-Help: <mailto:test-report-request@dpdk.org?subject=help>
List-Subscribe: <https://mails.dpdk.org/listinfo/test-report>,
 <mailto:test-report-request@dpdk.org?subject=subscribe>
Errors-To: test-report-bounces@dpdk.org

Test-Label: iol-unit-amd64-testing
Test-Status: PENDING
http://dpdk.org/patch/142142

_Testing pending_

Submitter: fengchengwen <fengchengwen@huawei.com>
Date: Friday, July 05 2024 09:31:15 
DPDK git baseline: Repo:dpdk
  Branch: master
  CommitID:fcfb19cda4f6439f260cdeabb6c44d3c6f0d5fc4

142143-142142 --> testing pending

Test environment and result as below:

+---------------------+----------------+
|     Environment     | dpdk_unit_test |
+=====================+================+
| CentOS Stream 8     | PASS           |
+---------------------+----------------+
| Debian Bullseye     | PASS           |
+---------------------+----------------+
| CentOS Stream 9     | PASS           |
+---------------------+----------------+
| Fedora 37           | PASS           |
+---------------------+----------------+
| Debian 12           | PASS           |
+---------------------+----------------+
| Fedora 38           | PASS           |
+---------------------+----------------+
| Fedora 38 (Clang)   | PASS           |
+---------------------+----------------+
| Fedora 39           | PASS           |
+---------------------+----------------+
| Fedora 39 (Clang)   | PASS           |
+---------------------+----------------+
| Fedora 40           | PASS           |
+---------------------+----------------+
| Fedora 40 (Clang)   | PASS           |
+---------------------+----------------+
| openSUSE Leap 15    | PASS           |
+---------------------+----------------+
| RHEL8               | PASS           |
+---------------------+----------------+
| RHEL9               | PASS           |
+---------------------+----------------+
| Ubuntu 20.04        | PASS           |
+---------------------+----------------+
| Ubuntu 22.04        | PASS           |
+---------------------+----------------+
| Ubuntu 24.04        | PASS           |
+---------------------+----------------+
| Windows Server 2022 | PEND           |
+---------------------+----------------+
| Windows Server 2019 | PASS           |
+---------------------+----------------+


CentOS Stream 8
	Kernel: 5.4.0-167-generic
	Compiler: gcc 8.5.0 20210514

Debian Bullseye
	Kernel: 5.4.0-167-generic
	Compiler: gcc 10.2.1-6

CentOS Stream 9
	Kernel: 5.4.0-167-generic
	Compiler: gcc 11.4.1 20230605

Fedora 37
	Kernel: Depends on container host system
	Compiler: gcc 12.3.1

Debian 12
	Kernel: Container Host Kernel
	Compiler: gcc 12.2.0

Fedora 38
	Kernel: Depends on container host
	Compiler: gcc 13.2.1

Fedora 38 (Clang)
	Kernel: Depends on container host
	Compiler: clang 16.0.6

Fedora 39
	Kernel: Depends on container host
	Compiler: gcc 13.2.1

Fedora 39 (Clang)
	Kernel: Depends on container host
	Compiler: clang 17.0.6

Fedora 40
	Kernel: Depends on container host
	Compiler: gcc 14.1.1

Fedora 40 (Clang)
	Kernel: Depends on container host
	Compiler: clang 18.1.6

openSUSE Leap 15
	Kernel: 5.4.0-167-generic
	Compiler: gcc 7.5.0

RHEL8
	Kernel: 5.4.0-167-generic
	Compiler: gcc 8.5.0 20210514 (Red Hat 8.5.0-20)

RHEL9
	Kernel: Depends on container host
	Compiler: gcc 11.4.1

Ubuntu 20.04
	Kernel: 5.4.0-167-generic
	Compiler: gcc 9.4.0-1ubuntu1~20.04.1

Ubuntu 22.04
	Kernel: 5.4.0-167-generic
	Compiler: gcc 11.4.0

Ubuntu 24.04
	Kernel: 5.4.0-167-generic
	Compiler: gcc 13.2.0

Windows Server 2022
	Kernel: 10.0.20348.2031
	Compiler: clang 15.0.7, gcc 8.1.0 (MinGW), and MSVC VS 17.9

Windows Server 2019
	Kernel: 10.0.17763
	Compiler: clang 14.0 and gcc 8.1.0 (MinGW)

To view detailed results, visit:
https://lab.dpdk.org/results/dashboard/patchsets/30428/

UNH-IOL DPDK Community Lab

To manage your email subscriptions, visit: 
https://lab.dpdk.org/results/dashboard/preferences/subscriptions/