From mboxrd@z Thu Jan  1 00:00:00 1970
Return-Path: <test-report-bounces@dpdk.org>
Received: from mails.dpdk.org (mails.dpdk.org [217.70.189.124])
	by inbox.dpdk.org (Postfix) with ESMTP id CBB91455A8
	for <public@inbox.dpdk.org>; Sat,  6 Jul 2024 20:01:23 +0200 (CEST)
Received: from mails.dpdk.org (localhost [127.0.0.1])
	by mails.dpdk.org (Postfix) with ESMTP id C599340264;
	Sat,  6 Jul 2024 20:01:23 +0200 (CEST)
Received: from mail-il1-f228.google.com (mail-il1-f228.google.com
 [209.85.166.228])
 by mails.dpdk.org (Postfix) with ESMTP id F19874025D
 for <test-report@dpdk.org>; Sat,  6 Jul 2024 20:01:22 +0200 (CEST)
Received: by mail-il1-f228.google.com with SMTP id
 e9e14a558f8ab-3818c2d364cso11041605ab.1
 for <test-report@dpdk.org>; Sat, 06 Jul 2024 11:01:22 -0700 (PDT)
DKIM-Signature: v=1; a=rsa-sha256; c=relaxed/relaxed;
 d=iol.unh.edu; s=unh-iol; t=1720288882; x=1720893682; darn=dpdk.org;
 h=references:in-reply-to:cc:to:from:subject:message-id:date:from:to
 :cc:subject:date:message-id:reply-to;
 bh=WL0GcX7K+auY0cscO7dLX6lAj3wLmw7je+Iop9qYjC4=;
 b=CNQ/Q4AJpIu7gKx9fveQbarkLBBEWyPuK4jg13zkaTmKtVZvNyRSPZ+JEugrY1Z9Cm
 HWeUkcmjuDxb+2yHzOSx6e11nmS80WPhQQEMqH5/mOPlgZc0YL7mtkp+/DFKli8x7TmC
 7kYYr5VammWi8FI6IMUE1sQkvTQmI1eKJi/V8=
X-Google-DKIM-Signature: v=1; a=rsa-sha256; c=relaxed/relaxed;
 d=1e100.net; s=20230601; t=1720288882; x=1720893682;
 h=references:in-reply-to:cc:to:from:subject:message-id:date
 :x-gm-message-state:from:to:cc:subject:date:message-id:reply-to;
 bh=WL0GcX7K+auY0cscO7dLX6lAj3wLmw7je+Iop9qYjC4=;
 b=brlMF72CgdosAY5zN2A3KDJjsGuw2gnOL7Q8VCDLHqOM3GKJZuLi1QMxsVo+T6T22z
 wXKetjkTMuoyMFMdviHOSu2e2QVfajPFJf3hSXhvYEPoYqBJwKOGJDcvTipYxaHTcyS5
 0qfyoMBn/CKO3zLs8GwWpiszpWqYQ1hfpu1NCg4sqXAr7jvSxsqbRYJOpJJ3aTwrI4MP
 4BmlopQgnJeem0iYvIP5m5UdwdTXFCSan0AZVXe/hvhCQNKm3IYGL6T+E7t+NHutfPH9
 6pxc0K2u5y0KnRWmCGHxwPaN8j+6a3aDzOoZV/U8biLEsGb0NcE/qKdJUZgbcn+rYDpc
 gyww==
X-Gm-Message-State: AOJu0YxFEwtuYbDzrHnd63rbrCu6RQXE9Exde2sLU8dC5fIOMa/CUPDR
 pX1CEk7XSky5bY/ymHDNWSAK3ZW4q4pIaN9Bm2cVqo3O8CqBs6rWjAF6u+aup1IuURvDVoRywUp
 462u0hRQJHza3CxB8BeARETZOfKArf9uRyx+bBtzha33uisYQNeDhoa15
X-Google-Smtp-Source: AGHT+IH9L1waoK59QaA0AJysXcUwNWHAvLMdDAei9fPqHjwxtZueSw5tR4m160s77csAppmRE27vlBIPmfJS
X-Received: by 2002:a92:c24b:0:b0:375:be9e:34da with SMTP id
 e9e14a558f8ab-38398b02a48mr94901475ab.2.1720288882424; 
 Sat, 06 Jul 2024 11:01:22 -0700 (PDT)
Received: from postal.iol.unh.edu (postal.iol.unh.edu.
 [2606:4100:3880:1234::84]) by smtp-relay.gmail.com with ESMTPS id
 e9e14a558f8ab-385de8dcbf8sm1092485ab.64.2024.07.06.11.01.22
 (version=TLS1_2 cipher=ECDHE-ECDSA-AES128-GCM-SHA256 bits=128/128);
 Sat, 06 Jul 2024 11:01:22 -0700 (PDT)
X-Relaying-Domain: iol.unh.edu
Date: Sat, 06 Jul 2024 11:01:22 -0700 (PDT)
Message-ID: <66898672.050a0220.c7aaa.84b4SMTPIN_ADDED_MISSING@mx.google.com>
Received: from [172.17.0.3] (unknown [172.18.0.217])
 by postal.iol.unh.edu (Postfix) with ESMTP id DE79D60526E2;
 Sat,  6 Jul 2024 14:01:21 -0400 (EDT)
Subject: |PENDING| pw142146-142147 [PATCH] [v4,2/2] net/cpfl: fix +ve error c
From: dpdklab@iol.unh.edu
To: Test Report <test-report@dpdk.org>
Cc: dpdk-test-reports@iol.unh.edu
In-Reply-To: <20240705130515.3090598-3-soumyadeep.hore@intel.com>
References: <20240705130515.3090598-3-soumyadeep.hore@intel.com>
Content-Type: text/plain
X-BeenThere: test-report@dpdk.org
X-Mailman-Version: 2.1.29
Precedence: list
List-Id: automatic DPDK test reports <test-report.dpdk.org>
List-Unsubscribe: <https://mails.dpdk.org/options/test-report>,
 <mailto:test-report-request@dpdk.org?subject=unsubscribe>
List-Archive: <http://mails.dpdk.org/archives/test-report/>
List-Post: <mailto:test-report@dpdk.org>
List-Help: <mailto:test-report-request@dpdk.org?subject=help>
List-Subscribe: <https://mails.dpdk.org/listinfo/test-report>,
 <mailto:test-report-request@dpdk.org?subject=subscribe>
Errors-To: test-report-bounces@dpdk.org

Test-Label: iol-compile-arm64-testing
Test-Status: PENDING
http://dpdk.org/patch/142147

_Testing pending_

Submitter: Soumyadeep Hore <soumyadeep.hore@intel.com>
Date: Friday, July 05 2024 13:05:15 
DPDK git baseline: Repo:dpdk
  Branch: master
  CommitID:fcfb19cda4f6439f260cdeabb6c44d3c6f0d5fc4

142146-142147 --> testing pending

Test environment and result as below:

+----------------------------------------+--------------------+
|              Environment               | dpdk_meson_compile |
+========================================+====================+
| RHEL9 (ARM)                            | PASS               |
+----------------------------------------+--------------------+
| Ubuntu 20.04 ARM GCC Cross Compile     | PASS               |
+----------------------------------------+--------------------+
| Ubuntu 20.04 ARM SVE                   | PASS               |
+----------------------------------------+--------------------+
| Debian 12 with MUSDK                   | PASS               |
+----------------------------------------+--------------------+
| Fedora 37 (ARM)                        | PASS               |
+----------------------------------------+--------------------+
| Fedora 38 (ARM)                        | PASS               |
+----------------------------------------+--------------------+
| Fedora 38 (ARM Clang)                  | PASS               |
+----------------------------------------+--------------------+
| Fedora 39 (ARM)                        | PASS               |
+----------------------------------------+--------------------+
| Fedora 39 (ARM Clang)                  | PEND               |
+----------------------------------------+--------------------+
| Fedora 40 (ARM)                        | PASS               |
+----------------------------------------+--------------------+
| Fedora 40 (ARM Clang)                  | PASS               |
+----------------------------------------+--------------------+
| Ubuntu 20.04 (ARM)                     | PASS               |
+----------------------------------------+--------------------+
| Ubuntu 22.04 (ARM)                     | PASS               |
+----------------------------------------+--------------------+
| Ubuntu 24.04 (ARM)                     | PASS               |
+----------------------------------------+--------------------+
| CentOS Stream 9 (ARM)                  | PASS               |
+----------------------------------------+--------------------+
| Debian 11 (Buster) (ARM)               | PASS               |
+----------------------------------------+--------------------+
| Debian 12 (arm)                        | PASS               |
+----------------------------------------+--------------------+
| Ubuntu 20.04 ARM Clang Cross Compile   | PASS               |
+----------------------------------------+--------------------+
| Ubuntu 20.04 aarch32 GCC Cross Compile | PASS               |
+----------------------------------------+--------------------+


RHEL9 (ARM)
	Kernel: Depends on container host
	Compiler: gcc 11.4.1

Ubuntu 20.04 ARM GCC Cross Compile
	Kernel: 5.4.0-167-generic
	Compiler: aarch64-linux-gnu-gcc (Ubuntu 9.4.0-1ubuntu1~20.04.2) 9.4.0

Ubuntu 20.04 ARM SVE
	Kernel: 5.4.0-167-generic
	Compiler: gcc (Ubuntu 10.5.0-1ubuntu1~20.04) 10.5.0

Debian 12 with MUSDK
	Kernel: Container Host Kernel
	Compiler: gcc 12.2.0

Fedora 37 (ARM)
	Kernel: Depends on container host
	Compiler: gcc 12.3.1

Fedora 38 (ARM)
	Kernel: Depends on container host
	Compiler: gcc 13.2.1

Fedora 38 (ARM Clang)
	Kernel: Depends on container host
	Compiler: clang 16.0.6

Fedora 39 (ARM)
	Kernel: Depends on container host
	Compiler: gcc 13.2.1

Fedora 39 (ARM Clang)
	Kernel: Depends on container host
	Compiler: clang 17.0.6

Fedora 40 (ARM)
	Kernel: Depends on container host
	Compiler: gcc 14.1.1

Fedora 40 (ARM Clang)
	Kernel: Depends on container host
	Compiler: clang 18.1.6

Ubuntu 20.04 (ARM)
	Kernel: Container Host Kernel
	Compiler: gcc 9.4.0

Ubuntu 22.04 (ARM)
	Kernel: Container Host Kernel
	Compiler: gcc 11.4.0

Ubuntu 24.04 (ARM)
	Kernel: 5.4.0-167-generic
	Compiler: gcc 13.2.0

CentOS Stream 9 (ARM)
	Kernel: Container Host Kernel
	Compiler: gcc 11.4.1

Debian 11 (Buster) (ARM)
	Kernel: Container Host Kernel
	Compiler: gcc 10.2.1

Debian 12 (arm)
	Kernel: Container Host Kernel
	Compiler: gcc 12.2.0

Ubuntu 20.04 ARM Clang Cross Compile
	Kernel: 5.4.0-72-generic
	Compiler: clang 10.0.0-4ubuntu1

Ubuntu 20.04 aarch32 GCC Cross Compile
	Kernel: 5.4.0-167-generic
	Compiler: gcc 9.4.0

To view detailed results, visit:
https://lab.dpdk.org/results/dashboard/patchsets/30431/

UNH-IOL DPDK Community Lab

To manage your email subscriptions, visit: 
https://lab.dpdk.org/results/dashboard/preferences/subscriptions/