From mboxrd@z Thu Jan  1 00:00:00 1970
Return-Path: <test-report-bounces@dpdk.org>
Received: from mails.dpdk.org (mails.dpdk.org [217.70.189.124])
	by inbox.dpdk.org (Postfix) with ESMTP id E1232455AA
	for <public@inbox.dpdk.org>; Sat,  6 Jul 2024 21:26:11 +0200 (CEST)
Received: from mails.dpdk.org (localhost [127.0.0.1])
	by mails.dpdk.org (Postfix) with ESMTP id DA52E4014F;
	Sat,  6 Jul 2024 21:26:11 +0200 (CEST)
Received: from mail-yw1-f227.google.com (mail-yw1-f227.google.com
 [209.85.128.227])
 by mails.dpdk.org (Postfix) with ESMTP id B9899400EF
 for <test-report@dpdk.org>; Sat,  6 Jul 2024 21:26:10 +0200 (CEST)
Received: by mail-yw1-f227.google.com with SMTP id
 00721157ae682-64b101294c0so24744207b3.1
 for <test-report@dpdk.org>; Sat, 06 Jul 2024 12:26:10 -0700 (PDT)
DKIM-Signature: v=1; a=rsa-sha256; c=relaxed/relaxed;
 d=iol.unh.edu; s=unh-iol; t=1720293970; x=1720898770; darn=dpdk.org;
 h=references:in-reply-to:cc:to:from:subject:message-id:date:from:to
 :cc:subject:date:message-id:reply-to;
 bh=y/UOXWNXeH5VYlxnS3Ejw1fCIaGKNYT8oKFqDl0wW4w=;
 b=LrGPsd+XHn7H8XCLp7cs2poBDVLu9+V8qZWXy+8KT8q/707bnImM+YTO3mpWL0rhUx
 7xUtNt8j0tUkYu7N8GYGR87w/xzLjLUK+fNWRK4K9RF4Q8k4SeBcGYyBlnKuvwDfzDTf
 S2Gf8pOj+VRMnmGJHgaDwefM10073MnI7k1Hw=
X-Google-DKIM-Signature: v=1; a=rsa-sha256; c=relaxed/relaxed;
 d=1e100.net; s=20230601; t=1720293970; x=1720898770;
 h=references:in-reply-to:cc:to:from:subject:message-id:date
 :x-gm-message-state:from:to:cc:subject:date:message-id:reply-to;
 bh=y/UOXWNXeH5VYlxnS3Ejw1fCIaGKNYT8oKFqDl0wW4w=;
 b=HR+65aatJUdyvRI7CsGtDrSqalBduxNQkKqQFzDfukxf46NQQXb/wRgGCL6g4Ez8bp
 bR/ZHKOK5REFJS2fGFiUaI8hRWm4T3GZSRZ9qZXceVPqPHLAoJw02dw/HtEI+JYGzOHl
 DGqj+b0QHFxLpzr9vUkcjdLSmQQxWKpeqp56035mJmoVf737MHuk4zMMVqWrKaiJ/Agr
 wSW6nJU2vXGb9e8lgCYnEnvXtY6saNihQmqeIfXA5kUkvuXkPcIX8ddFgu+Q6kgilH1l
 t033tOIKb3L7inqv5e6Brs7WuGdQYYldxGIR2hESqn3y5Qj5zgO4alorUxOphGDG3N7r
 j66g==
X-Gm-Message-State: AOJu0YxqX5t7NmsIpuyiFzmdJ/M8daTUtYFlidQws7sJmjZf+NXOctNI
 entbl1iUMlx0X84VpTG8Igij4WP8Oz+cc+ErA8CWJVivVAVIR6+FwzqDE+Jfr8tHYjGKIBNQqJO
 QOesecJfKRuvgBTexKskVvbtVIbv3+5fpNwiiZ7SS
X-Google-Smtp-Source: AGHT+IGdVlEVzu3LV8kDYuLHH9Gycysg9XQrvbewQol9i3LAeCzkXzdla/UAL4fWUtJMs5tNZu7tgIqEV4cm
X-Received: by 2002:a05:690c:a17:b0:64b:82f5:9192 with SMTP id
 00721157ae682-652d8633f42mr68227907b3.51.1720293970117; 
 Sat, 06 Jul 2024 12:26:10 -0700 (PDT)
Received: from postal.iol.unh.edu (postal.iol.unh.edu. [132.177.123.84])
 by smtp-relay.gmail.com with ESMTPS id
 00721157ae682-6527755d296sm1604997b3.75.2024.07.06.12.26.10
 (version=TLS1_2 cipher=ECDHE-ECDSA-AES128-GCM-SHA256 bits=128/128);
 Sat, 06 Jul 2024 12:26:10 -0700 (PDT)
X-Relaying-Domain: iol.unh.edu
Date: Sat, 06 Jul 2024 12:26:10 -0700 (PDT)
Message-ID: <66899a52.050a0220.34691.b2c6SMTPIN_ADDED_MISSING@mx.google.com>
Received: from [172.17.0.2] (unknown [172.18.0.217])
 by postal.iol.unh.edu (Postfix) with ESMTP id B4F5F60526E2;
 Sat,  6 Jul 2024 15:26:09 -0400 (EDT)
Subject: |SUCCESS| pw142164-142169 [PATCH] [v2,6/6] doc: dpdk documentation c
From: dpdklab@iol.unh.edu
To: Test Report <test-report@dpdk.org>
Cc: dpdk-test-reports@iol.unh.edu
In-Reply-To: <20240705183325.32381-1-npratte@iol.unh.edu>
References: <20240705183325.32381-1-npratte@iol.unh.edu>
Content-Type: text/plain
X-BeenThere: test-report@dpdk.org
X-Mailman-Version: 2.1.29
Precedence: list
List-Id: automatic DPDK test reports <test-report.dpdk.org>
List-Unsubscribe: <https://mails.dpdk.org/options/test-report>,
 <mailto:test-report-request@dpdk.org?subject=unsubscribe>
List-Archive: <http://mails.dpdk.org/archives/test-report/>
List-Post: <mailto:test-report@dpdk.org>
List-Help: <mailto:test-report-request@dpdk.org?subject=help>
List-Subscribe: <https://mails.dpdk.org/listinfo/test-report>,
 <mailto:test-report-request@dpdk.org?subject=subscribe>
Errors-To: test-report-bounces@dpdk.org

Test-Label: iol-unit-amd64-testing
Test-Status: SUCCESS
http://dpdk.org/patch/142169

_Testing PASS_

Submitter: Nicholas Pratte <npratte@iol.unh.edu>
Date: Friday, July 05 2024 18:33:24 
DPDK git baseline: Repo:dpdk
  Branch: master
  CommitID:fcfb19cda4f6439f260cdeabb6c44d3c6f0d5fc4

142164-142169 --> testing pass

Test environment and result as below:

+---------------------+----------------+
|     Environment     | dpdk_unit_test |
+=====================+================+
| CentOS Stream 8     | PASS           |
+---------------------+----------------+
| CentOS Stream 9     | PASS           |
+---------------------+----------------+
| Debian Bullseye     | PASS           |
+---------------------+----------------+
| Debian 12           | PASS           |
+---------------------+----------------+
| Fedora 37           | PASS           |
+---------------------+----------------+
| Fedora 38           | PASS           |
+---------------------+----------------+
| Fedora 38 (Clang)   | PASS           |
+---------------------+----------------+
| Fedora 39           | PASS           |
+---------------------+----------------+
| Fedora 40           | PASS           |
+---------------------+----------------+
| Fedora 39 (Clang)   | PASS           |
+---------------------+----------------+
| Fedora 40 (Clang)   | PASS           |
+---------------------+----------------+
| openSUSE Leap 15    | PASS           |
+---------------------+----------------+
| RHEL8               | PASS           |
+---------------------+----------------+
| RHEL9               | PASS           |
+---------------------+----------------+
| Ubuntu 20.04        | PASS           |
+---------------------+----------------+
| Ubuntu 22.04        | PASS           |
+---------------------+----------------+
| Ubuntu 24.04        | PASS           |
+---------------------+----------------+
| Windows Server 2022 | PASS           |
+---------------------+----------------+
| Windows Server 2019 | PASS           |
+---------------------+----------------+


CentOS Stream 8
	Kernel: 5.4.0-167-generic
	Compiler: gcc 8.5.0 20210514

CentOS Stream 9
	Kernel: 5.4.0-167-generic
	Compiler: gcc 11.4.1 20230605

Debian Bullseye
	Kernel: 5.4.0-167-generic
	Compiler: gcc 10.2.1-6

Debian 12
	Kernel: Container Host Kernel
	Compiler: gcc 12.2.0

Fedora 37
	Kernel: Depends on container host system
	Compiler: gcc 12.3.1

Fedora 38
	Kernel: Depends on container host
	Compiler: gcc 13.2.1

Fedora 38 (Clang)
	Kernel: Depends on container host
	Compiler: clang 16.0.6

Fedora 39
	Kernel: Depends on container host
	Compiler: gcc 13.2.1

Fedora 40
	Kernel: Depends on container host
	Compiler: gcc 14.1.1

Fedora 39 (Clang)
	Kernel: Depends on container host
	Compiler: clang 17.0.6

Fedora 40 (Clang)
	Kernel: Depends on container host
	Compiler: clang 18.1.6

openSUSE Leap 15
	Kernel: 5.4.0-167-generic
	Compiler: gcc 7.5.0

RHEL8
	Kernel: 5.4.0-167-generic
	Compiler: gcc 8.5.0 20210514 (Red Hat 8.5.0-20)

RHEL9
	Kernel: Depends on container host
	Compiler: gcc 11.4.1

Ubuntu 20.04
	Kernel: 5.4.0-167-generic
	Compiler: gcc 9.4.0-1ubuntu1~20.04.1

Ubuntu 22.04
	Kernel: 5.4.0-167-generic
	Compiler: gcc 11.4.0

Ubuntu 24.04
	Kernel: 5.4.0-167-generic
	Compiler: gcc 13.2.0

Windows Server 2022
	Kernel: 10.0.20348.2031
	Compiler: clang 15.0.7, gcc 8.1.0 (MinGW), and MSVC VS 17.9

Windows Server 2019
	Kernel: 10.0.17763
	Compiler: clang 14.0 and gcc 8.1.0 (MinGW)

To view detailed results, visit:
https://lab.dpdk.org/results/dashboard/patchsets/30434/

UNH-IOL DPDK Community Lab

To manage your email subscriptions, visit: 
https://lab.dpdk.org/results/dashboard/preferences/subscriptions/