From mboxrd@z Thu Jan  1 00:00:00 1970
Return-Path: <test-report-bounces@dpdk.org>
Received: from mails.dpdk.org (mails.dpdk.org [217.70.189.124])
	by inbox.dpdk.org (Postfix) with ESMTP id BB395455AA
	for <public@inbox.dpdk.org>; Sat,  6 Jul 2024 21:33:09 +0200 (CEST)
Received: from mails.dpdk.org (localhost [127.0.0.1])
	by mails.dpdk.org (Postfix) with ESMTP id B64FF4014F;
	Sat,  6 Jul 2024 21:33:09 +0200 (CEST)
Received: from mail-vk1-f227.google.com (mail-vk1-f227.google.com
 [209.85.221.227])
 by mails.dpdk.org (Postfix) with ESMTP id 7C0E8400EF
 for <test-report@dpdk.org>; Sat,  6 Jul 2024 21:33:08 +0200 (CEST)
Received: by mail-vk1-f227.google.com with SMTP id
 71dfb90a1353d-4f30245cf20so610897e0c.0
 for <test-report@dpdk.org>; Sat, 06 Jul 2024 12:33:08 -0700 (PDT)
DKIM-Signature: v=1; a=rsa-sha256; c=relaxed/relaxed;
 d=iol.unh.edu; s=unh-iol; t=1720294387; x=1720899187; darn=dpdk.org;
 h=references:in-reply-to:cc:to:from:subject:message-id:date:from:to
 :cc:subject:date:message-id:reply-to;
 bh=nLTrZuuB6yIkLiBI5YibCFgAyanQzEFGwlI3BajBVN4=;
 b=hEb5OWVTZnQZgLz+BAUXcYGkEFbhmUoEDhTTp3GUs5h9pH8SIxAC0KMafP5eUICfaw
 DAaPTRHCQDkrtR1A4852/ZRHJN5P1ocCumvMZZT4SAlh5dlBsicwZTY+PEeblsPugxXI
 uUCkhDl1MrR1XHafOeg2/ybdUBytR3/Q3jZd8=
X-Google-DKIM-Signature: v=1; a=rsa-sha256; c=relaxed/relaxed;
 d=1e100.net; s=20230601; t=1720294387; x=1720899187;
 h=references:in-reply-to:cc:to:from:subject:message-id:date
 :x-gm-message-state:from:to:cc:subject:date:message-id:reply-to;
 bh=nLTrZuuB6yIkLiBI5YibCFgAyanQzEFGwlI3BajBVN4=;
 b=EnlTkhAXyXyY9WaCkutW6Ywy1hEN7yN//o8IVUgn+i6n9a2IQxfD2BsH741iwtxMNu
 HLRzxHeGteUNjszmRP8YG0R/zwjCqMPuRDRnZ9/ulG9ke6GZ3rQXMG/s94FNDCORW9RA
 WxHthOtBFjsezFgxEIoC8IRi2ZkrW1WzlYhQ2b8OeX+AQgdmeN4tyqXmTl+oKCyr+hTX
 s+ZxvVLC2ITYpCeRyGsLyXFx+zLkYiyFjFYmQXf5Pytxo1L8BVApfUWAm73frTU4igRq
 Q51rp0lAENJ+y/W4T6BY+G3aQadS5bGOg39ZXyD91hs38jH7ON3NRJQVXUKoZfWD2TGj
 8p3g==
X-Gm-Message-State: AOJu0Yz1uvMRqpAumuuhzv2/KpISTwLOaDmEVHRwsjMMHeS8a9ZrdOmu
 pdY0FTZOIxVu+Ig2O3zXhAIBo+qBDb+zL6fm0elbO+WoT5cquKfuzHyYOoCwdxgrOINRVPN2BJp
 zZO8SmXLmes299p2rPsAXCNvuOhHbBIFL6oG83esRB9HOPibe7xXzXFw0
X-Google-Smtp-Source: AGHT+IGECemOQtJhnJ9gvSr/4o++9NqlWFBO01ctNIARfip6BvxJF2sPvprGMQuAmnxvBMjxEtqCOgysFKBV
X-Received: by 2002:a05:6122:4884:b0:4ed:52b:dd29 with SMTP id
 71dfb90a1353d-4f2f3e437e6mr9114022e0c.3.1720294387614; 
 Sat, 06 Jul 2024 12:33:07 -0700 (PDT)
Received: from postal.iol.unh.edu (postal.iol.unh.edu.
 [2606:4100:3880:1234::84]) by smtp-relay.gmail.com with ESMTPS id
 71dfb90a1353d-4f307789df7sm107372e0c.2.2024.07.06.12.33.07
 (version=TLS1_2 cipher=ECDHE-ECDSA-AES128-GCM-SHA256 bits=128/128);
 Sat, 06 Jul 2024 12:33:07 -0700 (PDT)
X-Relaying-Domain: iol.unh.edu
Date: Sat, 06 Jul 2024 12:33:07 -0700 (PDT)
Message-ID: <66899bf3.050a0220.1380a.869aSMTPIN_ADDED_MISSING@mx.google.com>
Received: from [172.17.0.2] (unknown [172.18.0.217])
 by postal.iol.unh.edu (Postfix) with ESMTP id 3ECC660526E2;
 Sat,  6 Jul 2024 15:33:07 -0400 (EDT)
Subject: |SUCCESS| pw142137 [PATCH] telemetry: lower log level when legacy is
From: dpdklab@iol.unh.edu
To: Test Report <test-report@dpdk.org>
Cc: dpdk-test-reports@iol.unh.edu
In-Reply-To: <20240705090020.481903-2-rjarry@redhat.com>
References: <20240705090020.481903-2-rjarry@redhat.com>
Content-Type: text/plain
X-BeenThere: test-report@dpdk.org
X-Mailman-Version: 2.1.29
Precedence: list
List-Id: automatic DPDK test reports <test-report.dpdk.org>
List-Unsubscribe: <https://mails.dpdk.org/options/test-report>,
 <mailto:test-report-request@dpdk.org?subject=unsubscribe>
List-Archive: <http://mails.dpdk.org/archives/test-report/>
List-Post: <mailto:test-report@dpdk.org>
List-Help: <mailto:test-report-request@dpdk.org?subject=help>
List-Subscribe: <https://mails.dpdk.org/listinfo/test-report>,
 <mailto:test-report-request@dpdk.org?subject=subscribe>
Errors-To: test-report-bounces@dpdk.org

Test-Label: iol-unit-amd64-testing
Test-Status: SUCCESS
http://dpdk.org/patch/142137

_Testing PASS_

Submitter: Robin Jarry <rjarry@redhat.com>
Date: Friday, July 05 2024 09:00:20 
DPDK git baseline: Repo:dpdk
  Branch: master
  CommitID:beb0c321d1e7ebb59d78914c66e82fd936b70f51

142137 --> testing pass

Test environment and result as below:

+---------------------+----------------+
|     Environment     | dpdk_unit_test |
+=====================+================+
| CentOS Stream 8     | PASS           |
+---------------------+----------------+
| CentOS Stream 9     | PASS           |
+---------------------+----------------+
| Debian Bullseye     | PASS           |
+---------------------+----------------+
| Fedora 37           | PASS           |
+---------------------+----------------+
| Debian 12           | PASS           |
+---------------------+----------------+
| Fedora 38           | PASS           |
+---------------------+----------------+
| Fedora 38 (Clang)   | PASS           |
+---------------------+----------------+
| Fedora 39           | PASS           |
+---------------------+----------------+
| Fedora 39 (Clang)   | PASS           |
+---------------------+----------------+
| Fedora 40           | PASS           |
+---------------------+----------------+
| Fedora 40 (Clang)   | PASS           |
+---------------------+----------------+
| openSUSE Leap 15    | PASS           |
+---------------------+----------------+
| RHEL8               | PASS           |
+---------------------+----------------+
| RHEL9               | PASS           |
+---------------------+----------------+
| Ubuntu 20.04        | PASS           |
+---------------------+----------------+
| Ubuntu 22.04        | PASS           |
+---------------------+----------------+
| Ubuntu 24.04        | PASS           |
+---------------------+----------------+
| Windows Server 2022 | PASS           |
+---------------------+----------------+
| Windows Server 2019 | PASS           |
+---------------------+----------------+


CentOS Stream 8
	Kernel: 5.4.0-167-generic
	Compiler: gcc 8.5.0 20210514

CentOS Stream 9
	Kernel: 5.4.0-167-generic
	Compiler: gcc 11.4.1 20230605

Debian Bullseye
	Kernel: 5.4.0-167-generic
	Compiler: gcc 10.2.1-6

Fedora 37
	Kernel: Depends on container host system
	Compiler: gcc 12.3.1

Debian 12
	Kernel: Container Host Kernel
	Compiler: gcc 12.2.0

Fedora 38
	Kernel: Depends on container host
	Compiler: gcc 13.2.1

Fedora 38 (Clang)
	Kernel: Depends on container host
	Compiler: clang 16.0.6

Fedora 39
	Kernel: Depends on container host
	Compiler: gcc 13.2.1

Fedora 39 (Clang)
	Kernel: Depends on container host
	Compiler: clang 17.0.6

Fedora 40
	Kernel: Depends on container host
	Compiler: gcc 14.1.1

Fedora 40 (Clang)
	Kernel: Depends on container host
	Compiler: clang 18.1.6

openSUSE Leap 15
	Kernel: 5.4.0-167-generic
	Compiler: gcc 7.5.0

RHEL8
	Kernel: 5.4.0-167-generic
	Compiler: gcc 8.5.0 20210514 (Red Hat 8.5.0-20)

RHEL9
	Kernel: Depends on container host
	Compiler: gcc 11.4.1

Ubuntu 20.04
	Kernel: 5.4.0-167-generic
	Compiler: gcc 9.4.0-1ubuntu1~20.04.1

Ubuntu 22.04
	Kernel: 5.4.0-167-generic
	Compiler: gcc 11.4.0

Ubuntu 24.04
	Kernel: 5.4.0-167-generic
	Compiler: gcc 13.2.0

Windows Server 2022
	Kernel: 10.0.20348.2031
	Compiler: clang 15.0.7, gcc 8.1.0 (MinGW), and MSVC VS 17.9

Windows Server 2019
	Kernel: 10.0.17763
	Compiler: clang 14.0 and gcc 8.1.0 (MinGW)

To view detailed results, visit:
https://lab.dpdk.org/results/dashboard/patchsets/30426/

UNH-IOL DPDK Community Lab

To manage your email subscriptions, visit: 
https://lab.dpdk.org/results/dashboard/preferences/subscriptions/