From: dpdklab@iol.unh.edu
To: Test Report <test-report@dpdk.org>
Cc: dpdk-test-reports@iol.unh.edu
Subject: |PENDING| pw142144 [PATCH] driver: crypto: scheduler: fix session si
Date: Sat, 06 Jul 2024 13:55:04 -0700 (PDT) [thread overview]
Message-ID: <6689af28.920a0220.c8500.fcdeSMTPIN_ADDED_MISSING@mx.google.com> (raw)
In-Reply-To: <20240705083503.218315-1-jhascoet@kalrayinc.com>
Test-Label: iol-compile-arm64-testing
Test-Status: PENDING
http://dpdk.org/patch/142144
_Testing pending_
Submitter: jhascoet <ju.hascoet@gmail.com>
Date: Friday, July 05 2024 08:35:03
DPDK git baseline: Repo:dpdk
Branch: master
CommitID:ba268b0bb43b56174e3d9345a27e6b1675a5a991
142144 --> testing pending
Test environment and result as below:
+----------------------------------------+--------------------+
| Environment | dpdk_meson_compile |
+========================================+====================+
| RHEL9 (ARM) | PASS |
+----------------------------------------+--------------------+
| Ubuntu 20.04 ARM GCC Cross Compile | PASS |
+----------------------------------------+--------------------+
| Ubuntu 20.04 ARM SVE | PASS |
+----------------------------------------+--------------------+
| Debian 12 with MUSDK | PASS |
+----------------------------------------+--------------------+
| Fedora 38 (ARM) | PASS |
+----------------------------------------+--------------------+
| Fedora 37 (ARM) | PASS |
+----------------------------------------+--------------------+
| Fedora 38 (ARM Clang) | PEND |
+----------------------------------------+--------------------+
| Fedora 39 (ARM) | PASS |
+----------------------------------------+--------------------+
| Fedora 39 (ARM Clang) | PEND |
+----------------------------------------+--------------------+
| Fedora 40 (ARM) | PASS |
+----------------------------------------+--------------------+
| Fedora 40 (ARM Clang) | PASS |
+----------------------------------------+--------------------+
| Ubuntu 20.04 (ARM) | PASS |
+----------------------------------------+--------------------+
| Ubuntu 22.04 (ARM) | PASS |
+----------------------------------------+--------------------+
| Ubuntu 24.04 (ARM) | PASS |
+----------------------------------------+--------------------+
| CentOS Stream 9 (ARM) | PASS |
+----------------------------------------+--------------------+
| Debian 11 (Buster) (ARM) | PASS |
+----------------------------------------+--------------------+
| Debian 12 (arm) | PASS |
+----------------------------------------+--------------------+
| Ubuntu 20.04 ARM Clang Cross Compile | PASS |
+----------------------------------------+--------------------+
| Ubuntu 20.04 aarch32 GCC Cross Compile | PASS |
+----------------------------------------+--------------------+
RHEL9 (ARM)
Kernel: Depends on container host
Compiler: gcc 11.4.1
Ubuntu 20.04 ARM GCC Cross Compile
Kernel: 5.4.0-167-generic
Compiler: aarch64-linux-gnu-gcc (Ubuntu 9.4.0-1ubuntu1~20.04.2) 9.4.0
Ubuntu 20.04 ARM SVE
Kernel: 5.4.0-167-generic
Compiler: gcc (Ubuntu 10.5.0-1ubuntu1~20.04) 10.5.0
Debian 12 with MUSDK
Kernel: Container Host Kernel
Compiler: gcc 12.2.0
Fedora 38 (ARM)
Kernel: Depends on container host
Compiler: gcc 13.2.1
Fedora 37 (ARM)
Kernel: Depends on container host
Compiler: gcc 12.3.1
Fedora 38 (ARM Clang)
Kernel: Depends on container host
Compiler: clang 16.0.6
Fedora 39 (ARM)
Kernel: Depends on container host
Compiler: gcc 13.2.1
Fedora 39 (ARM Clang)
Kernel: Depends on container host
Compiler: clang 17.0.6
Fedora 40 (ARM)
Kernel: Depends on container host
Compiler: gcc 14.1.1
Fedora 40 (ARM Clang)
Kernel: Depends on container host
Compiler: clang 18.1.6
Ubuntu 20.04 (ARM)
Kernel: Container Host Kernel
Compiler: gcc 9.4.0
Ubuntu 22.04 (ARM)
Kernel: Container Host Kernel
Compiler: gcc 11.4.0
Ubuntu 24.04 (ARM)
Kernel: 5.4.0-167-generic
Compiler: gcc 13.2.0
CentOS Stream 9 (ARM)
Kernel: Container Host Kernel
Compiler: gcc 11.4.1
Debian 11 (Buster) (ARM)
Kernel: Container Host Kernel
Compiler: gcc 10.2.1
Debian 12 (arm)
Kernel: Container Host Kernel
Compiler: gcc 12.2.0
Ubuntu 20.04 ARM Clang Cross Compile
Kernel: 5.4.0-72-generic
Compiler: clang 10.0.0-4ubuntu1
Ubuntu 20.04 aarch32 GCC Cross Compile
Kernel: 5.4.0-167-generic
Compiler: gcc 9.4.0
To view detailed results, visit:
https://lab.dpdk.org/results/dashboard/patchsets/30429/
UNH-IOL DPDK Community Lab
To manage your email subscriptions, visit:
https://lab.dpdk.org/results/dashboard/preferences/subscriptions/
next prev parent reply other threads:[~2024-07-06 20:55 UTC|newest]
Thread overview: 97+ messages / expand[flat|nested] mbox.gz Atom feed top
[not found] <20240705083503.218315-1-jhascoet@kalrayinc.com>
2024-07-05 12:35 ` |SUCCESS| pw142144 [PATCH] driver: crypto: scheduler: fix session size computation qemudev
2024-07-05 12:40 ` qemudev
2024-07-05 12:53 ` |WARNING| " checkpatch
2024-07-06 1:04 ` |PENDING| pw142144 [PATCH] driver: crypto: scheduler: fix session si dpdklab
2024-07-06 1:09 ` |SUCCESS| " dpdklab
2024-07-06 1:17 ` dpdklab
2024-07-06 1:17 ` dpdklab
2024-07-06 1:31 ` dpdklab
2024-07-06 1:39 ` dpdklab
2024-07-06 2:10 ` |PENDING| " dpdklab
2024-07-06 2:10 ` dpdklab
2024-07-06 2:11 ` dpdklab
2024-07-06 2:17 ` dpdklab
2024-07-06 2:20 ` dpdklab
2024-07-06 2:24 ` dpdklab
2024-07-06 2:24 ` dpdklab
2024-07-06 2:26 ` dpdklab
2024-07-06 2:27 ` |SUCCESS| " dpdklab
2024-07-06 2:27 ` |PENDING| " dpdklab
2024-07-06 2:33 ` dpdklab
2024-07-06 2:34 ` dpdklab
2024-07-06 2:38 ` dpdklab
2024-07-06 2:40 ` dpdklab
2024-07-06 2:40 ` dpdklab
2024-07-06 2:42 ` dpdklab
2024-07-06 2:45 ` dpdklab
2024-07-06 2:53 ` |SUCCESS| " dpdklab
2024-07-06 3:02 ` |PENDING| " dpdklab
2024-07-06 3:02 ` |SUCCESS| " dpdklab
2024-07-06 3:16 ` dpdklab
2024-07-06 7:00 ` |PENDING| " dpdklab
2024-07-06 7:03 ` dpdklab
2024-07-06 7:05 ` dpdklab
2024-07-06 7:08 ` dpdklab
2024-07-06 7:15 ` dpdklab
2024-07-06 7:19 ` |SUCCESS| " dpdklab
2024-07-06 7:22 ` dpdklab
2024-07-06 7:50 ` |PENDING| " dpdklab
2024-07-06 10:11 ` dpdklab
2024-07-06 10:11 ` dpdklab
2024-07-06 10:15 ` dpdklab
2024-07-06 10:16 ` dpdklab
2024-07-06 10:21 ` dpdklab
2024-07-06 10:21 ` dpdklab
2024-07-06 10:27 ` dpdklab
2024-07-06 10:34 ` dpdklab
2024-07-06 10:38 ` dpdklab
2024-07-06 10:39 ` dpdklab
2024-07-06 10:45 ` dpdklab
2024-07-06 10:53 ` dpdklab
2024-07-06 11:00 ` dpdklab
2024-07-06 11:01 ` dpdklab
2024-07-06 11:06 ` dpdklab
2024-07-06 11:11 ` dpdklab
2024-07-06 11:24 ` dpdklab
2024-07-06 11:26 ` |SUCCESS| " dpdklab
2024-07-06 18:33 ` |PENDING| " dpdklab
2024-07-06 19:05 ` dpdklab
2024-07-06 19:10 ` dpdklab
2024-07-06 19:13 ` dpdklab
2024-07-06 19:15 ` dpdklab
2024-07-06 19:16 ` dpdklab
2024-07-06 19:18 ` dpdklab
2024-07-06 19:23 ` dpdklab
2024-07-06 19:23 ` dpdklab
2024-07-06 19:26 ` dpdklab
2024-07-06 19:28 ` dpdklab
2024-07-06 19:29 ` dpdklab
2024-07-06 19:32 ` dpdklab
2024-07-06 19:33 ` dpdklab
2024-07-06 19:35 ` dpdklab
2024-07-06 19:36 ` dpdklab
2024-07-06 19:38 ` dpdklab
2024-07-06 19:39 ` dpdklab
2024-07-06 19:39 ` dpdklab
2024-07-06 19:39 ` dpdklab
2024-07-06 19:43 ` dpdklab
2024-07-06 19:44 ` dpdklab
2024-07-06 19:47 ` dpdklab
2024-07-06 19:49 ` dpdklab
2024-07-06 19:51 ` dpdklab
2024-07-06 19:52 ` dpdklab
2024-07-06 19:56 ` dpdklab
2024-07-06 19:57 ` dpdklab
2024-07-06 20:00 ` dpdklab
2024-07-06 20:00 ` |SUCCESS| " dpdklab
2024-07-06 20:00 ` dpdklab
2024-07-06 20:04 ` |PENDING| " dpdklab
2024-07-06 20:04 ` dpdklab
2024-07-06 20:12 ` dpdklab
2024-07-06 20:55 ` dpdklab [this message]
2024-07-06 21:08 ` |SUCCESS| " dpdklab
2024-07-06 21:59 ` dpdklab
2024-07-07 2:02 ` |PENDING| " dpdklab
2024-07-07 2:27 ` dpdklab
2024-07-09 2:15 ` |SUCCESS| " dpdklab
2024-07-09 2:28 ` dpdklab
Reply instructions:
You may reply publicly to this message via plain-text email
using any one of the following methods:
* Save the following mbox file, import it into your mail client,
and reply-to-all from there: mbox
Avoid top-posting and favor interleaved quoting:
https://en.wikipedia.org/wiki/Posting_style#Interleaved_style
* Reply using the --to, --cc, and --in-reply-to
switches of git-send-email(1):
git send-email \
--in-reply-to=6689af28.920a0220.c8500.fcdeSMTPIN_ADDED_MISSING@mx.google.com \
--to=dpdklab@iol.unh.edu \
--cc=dpdk-test-reports@iol.unh.edu \
--cc=test-report@dpdk.org \
/path/to/YOUR_REPLY
https://kernel.org/pub/software/scm/git/docs/git-send-email.html
* If your mail client supports setting the In-Reply-To header
via mailto: links, try the mailto: link
Be sure your reply has a Subject: header at the top and a blank line
before the message body.
This is a public inbox, see mirroring instructions
for how to clone and mirror all data and code used for this inbox;
as well as URLs for NNTP newsgroup(s).