From mboxrd@z Thu Jan  1 00:00:00 1970
Return-Path: <test-report-bounces@dpdk.org>
Received: from mails.dpdk.org (mails.dpdk.org [217.70.189.124])
	by inbox.dpdk.org (Postfix) with ESMTP id 90B25455AB
	for <public@inbox.dpdk.org>; Sat,  6 Jul 2024 23:17:56 +0200 (CEST)
Received: from mails.dpdk.org (localhost [127.0.0.1])
	by mails.dpdk.org (Postfix) with ESMTP id 8C15E4014F;
	Sat,  6 Jul 2024 23:17:56 +0200 (CEST)
Received: from mail-il1-f228.google.com (mail-il1-f228.google.com
 [209.85.166.228])
 by mails.dpdk.org (Postfix) with ESMTP id 32879400EF
 for <test-report@dpdk.org>; Sat,  6 Jul 2024 23:17:55 +0200 (CEST)
Received: by mail-il1-f228.google.com with SMTP id
 e9e14a558f8ab-3737dc4a669so9636785ab.0
 for <test-report@dpdk.org>; Sat, 06 Jul 2024 14:17:55 -0700 (PDT)
DKIM-Signature: v=1; a=rsa-sha256; c=relaxed/relaxed;
 d=iol.unh.edu; s=unh-iol; t=1720300673; x=1720905473; darn=dpdk.org;
 h=references:in-reply-to:cc:to:from:subject:message-id:date:from:to
 :cc:subject:date:message-id:reply-to;
 bh=3XEj0Gwc+K4v79vbNlYrS2ytRmoNJq07F1PDPNjFW+o=;
 b=KWJDDCCxu+OaTA/ASZ2oSCWYxhYM0h70qJkOp5rFpFqBvQNbXkd3oXMY8oEZEBfQ4I
 qFlCGk+jfPyOxmK8JoyDt9mCVz1D9qb6BkGV+YMEnUOUNcszDjmw3h7q0urFAvPBzBFd
 0lHqW+MG2LFciKmg20uAfbwrTt+cfq/0ukfG4=
X-Google-DKIM-Signature: v=1; a=rsa-sha256; c=relaxed/relaxed;
 d=1e100.net; s=20230601; t=1720300673; x=1720905473;
 h=references:in-reply-to:cc:to:from:subject:message-id:date
 :x-gm-message-state:from:to:cc:subject:date:message-id:reply-to;
 bh=3XEj0Gwc+K4v79vbNlYrS2ytRmoNJq07F1PDPNjFW+o=;
 b=BSmI5eZTk1k704yc0AIWtQSeMc6OwnJ5Rmh3V9R70KlyzJCbYAByFV//t5rvneCtYP
 2Jth9Td5EC9qCMbXR3HcIgo7OrEZ7wGfXQ/MfuP3o2jVkTfNEIzAqa5WFcdKZzO+j/3w
 s7a4nadwmQpDrnitWM3gc0n9eLEdQXzWRdwE8oaxcN4w1o0mTduIi9lQ1FieWYqvO/pa
 BsBHlxGtVDql7wi0gsrOI1hGHtOxRs7VmAP0oSVZRBiS/l4GV66uaDIC90YesEa3wblk
 oZ1laFlPAkAUuWUKgUh9SVrR6evpmG7Wpe+SYNWFgcAnBhrYRbyj9WC0l6xMFHpGzRjK
 l8tw==
X-Gm-Message-State: AOJu0YwAYtdNsNcnmmh9rJagmUw4g1tj7MZBafL1Jl+5F4i9OgHt6r0m
 b8XtXRO/GbN3TkHog7IAlGOgKw/UYx/FJdw2PryJo7DXM8kHO9R++4+LZxfF74G4oAj+Vqkh+II
 3Dm7FywCLhY3o8J08rrfrTJNK6lsoG+MFGfPvOcS1
X-Google-Smtp-Source: AGHT+IF5qLf287eDCyaV0PrDlcAckIyzeWeZSvH8XGr47jdnfjyT671KTnLh1e2xM/9A33gRSWVLzw+G4FJR
X-Received: by 2002:a05:6e02:16c5:b0:380:fd76:29e5 with SMTP id
 e9e14a558f8ab-383987110e1mr109757255ab.4.1720300673565; 
 Sat, 06 Jul 2024 14:17:53 -0700 (PDT)
Received: from postal.iol.unh.edu (postal.iol.unh.edu. [132.177.123.84])
 by smtp-relay.gmail.com with ESMTPS id
 d9443c01a7336-1fb67f52e2bsm614925ad.33.2024.07.06.14.17.53
 (version=TLS1_2 cipher=ECDHE-ECDSA-AES128-GCM-SHA256 bits=128/128);
 Sat, 06 Jul 2024 14:17:53 -0700 (PDT)
X-Relaying-Domain: iol.unh.edu
Date: Sat, 06 Jul 2024 14:17:53 -0700 (PDT)
Message-ID: <6689b481.170a0220.863a1.497dSMTPIN_ADDED_MISSING@mx.google.com>
Received: from [172.17.0.5] (unknown [172.18.0.217])
 by postal.iol.unh.edu (Postfix) with ESMTP id 95B6860526E2;
 Sat,  6 Jul 2024 17:17:52 -0400 (EDT)
Subject: |PENDING| pw142136 [PATCH] [v3] buildtools: fix invalid symbols
From: dpdklab@iol.unh.edu
To: Test Report <test-report@dpdk.org>
Cc: dpdk-test-reports@iol.unh.edu
In-Reply-To: <20240705082550.1670765-1-mingjinx.ye@intel.com>
References: <20240705082550.1670765-1-mingjinx.ye@intel.com>
Content-Type: text/plain
X-BeenThere: test-report@dpdk.org
X-Mailman-Version: 2.1.29
Precedence: list
List-Id: automatic DPDK test reports <test-report.dpdk.org>
List-Unsubscribe: <https://mails.dpdk.org/options/test-report>,
 <mailto:test-report-request@dpdk.org?subject=unsubscribe>
List-Archive: <http://mails.dpdk.org/archives/test-report/>
List-Post: <mailto:test-report@dpdk.org>
List-Help: <mailto:test-report-request@dpdk.org?subject=help>
List-Subscribe: <https://mails.dpdk.org/listinfo/test-report>,
 <mailto:test-report-request@dpdk.org?subject=subscribe>
Errors-To: test-report-bounces@dpdk.org

Test-Label: iol-compile-amd64-testing
Test-Status: PENDING
http://dpdk.org/patch/142136

_Testing pending_

Submitter: Mingjin Ye <mingjinx.ye@intel.com>
Date: Friday, July 05 2024 08:25:50 
DPDK git baseline: Repo:dpdk
  Branch: master
  CommitID:fcfb19cda4f6439f260cdeabb6c44d3c6f0d5fc4

142136 --> testing pending

Test environment and result as below:

+---------------------+--------------------+----------------------+-------------------+------------------+-------------------+
|     Environment     | dpdk_meson_compile | dpdk_mingw64_compile | dpdk_msvc_compile | dpdk_compile_ovs | dpdk_compile_spdk |
+=====================+====================+======================+===================+==================+===================+
| Windows Server 2019 | PASS               | PASS                 | SKIPPED           | SKIPPED          | SKIPPED           |
+---------------------+--------------------+----------------------+-------------------+------------------+-------------------+
| Windows Server 2022 | PASS               | PASS                 | PASS              | SKIPPED          | SKIPPED           |
+---------------------+--------------------+----------------------+-------------------+------------------+-------------------+
| FreeBSD 13.3        | PASS               | SKIPPED              | SKIPPED           | SKIPPED          | SKIPPED           |
+---------------------+--------------------+----------------------+-------------------+------------------+-------------------+
| FreeBSD 14.1        | PASS               | SKIPPED              | SKIPPED           | SKIPPED          | SKIPPED           |
+---------------------+--------------------+----------------------+-------------------+------------------+-------------------+
| CentOS Stream 8     | PASS               | SKIPPED              | SKIPPED           | PASS             | PASS              |
+---------------------+--------------------+----------------------+-------------------+------------------+-------------------+
| CentOS Stream 9     | PEND               | SKIPPED              | SKIPPED           | PEND             | PEND              |
+---------------------+--------------------+----------------------+-------------------+------------------+-------------------+
| Debian Bullseye     | PASS               | SKIPPED              | SKIPPED           | PASS             | PASS              |
+---------------------+--------------------+----------------------+-------------------+------------------+-------------------+
| Debian 12           | PEND               | SKIPPED              | SKIPPED           | PEND             | PEND              |
+---------------------+--------------------+----------------------+-------------------+------------------+-------------------+
| Fedora 37           | PEND               | SKIPPED              | SKIPPED           | PEND             | PEND              |
+---------------------+--------------------+----------------------+-------------------+------------------+-------------------+
| Fedora 38 (Clang)   | PEND               | SKIPPED              | SKIPPED           | PEND             | PEND              |
+---------------------+--------------------+----------------------+-------------------+------------------+-------------------+
| Fedora 38           | PEND               | SKIPPED              | SKIPPED           | PEND             | PEND              |
+---------------------+--------------------+----------------------+-------------------+------------------+-------------------+
| Fedora 39 (Clang)   | PEND               | SKIPPED              | SKIPPED           | PEND             | PEND              |
+---------------------+--------------------+----------------------+-------------------+------------------+-------------------+


Windows Server 2019
	Kernel: 10.0.17763
	Compiler: clang 14.0 and gcc 8.1.0 (MinGW)

Windows Server 2022
	Kernel: 10.0.20348.2031
	Compiler: clang 15.0.7, gcc 8.1.0 (MinGW), and MSVC VS 17.9

FreeBSD 13.3
	Kernel: 13.3-RELEASE-p1
	Compiler: clang 17.0.6

FreeBSD 14.1
	Kernel: 14.1
	Compiler: clang 18.1.5

CentOS Stream 8
	Kernel: 5.4.0-167-generic
	Compiler: gcc 8.5.0 20210514

CentOS Stream 9
	Kernel: 5.4.0-167-generic
	Compiler: gcc 11.4.1 20230605

Debian Bullseye
	Kernel: 5.4.0-167-generic
	Compiler: gcc 10.2.1-6

Debian 12
	Kernel: Container Host Kernel
	Compiler: gcc 12.2.0

Fedora 37
	Kernel: Depends on container host system
	Compiler: gcc 12.3.1

Fedora 38 (Clang)
	Kernel: Depends on container host
	Compiler: clang 16.0.6

Fedora 38
	Kernel: Depends on container host
	Compiler: gcc 13.2.1

Fedora 39 (Clang)
	Kernel: Depends on container host
	Compiler: clang 17.0.6

To view detailed results, visit:
https://lab.dpdk.org/results/dashboard/patchsets/30425/

UNH-IOL DPDK Community Lab

To manage your email subscriptions, visit: 
https://lab.dpdk.org/results/dashboard/preferences/subscriptions/