From mboxrd@z Thu Jan  1 00:00:00 1970
Return-Path: <test-report-bounces@dpdk.org>
Received: from mails.dpdk.org (mails.dpdk.org [217.70.189.124])
	by inbox.dpdk.org (Postfix) with ESMTP id 9188E455B7
	for <public@inbox.dpdk.org>; Sun,  7 Jul 2024 14:24:53 +0200 (CEST)
Received: from mails.dpdk.org (localhost [127.0.0.1])
	by mails.dpdk.org (Postfix) with ESMTP id 8EE67402C4;
	Sun,  7 Jul 2024 14:24:53 +0200 (CEST)
Received: from mail-qk1-f227.google.com (mail-qk1-f227.google.com
 [209.85.222.227])
 by mails.dpdk.org (Postfix) with ESMTP id 6776E40272
 for <test-report@dpdk.org>; Sun,  7 Jul 2024 14:24:52 +0200 (CEST)
Received: by mail-qk1-f227.google.com with SMTP id
 af79cd13be357-79ef82c6344so146567285a.2
 for <test-report@dpdk.org>; Sun, 07 Jul 2024 05:24:52 -0700 (PDT)
DKIM-Signature: v=1; a=rsa-sha256; c=relaxed/relaxed;
 d=iol.unh.edu; s=unh-iol; t=1720355091; x=1720959891; darn=dpdk.org;
 h=references:in-reply-to:cc:to:from:subject:message-id:date:from:to
 :cc:subject:date:message-id:reply-to;
 bh=/myyne2HwrAxQS5uteBMCJ3eylkKEagP9VHPFwQxuhQ=;
 b=K+zMj1N4dxRujNWpn5qLhSTXkz9P8kXoUVZKnux95WBbOU7As4Potq/V15Q5hkBQlX
 OYFfcMufXFJRWsRigCe+Vpy3sYCRVYYo4uApY4xMNj4aq/fEH9PGluScGkZ8pdWvBrNA
 a78V/QanORga/PgWv2vRd6XHDQ7cXdCv0C7G4=
X-Google-DKIM-Signature: v=1; a=rsa-sha256; c=relaxed/relaxed;
 d=1e100.net; s=20230601; t=1720355091; x=1720959891;
 h=references:in-reply-to:cc:to:from:subject:message-id:date
 :x-gm-message-state:from:to:cc:subject:date:message-id:reply-to;
 bh=/myyne2HwrAxQS5uteBMCJ3eylkKEagP9VHPFwQxuhQ=;
 b=elyG/Czup6nL4U8fykZ154ZuOBXQlk21WyuLFDJbXfNp8/4ID3w7wdgV4v37iXuK7x
 g9zTDWvfhzvND2bjnNTkL9raPTgHBcHje31QEvGIl1RA9ImWp81ZqmSj5Q/g8mrgNWAn
 kOXnPdbX9xucxlPf9cSupyFiCUzVdTfdz93TvKZJRKYDa4kYT7yfrmzNSa8Z+qfLLbQT
 gNHgAGk1uzmHfegBzgw32ps7G2VPZq9mSrn/1afJArg+WjN0YHfxwNW0+16WnZiIV9ZJ
 1nXW1azXvhYcquK80/voZKiDB46PWZxdzfHvtuIE0kceNN8W8Lsa6OJCJaFb3g24J+iw
 uI6g==
X-Gm-Message-State: AOJu0Yx/WNbTFtTRVsYUqJAC4emxt6je44cLRgWIoTuGQ5myAQCshmV/
 m+Ri6qw8X9BiTsj5EG+k5bDzIW3X49CEl2eGJefQJz00Ypc4cyc9rpjE88RMbGFK5ZD4NrXL+Ge
 0VVzs4/PHb8C+laOQtCoW2Pc1iT+q+MgcB/7UNBd1
X-Google-Smtp-Source: AGHT+IGt3gPXDEKO/fOCXJXJ/cP6pNCHOflXyWIXFvqxVQxEJ1P3kN9tme2rsLU+qeqVIfk6LVl637Q3ETf/
X-Received: by 2002:a05:6214:20a5:b0:6b0:90b4:1ca9 with SMTP id
 6a1803df08f44-6b5ecf7c51amr111999806d6.6.1720355091537; 
 Sun, 07 Jul 2024 05:24:51 -0700 (PDT)
Received: from postal.iol.unh.edu (postal.iol.unh.edu. [132.177.123.84])
 by smtp-relay.gmail.com with ESMTPS id
 6a1803df08f44-6b606ae5e1dsm1609486d6.48.2024.07.07.05.24.51
 (version=TLS1_2 cipher=ECDHE-ECDSA-AES128-GCM-SHA256 bits=128/128);
 Sun, 07 Jul 2024 05:24:51 -0700 (PDT)
X-Relaying-Domain: iol.unh.edu
Date: Sun, 07 Jul 2024 05:24:51 -0700 (PDT)
Message-ID: <668a8913.050a0220.b6db0.caceSMTPIN_ADDED_MISSING@mx.google.com>
Received: from [172.21.0.7] (unknown [172.18.0.240])
 by postal.iol.unh.edu (Postfix) with ESMTP id 34FF460526E2;
 Sun,  7 Jul 2024 08:24:51 -0400 (EDT)
Subject: |PENDING| pw142156-142162 [PATCH] [v11,7/7] hash: add SVE support fo
From: dpdklab@iol.unh.edu
To: Test Report <test-report@dpdk.org>
Cc: dpdk-test-reports@iol.unh.edu
In-Reply-To: <20240705174526.3035295-8-yoan.picchi@arm.com>
References: <20240705174526.3035295-8-yoan.picchi@arm.com>
Content-Type: text/plain
X-BeenThere: test-report@dpdk.org
X-Mailman-Version: 2.1.29
Precedence: list
List-Id: automatic DPDK test reports <test-report.dpdk.org>
List-Unsubscribe: <https://mails.dpdk.org/options/test-report>,
 <mailto:test-report-request@dpdk.org?subject=unsubscribe>
List-Archive: <http://mails.dpdk.org/archives/test-report/>
List-Post: <mailto:test-report@dpdk.org>
List-Help: <mailto:test-report-request@dpdk.org?subject=help>
List-Subscribe: <https://mails.dpdk.org/listinfo/test-report>,
 <mailto:test-report-request@dpdk.org?subject=subscribe>
Errors-To: test-report-bounces@dpdk.org

Test-Label: iol-abi-testing
Test-Status: PENDING
http://dpdk.org/patch/142162

_Testing pending_

Submitter: Yoan Picchi <yoan.picchi@arm.com>
Date: Friday, July 05 2024 17:45:26 
DPDK git baseline: Repo:dpdk
  Branch: master
  CommitID:fcfb19cda4f6439f260cdeabb6c44d3c6f0d5fc4

142156-142162 --> testing pending

Test environment and result as below:

+-------------------+----------+
|    Environment    | abi_test |
+===================+==========+
| CentOS Stream 8   | PASS     |
+-------------------+----------+
| CentOS Stream 9   | PASS     |
+-------------------+----------+
| Debian 12         | PASS     |
+-------------------+----------+
| Debian Bullseye   | PASS     |
+-------------------+----------+
| Fedora 38 (Clang) | PASS     |
+-------------------+----------+
| Fedora 37         | PEND     |
+-------------------+----------+
| Fedora 38         | PASS     |
+-------------------+----------+
| Fedora 39 (Clang) | PASS     |
+-------------------+----------+
| Fedora 40 (Clang) | PASS     |
+-------------------+----------+
| Fedora 39         | PASS     |
+-------------------+----------+
| Fedora 40         | PASS     |
+-------------------+----------+
| Ubuntu 22.04      | PEND     |
+-------------------+----------+
| RHEL8             | PEND     |
+-------------------+----------+
| Ubuntu 24.04      | PEND     |
+-------------------+----------+
| RHEL9             | PEND     |
+-------------------+----------+
| openSUSE Leap 15  | PEND     |
+-------------------+----------+


CentOS Stream 8
	Kernel: 5.4.0-167-generic
	Compiler: gcc 8.5.0 20210514

CentOS Stream 9
	Kernel: 5.4.0-167-generic
	Compiler: gcc 11.4.1 20230605

Debian 12
	Kernel: Container Host Kernel
	Compiler: gcc 12.2.0

Debian Bullseye
	Kernel: 5.4.0-167-generic
	Compiler: gcc 10.2.1-6

Fedora 38 (Clang)
	Kernel: Depends on container host
	Compiler: clang 16.0.6

Fedora 37
	Kernel: Depends on container host system
	Compiler: gcc 12.3.1

Fedora 38
	Kernel: Depends on container host
	Compiler: gcc 13.2.1

Fedora 39 (Clang)
	Kernel: Depends on container host
	Compiler: clang 17.0.6

Fedora 40 (Clang)
	Kernel: Depends on container host
	Compiler: clang 18.1.6

Fedora 39
	Kernel: Depends on container host
	Compiler: gcc 13.2.1

Fedora 40
	Kernel: Depends on container host
	Compiler: gcc 14.1.1

Ubuntu 22.04
	Kernel: 5.4.0-167-generic
	Compiler: gcc 11.4.0

RHEL8
	Kernel: 5.4.0-167-generic
	Compiler: gcc 8.5.0 20210514 (Red Hat 8.5.0-20)

Ubuntu 24.04
	Kernel: 5.4.0-167-generic
	Compiler: gcc 13.2.0

RHEL9
	Kernel: Depends on container host
	Compiler: gcc 11.4.1

openSUSE Leap 15
	Kernel: 5.4.0-167-generic
	Compiler: gcc 7.5.0

To view detailed results, visit:
https://lab.dpdk.org/results/dashboard/patchsets/30439/

UNH-IOL DPDK Community Lab

To manage your email subscriptions, visit: 
https://lab.dpdk.org/results/dashboard/preferences/subscriptions/