From mboxrd@z Thu Jan  1 00:00:00 1970
Return-Path: <test-report-bounces@dpdk.org>
Received: from mails.dpdk.org (mails.dpdk.org [217.70.189.124])
	by inbox.dpdk.org (Postfix) with ESMTP id 82235455B7
	for <public@inbox.dpdk.org>; Sun,  7 Jul 2024 14:31:10 +0200 (CEST)
Received: from mails.dpdk.org (localhost [127.0.0.1])
	by mails.dpdk.org (Postfix) with ESMTP id 5FDCE402C4;
	Sun,  7 Jul 2024 14:31:10 +0200 (CEST)
Received: from mail-qv1-f100.google.com (mail-qv1-f100.google.com
 [209.85.219.100])
 by mails.dpdk.org (Postfix) with ESMTP id 2A97B40272
 for <test-report@dpdk.org>; Sun,  7 Jul 2024 14:31:09 +0200 (CEST)
Received: by mail-qv1-f100.google.com with SMTP id
 6a1803df08f44-6b5f90373d4so15900536d6.0
 for <test-report@dpdk.org>; Sun, 07 Jul 2024 05:31:09 -0700 (PDT)
DKIM-Signature: v=1; a=rsa-sha256; c=relaxed/relaxed;
 d=iol.unh.edu; s=unh-iol; t=1720355468; x=1720960268; darn=dpdk.org;
 h=references:in-reply-to:cc:to:from:subject:message-id:date:from:to
 :cc:subject:date:message-id:reply-to;
 bh=bIRE5cjjfWJmigTRF9RQHGVnlCJXqUugDkh4fVXoTZY=;
 b=GJEVgIonCrZ2DtRiaSoEeyBqPMv+4jKlFzNX6n1txt3izE9gyRuKwepu3xXMjtV+Gh
 AkKx4XZJYcHAouOKGdsHQzzY3ZGNDkBRoSle0uyWsDyrluEfJtncmk9vs+yAazvjiLtp
 fPXygPtxL6k8M1cL+7ExXG+ClXNn9yLcAxaAE=
X-Google-DKIM-Signature: v=1; a=rsa-sha256; c=relaxed/relaxed;
 d=1e100.net; s=20230601; t=1720355468; x=1720960268;
 h=references:in-reply-to:cc:to:from:subject:message-id:date
 :x-gm-message-state:from:to:cc:subject:date:message-id:reply-to;
 bh=bIRE5cjjfWJmigTRF9RQHGVnlCJXqUugDkh4fVXoTZY=;
 b=sw0Nzdgh9FjcexT25pp34l4mwz5JFaqNlmqwcddQHK+BGyrsssav8cbRAk/io7Qb99
 R2VuCWtvo79D4aXGzNWe5Ozak96V7uz6P2Kbqm4eN0WvL6vQAn+tL6wDuYf8AfFwpBgs
 tkW1NlO88h04scSjjngEd1OAuTY6SRtxgaKjgJHG2NyKKXMgWR4awRHrmXagwNIXxijO
 AdhQ9oYKrbTxlh8fQf4EqF67WrRorU9VBKgR1eDVIoJq4azGhozcunIttDQhCQYUhk1/
 oe9KQeMvYio1FZQp+2hOgK2PEPBarNV4Kfj5KxVh1OyspsS/k09sxaStL0RBkaEU57FO
 9tyw==
X-Gm-Message-State: AOJu0YyR9hdN18jM5cnXQtCeLa70bWjHl/3KMC7w9Rqp7eeNnr7ybVPf
 w5X1UxyqlMDfoyNExjBnE224jcp3iTTh7lh4gTTScEqKol0Bx5EfLFDln8P3clQn02TBYCBprrd
 fw9gNHu/8A97+8vxdzYYM9/8VRYVQfIRh5e9hoOAToWmByOxJI7OQuhEP
X-Google-Smtp-Source: AGHT+IGsgrl+PfMR0jsKvFfWq51gbL8rZXWFbIaQUsEsmdtw+k20Qf95lfY8+kIQGeREWgd4pIae5OJNOAyr
X-Received: by 2002:ad4:4703:0:b0:6b5:f879:a077 with SMTP id
 6a1803df08f44-6b5f879a308mr76451576d6.32.1720355468417; 
 Sun, 07 Jul 2024 05:31:08 -0700 (PDT)
Received: from postal.iol.unh.edu (postal.iol.unh.edu.
 [2606:4100:3880:1234::84]) by smtp-relay.gmail.com with ESMTPS id
 6a1803df08f44-6b60a1690acsm1137756d6.20.2024.07.07.05.31.08
 (version=TLS1_2 cipher=ECDHE-ECDSA-AES128-GCM-SHA256 bits=128/128);
 Sun, 07 Jul 2024 05:31:08 -0700 (PDT)
X-Relaying-Domain: iol.unh.edu
Date: Sun, 07 Jul 2024 05:31:08 -0700 (PDT)
Message-ID: <668a8a8c.050a0220.6d17e.900cSMTPIN_ADDED_MISSING@mx.google.com>
Received: from [172.21.0.6] (unknown [172.18.0.240])
 by postal.iol.unh.edu (Postfix) with ESMTP id 1977D60526E2;
 Sun,  7 Jul 2024 08:31:08 -0400 (EDT)
Subject: |PENDING| pw142156-142162 [PATCH] [v11,7/7] hash: add SVE support fo
From: dpdklab@iol.unh.edu
To: Test Report <test-report@dpdk.org>
Cc: dpdk-test-reports@iol.unh.edu
In-Reply-To: <20240705174526.3035295-8-yoan.picchi@arm.com>
References: <20240705174526.3035295-8-yoan.picchi@arm.com>
Content-Type: text/plain
X-BeenThere: test-report@dpdk.org
X-Mailman-Version: 2.1.29
Precedence: list
List-Id: automatic DPDK test reports <test-report.dpdk.org>
List-Unsubscribe: <https://mails.dpdk.org/options/test-report>,
 <mailto:test-report-request@dpdk.org?subject=unsubscribe>
List-Archive: <http://mails.dpdk.org/archives/test-report/>
List-Post: <mailto:test-report@dpdk.org>
List-Help: <mailto:test-report-request@dpdk.org?subject=help>
List-Subscribe: <https://mails.dpdk.org/listinfo/test-report>,
 <mailto:test-report-request@dpdk.org?subject=subscribe>
Errors-To: test-report-bounces@dpdk.org

Test-Label: iol-unit-arm64-testing
Test-Status: PENDING
http://dpdk.org/patch/142162

_Testing pending_

Submitter: Yoan Picchi <yoan.picchi@arm.com>
Date: Friday, July 05 2024 17:45:26 
DPDK git baseline: Repo:dpdk
  Branch: master
  CommitID:fcfb19cda4f6439f260cdeabb6c44d3c6f0d5fc4

142156-142162 --> testing pending

Test environment and result as below:

+-----------------------------+----------------+--------------+---------------------------+------------------------------+
|         Environment         | dpdk_unit_test | lpm_autotest | cryptodev_sw_zuc_autotest | cryptodev_sw_snow3g_autotest |
+=============================+================+==============+===========================+==============================+
| 32-bit Ubuntu 20.04.4 (ARM) | PASS           | SKIPPED      | SKIPPED                   | SKIPPED                      |
+-----------------------------+----------------+--------------+---------------------------+------------------------------+
| CentOS Stream 9 (ARM)       | PEND           | SKIPPED      | SKIPPED                   | SKIPPED                      |
+-----------------------------+----------------+--------------+---------------------------+------------------------------+
| Debian 11 (Buster) (ARM)    | PEND           | SKIPPED      | SKIPPED                   | SKIPPED                      |
+-----------------------------+----------------+--------------+---------------------------+------------------------------+
| Debian 12 (arm)             | PEND           | SKIPPED      | PEND                      | PEND                         |
+-----------------------------+----------------+--------------+---------------------------+------------------------------+
| Fedora 37 (ARM)             | PEND           | SKIPPED      | SKIPPED                   | SKIPPED                      |
+-----------------------------+----------------+--------------+---------------------------+------------------------------+
| Fedora 38 (ARM Clang)       | PEND           | SKIPPED      | SKIPPED                   | SKIPPED                      |
+-----------------------------+----------------+--------------+---------------------------+------------------------------+
| Fedora 39 (ARM)             | PEND           | SKIPPED      | SKIPPED                   | SKIPPED                      |
+-----------------------------+----------------+--------------+---------------------------+------------------------------+
| Fedora 38 (ARM)             | PEND           | SKIPPED      | SKIPPED                   | SKIPPED                      |
+-----------------------------+----------------+--------------+---------------------------+------------------------------+
| Fedora 39 (ARM Clang)       | PASS           | SKIPPED      | SKIPPED                   | SKIPPED                      |
+-----------------------------+----------------+--------------+---------------------------+------------------------------+
| Fedora 40 (ARM)             | PEND           | SKIPPED      | SKIPPED                   | SKIPPED                      |
+-----------------------------+----------------+--------------+---------------------------+------------------------------+
| Fedora 40 (ARM Clang)       | PEND           | SKIPPED      | SKIPPED                   | SKIPPED                      |
+-----------------------------+----------------+--------------+---------------------------+------------------------------+
| RHEL9 (ARM)                 | PEND           | SKIPPED      | SKIPPED                   | SKIPPED                      |
+-----------------------------+----------------+--------------+---------------------------+------------------------------+
| Ubuntu 24.04 (ARM)          | PEND           | SKIPPED      | SKIPPED                   | SKIPPED                      |
+-----------------------------+----------------+--------------+---------------------------+------------------------------+
| Ubuntu 20.04 (ARM)          | PEND           | SKIPPED      | SKIPPED                   | SKIPPED                      |
+-----------------------------+----------------+--------------+---------------------------+------------------------------+
| Ubuntu 22.04 (ARM)          | PEND           | SKIPPED      | SKIPPED                   | SKIPPED                      |
+-----------------------------+----------------+--------------+---------------------------+------------------------------+
| Ubuntu 20.04 ARM SVE        | SKIPPED        | PASS         | SKIPPED                   | SKIPPED                      |
+-----------------------------+----------------+--------------+---------------------------+------------------------------+


32-bit Ubuntu 20.04.4 (ARM)
	Kernel: 5.4.0-155-generic aarch64
	Compiler: gcc 9.4

CentOS Stream 9 (ARM)
	Kernel: Container Host Kernel
	Compiler: gcc 11.4.1

Debian 11 (Buster) (ARM)
	Kernel: Container Host Kernel
	Compiler: gcc 10.2.1

Debian 12 (arm)
	Kernel: Container Host Kernel
	Compiler: gcc 12.2.0

Fedora 37 (ARM)
	Kernel: Depends on container host
	Compiler: gcc 12.3.1

Fedora 38 (ARM Clang)
	Kernel: Depends on container host
	Compiler: clang 16.0.6

Fedora 39 (ARM)
	Kernel: Depends on container host
	Compiler: gcc 13.2.1

Fedora 38 (ARM)
	Kernel: Depends on container host
	Compiler: gcc 13.2.1

Fedora 39 (ARM Clang)
	Kernel: Depends on container host
	Compiler: clang 17.0.6

Fedora 40 (ARM)
	Kernel: Depends on container host
	Compiler: gcc 14.1.1

Fedora 40 (ARM Clang)
	Kernel: Depends on container host
	Compiler: clang 18.1.6

RHEL9 (ARM)
	Kernel: Depends on container host
	Compiler: gcc 11.4.1

Ubuntu 24.04 (ARM)
	Kernel: 5.4.0-167-generic
	Compiler: gcc 13.2.0

Ubuntu 20.04 (ARM)
	Kernel: Container Host Kernel
	Compiler: gcc 9.4.0

Ubuntu 22.04 (ARM)
	Kernel: Container Host Kernel
	Compiler: gcc 11.4.0

Ubuntu 20.04 ARM SVE
	Kernel: 5.4.0-167-generic
	Compiler: gcc (Ubuntu 10.5.0-1ubuntu1~20.04) 10.5.0

To view detailed results, visit:
https://lab.dpdk.org/results/dashboard/patchsets/30439/

UNH-IOL DPDK Community Lab

To manage your email subscriptions, visit: 
https://lab.dpdk.org/results/dashboard/preferences/subscriptions/