From mboxrd@z Thu Jan  1 00:00:00 1970
Return-Path: <test-report-bounces@dpdk.org>
Received: from mails.dpdk.org (mails.dpdk.org [217.70.189.124])
	by inbox.dpdk.org (Postfix) with ESMTP id 536E8455B7
	for <public@inbox.dpdk.org>; Sun,  7 Jul 2024 14:55:51 +0200 (CEST)
Received: from mails.dpdk.org (localhost [127.0.0.1])
	by mails.dpdk.org (Postfix) with ESMTP id 2FD25402C4;
	Sun,  7 Jul 2024 14:55:51 +0200 (CEST)
Received: from mail-pl1-f226.google.com (mail-pl1-f226.google.com
 [209.85.214.226])
 by mails.dpdk.org (Postfix) with ESMTP id 4792C40272
 for <test-report@dpdk.org>; Sun,  7 Jul 2024 14:55:49 +0200 (CEST)
Received: by mail-pl1-f226.google.com with SMTP id
 d9443c01a7336-1fa2ea1c443so22671865ad.0
 for <test-report@dpdk.org>; Sun, 07 Jul 2024 05:55:49 -0700 (PDT)
DKIM-Signature: v=1; a=rsa-sha256; c=relaxed/relaxed;
 d=iol.unh.edu; s=unh-iol; t=1720356948; x=1720961748; darn=dpdk.org;
 h=references:in-reply-to:cc:to:from:subject:message-id:date:from:to
 :cc:subject:date:message-id:reply-to;
 bh=TzIoaTWsq2hgp7dNojRpLHpx/1ntRvskZx7Frz2dWyM=;
 b=PYsKJWxcoqXkH+74vBAS/h3JFK2wqxJqarkrqIgh2nQ3IQqXcBE17eI4VTJrXwX2k2
 NEzCk1Wy1e+vrySw4TLu4kqdw6g8PxYhbn4u/Vvx/xhXnmThg6jKII+8mDYUFkOMNd1s
 R4/4ly8ctsQUDa5PM/1vHQO43+um6GKemMnf8=
X-Google-DKIM-Signature: v=1; a=rsa-sha256; c=relaxed/relaxed;
 d=1e100.net; s=20230601; t=1720356948; x=1720961748;
 h=references:in-reply-to:cc:to:from:subject:message-id:date
 :x-gm-message-state:from:to:cc:subject:date:message-id:reply-to;
 bh=TzIoaTWsq2hgp7dNojRpLHpx/1ntRvskZx7Frz2dWyM=;
 b=m/2lBzc8GwgG0IKqLVPc/usfQmMGR/lT3lO52/1XC9B9g10tXVNergxWFlRCEfzaw6
 44LGVbj6SWELibGBf0adV+o7JKvTTsKag40sc1Nx6//yb/NKaVZ7XmK0FOEj507g/AVF
 h6gdvnfP4b9Y1QSEQXWXcxpISjCyD6FVr8EjlGGmbCGEOdx63RMjOrxcgn37vvRXWQfN
 OO40srqKdW6ZSQGvlysV3k/HuoinTrhJ7cs7/KhUFoaVQ8sOgFxayQgMZDKHn0bGRucy
 EfiVOD11xiE0b5B4fYiGLk/a1bmc0RQQzJ2BjJsqqyMsbgh++c0tCsPy5lmhkzCY50GZ
 l7SA==
X-Gm-Message-State: AOJu0Yzme+MUe3jtVwnk/ioKyorVe1IjhX4E8zzjy8LOTGZIuHvP24yT
 GVVsIhboNtJYqBq/ORLh4fus5E5W/JnVLrjCaPnAQAYmAHU++JUJpaz6R+FeSKOcYJYwSsfTpwN
 OHCEiOV9+akbUEZ33n9flpgVuAlKhbGH1kb6SLwHOtQb5UlbyXVhaqXpT
X-Google-Smtp-Source: AGHT+IGfApnwR7tSIC6dTsw+HRsPRRe1Jcv7qkusE3Wy33opSFnjKJERgDLHob0eg8IqC83KDN09GCKGJ9vm
X-Received: by 2002:a17:902:ea03:b0:1fa:ce44:1c6e with SMTP id
 d9443c01a7336-1fb33f36322mr101690565ad.69.1720356948340; 
 Sun, 07 Jul 2024 05:55:48 -0700 (PDT)
Received: from postal.iol.unh.edu (postal.iol.unh.edu.
 [2606:4100:3880:1234::84]) by smtp-relay.gmail.com with ESMTPS id
 d9443c01a7336-1fac11e7e00sm5305615ad.31.2024.07.07.05.55.48
 (version=TLS1_2 cipher=ECDHE-ECDSA-AES128-GCM-SHA256 bits=128/128);
 Sun, 07 Jul 2024 05:55:48 -0700 (PDT)
X-Relaying-Domain: iol.unh.edu
Date: Sun, 07 Jul 2024 05:55:48 -0700 (PDT)
Message-ID: <668a9054.170a0220.a344b.7a85SMTPIN_ADDED_MISSING@mx.google.com>
Received: from [172.21.0.6] (unknown [172.18.0.240])
 by postal.iol.unh.edu (Postfix) with ESMTP id 7C68760526E2;
 Sun,  7 Jul 2024 08:55:47 -0400 (EDT)
Subject: |PENDING| pw142156-142162 [PATCH] [v11,7/7] hash: add SVE support fo
From: dpdklab@iol.unh.edu
To: Test Report <test-report@dpdk.org>
Cc: dpdk-test-reports@iol.unh.edu
In-Reply-To: <20240705174526.3035295-8-yoan.picchi@arm.com>
References: <20240705174526.3035295-8-yoan.picchi@arm.com>
Content-Type: text/plain
X-BeenThere: test-report@dpdk.org
X-Mailman-Version: 2.1.29
Precedence: list
List-Id: automatic DPDK test reports <test-report.dpdk.org>
List-Unsubscribe: <https://mails.dpdk.org/options/test-report>,
 <mailto:test-report-request@dpdk.org?subject=unsubscribe>
List-Archive: <http://mails.dpdk.org/archives/test-report/>
List-Post: <mailto:test-report@dpdk.org>
List-Help: <mailto:test-report-request@dpdk.org?subject=help>
List-Subscribe: <https://mails.dpdk.org/listinfo/test-report>,
 <mailto:test-report-request@dpdk.org?subject=subscribe>
Errors-To: test-report-bounces@dpdk.org

Test-Label: iol-unit-amd64-testing
Test-Status: PENDING
http://dpdk.org/patch/142162

_Testing pending_

Submitter: Yoan Picchi <yoan.picchi@arm.com>
Date: Friday, July 05 2024 17:45:26 
DPDK git baseline: Repo:dpdk
  Branch: master
  CommitID:fcfb19cda4f6439f260cdeabb6c44d3c6f0d5fc4

142156-142162 --> testing pending

Test environment and result as below:

+---------------------+----------------+
|     Environment     | dpdk_unit_test |
+=====================+================+
| Windows Server 2022 | PASS           |
+---------------------+----------------+
| CentOS Stream 8     | PASS           |
+---------------------+----------------+
| CentOS Stream 9     | PASS           |
+---------------------+----------------+
| Debian Bullseye     | PASS           |
+---------------------+----------------+
| Debian 12           | PASS           |
+---------------------+----------------+
| Fedora 37           | PASS           |
+---------------------+----------------+
| Fedora 38           | PASS           |
+---------------------+----------------+
| Fedora 38 (Clang)   | PASS           |
+---------------------+----------------+
| Fedora 39           | PEND           |
+---------------------+----------------+
| Fedora 39 (Clang)   | PASS           |
+---------------------+----------------+
| Windows Server 2019 | PASS           |
+---------------------+----------------+
| Fedora 40           | PASS           |
+---------------------+----------------+
| Fedora 40 (Clang)   | PEND           |
+---------------------+----------------+
| openSUSE Leap 15    | PEND           |
+---------------------+----------------+
| RHEL8               | PEND           |
+---------------------+----------------+
| RHEL9               | PEND           |
+---------------------+----------------+
| Ubuntu 20.04        | PEND           |
+---------------------+----------------+
| Ubuntu 24.04        | PEND           |
+---------------------+----------------+
| Ubuntu 22.04        | PEND           |
+---------------------+----------------+


Windows Server 2022
	Kernel: 10.0.20348.2031
	Compiler: clang 15.0.7, gcc 8.1.0 (MinGW), and MSVC VS 17.9

CentOS Stream 8
	Kernel: 5.4.0-167-generic
	Compiler: gcc 8.5.0 20210514

CentOS Stream 9
	Kernel: 5.4.0-167-generic
	Compiler: gcc 11.4.1 20230605

Debian Bullseye
	Kernel: 5.4.0-167-generic
	Compiler: gcc 10.2.1-6

Debian 12
	Kernel: Container Host Kernel
	Compiler: gcc 12.2.0

Fedora 37
	Kernel: Depends on container host system
	Compiler: gcc 12.3.1

Fedora 38
	Kernel: Depends on container host
	Compiler: gcc 13.2.1

Fedora 38 (Clang)
	Kernel: Depends on container host
	Compiler: clang 16.0.6

Fedora 39
	Kernel: Depends on container host
	Compiler: gcc 13.2.1

Fedora 39 (Clang)
	Kernel: Depends on container host
	Compiler: clang 17.0.6

Windows Server 2019
	Kernel: 10.0.17763
	Compiler: clang 14.0 and gcc 8.1.0 (MinGW)

Fedora 40
	Kernel: Depends on container host
	Compiler: gcc 14.1.1

Fedora 40 (Clang)
	Kernel: Depends on container host
	Compiler: clang 18.1.6

openSUSE Leap 15
	Kernel: 5.4.0-167-generic
	Compiler: gcc 7.5.0

RHEL8
	Kernel: 5.4.0-167-generic
	Compiler: gcc 8.5.0 20210514 (Red Hat 8.5.0-20)

RHEL9
	Kernel: Depends on container host
	Compiler: gcc 11.4.1

Ubuntu 20.04
	Kernel: 5.4.0-167-generic
	Compiler: gcc 9.4.0-1ubuntu1~20.04.1

Ubuntu 24.04
	Kernel: 5.4.0-167-generic
	Compiler: gcc 13.2.0

Ubuntu 22.04
	Kernel: 5.4.0-167-generic
	Compiler: gcc 11.4.0

To view detailed results, visit:
https://lab.dpdk.org/results/dashboard/patchsets/30439/

UNH-IOL DPDK Community Lab

To manage your email subscriptions, visit: 
https://lab.dpdk.org/results/dashboard/preferences/subscriptions/