From mboxrd@z Thu Jan  1 00:00:00 1970
Return-Path: <test-report-bounces@dpdk.org>
Received: from mails.dpdk.org (mails.dpdk.org [217.70.189.124])
	by inbox.dpdk.org (Postfix) with ESMTP id 0F740455BC
	for <public@inbox.dpdk.org>; Mon,  8 Jul 2024 11:55:01 +0200 (CEST)
Received: from mails.dpdk.org (localhost [127.0.0.1])
	by mails.dpdk.org (Postfix) with ESMTP id 0AEE14025E;
	Mon,  8 Jul 2024 11:55:01 +0200 (CEST)
Received: from mail-pl1-f225.google.com (mail-pl1-f225.google.com
 [209.85.214.225])
 by mails.dpdk.org (Postfix) with ESMTP id E3AB24003C
 for <test-report@dpdk.org>; Mon,  8 Jul 2024 11:54:59 +0200 (CEST)
Received: by mail-pl1-f225.google.com with SMTP id
 d9443c01a7336-1fb4fa1bb34so9427165ad.0
 for <test-report@dpdk.org>; Mon, 08 Jul 2024 02:54:59 -0700 (PDT)
DKIM-Signature: v=1; a=rsa-sha256; c=relaxed/relaxed;
 d=iol.unh.edu; s=unh-iol; t=1720432499; x=1721037299; darn=dpdk.org;
 h=references:in-reply-to:cc:to:from:subject:message-id:date:from:to
 :cc:subject:date:message-id:reply-to;
 bh=oljv29as4lY3o+VITxHW9ATc4zLHpv6kmScNYyJ/h84=;
 b=Pcs4WHowbxvc5lx3VcMwOBcHRBUqhDTPRBdrGOskTjpp452Y1nNiXPvgesZxc+IHKM
 H3n56KM2fVYCdMz/7hoqaR/0JghHrz+N+P8cziGh8d46J30nSfCyE7XDVV0hXLEYL33A
 cqovFJapVrxl+YDOgcc9V690XV6uFf5nlXMrg=
X-Google-DKIM-Signature: v=1; a=rsa-sha256; c=relaxed/relaxed;
 d=1e100.net; s=20230601; t=1720432499; x=1721037299;
 h=references:in-reply-to:cc:to:from:subject:message-id:date
 :x-gm-message-state:from:to:cc:subject:date:message-id:reply-to;
 bh=oljv29as4lY3o+VITxHW9ATc4zLHpv6kmScNYyJ/h84=;
 b=Txz+SJSR0N04qeiIdS6ndR9xVDjRkjfHIT0mwfUMd51HqJashKp7M3YnJktIgEwrXS
 u9O+PI77JsMv9bZcOntivqKTGqSIL5MK5ZbNTzlClO/FCDUDoqbUGHdw1wtLvVbaW81i
 oQ0qqfHhiGiLFoALGhI+6Cb+LWQtpSR2ARvznzObb/7FDMHYAJvl7zthInd3Ag1rJ6yC
 98gHwLS1nuosX7mN1tSOOxFwFmlql5MjY/mApIxrSf34ausNlFhySCpkW+feNeD4YpON
 ieHacBgjQUdxHyrj4TyT8Fa3IbKJjsUcsAleP1nw+EBJ3UPtvYtN8OVrKsJJ40sDTac/
 QYvg==
X-Gm-Message-State: AOJu0YzCG5/02qpxZZGVZ9gw0RfyRee6p9H03ymSlhazUNnlEGQFVgP5
 PePLPXqU5idRAjnqSfGcnF6jGB3HDOE8A6Ygj5gozz3TyKg3nYXwlKZAuPo+p1GVKaDWN6wPVRd
 b5s5nHgTi01JYdDBrFL0e3Ak6+5AROF7zc82dsCUN
X-Google-Smtp-Source: AGHT+IHI4F/TVrcfql4Z5O+WXTH6UlVBjHr0JjKIVY3uRPVFQXZcTdm4ZY5cNnfXCXCK1jToFHnDLaC6u9I6
X-Received: by 2002:a17:90a:cb11:b0:2c8:64a:5f77 with SMTP id
 98e67ed59e1d1-2ca162a234cmr970998a91.37.1720432499062; 
 Mon, 08 Jul 2024 02:54:59 -0700 (PDT)
Received: from postal.iol.unh.edu (postal.iol.unh.edu. [132.177.123.84])
 by smtp-relay.gmail.com with ESMTPS id
 98e67ed59e1d1-2c99a989d1asm340828a91.1.2024.07.08.02.54.58
 (version=TLS1_2 cipher=ECDHE-ECDSA-AES128-GCM-SHA256 bits=128/128);
 Mon, 08 Jul 2024 02:54:59 -0700 (PDT)
X-Relaying-Domain: iol.unh.edu
Date: Mon, 08 Jul 2024 02:54:59 -0700 (PDT)
Message-ID: <668bb773.170a0220.bf9cd.87a4SMTPIN_ADDED_MISSING@mx.google.com>
Received: from [172.21.0.6] (unknown [172.18.0.240])
 by postal.iol.unh.edu (Postfix) with ESMTP id 1CD0260526E2;
 Mon,  8 Jul 2024 05:54:58 -0400 (EDT)
Subject: |SUCCESS| pw142192 [PATCH] [v2] net/nfp: fix port action core dump
From: dpdklab@iol.unh.edu
To: Test Report <test-report@dpdk.org>
Cc: dpdk-test-reports@iol.unh.edu
In-Reply-To: <20240708031209.79302-1-chaoyong.he@corigine.com>
References: <20240708031209.79302-1-chaoyong.he@corigine.com>
Content-Type: text/plain
X-BeenThere: test-report@dpdk.org
X-Mailman-Version: 2.1.29
Precedence: list
List-Id: automatic DPDK test reports <test-report.dpdk.org>
List-Unsubscribe: <https://mails.dpdk.org/options/test-report>,
 <mailto:test-report-request@dpdk.org?subject=unsubscribe>
List-Archive: <http://mails.dpdk.org/archives/test-report/>
List-Post: <mailto:test-report@dpdk.org>
List-Help: <mailto:test-report-request@dpdk.org?subject=help>
List-Subscribe: <https://mails.dpdk.org/listinfo/test-report>,
 <mailto:test-report-request@dpdk.org?subject=subscribe>
Errors-To: test-report-bounces@dpdk.org

Test-Label: iol-compile-amd64-testing
Test-Status: SUCCESS
http://dpdk.org/patch/142192

_Testing PASS_

Submitter: Chaoyong He <chaoyong.he@corigine.com>
Date: Monday, July 08 2024 03:12:09 
DPDK git baseline: Repo:dpdk
  Branch: master
  CommitID:249c34811d8f134110784872ee3f31ead1fde84c

142192 --> testing pass

Test environment and result as below:

+---------------------+----------------------+--------------------+-------------------+
|     Environment     | dpdk_mingw64_compile | dpdk_meson_compile | dpdk_msvc_compile |
+=====================+======================+====================+===================+
| Windows Server 2019 | PASS                 | PASS               | SKIPPED           |
+---------------------+----------------------+--------------------+-------------------+
| Windows Server 2022 | PASS                 | PASS               | PASS              |
+---------------------+----------------------+--------------------+-------------------+
| FreeBSD 13.3        | SKIPPED              | PASS               | SKIPPED           |
+---------------------+----------------------+--------------------+-------------------+
| FreeBSD 14.1        | SKIPPED              | PASS               | SKIPPED           |
+---------------------+----------------------+--------------------+-------------------+


Windows Server 2019
	Kernel: 10.0.17763
	Compiler: clang 14.0 and gcc 8.1.0 (MinGW)

Windows Server 2022
	Kernel: 10.0.20348.2031
	Compiler: clang 15.0.7, gcc 8.1.0 (MinGW), and MSVC VS 17.9

FreeBSD 13.3
	Kernel: 13.3-RELEASE-p1
	Compiler: clang 17.0.6

FreeBSD 14.1
	Kernel: 14.1
	Compiler: clang 18.1.5

To view detailed results, visit:
https://lab.dpdk.org/results/dashboard/patchsets/30448/

UNH-IOL DPDK Community Lab

To manage your email subscriptions, visit: 
https://lab.dpdk.org/results/dashboard/preferences/subscriptions/