From mboxrd@z Thu Jan  1 00:00:00 1970
Return-Path: <test-report-bounces@dpdk.org>
Received: from mails.dpdk.org (mails.dpdk.org [217.70.189.124])
	by inbox.dpdk.org (Postfix) with ESMTP id 1EE65455C2
	for <public@inbox.dpdk.org>; Mon,  8 Jul 2024 13:25:22 +0200 (CEST)
Received: from mails.dpdk.org (localhost [127.0.0.1])
	by mails.dpdk.org (Postfix) with ESMTP id 1AF63402F1;
	Mon,  8 Jul 2024 13:25:22 +0200 (CEST)
Received: from mail-pf1-f226.google.com (mail-pf1-f226.google.com
 [209.85.210.226])
 by mails.dpdk.org (Postfix) with ESMTP id 825D74025E
 for <test-report@dpdk.org>; Mon,  8 Jul 2024 13:25:21 +0200 (CEST)
Received: by mail-pf1-f226.google.com with SMTP id
 d2e1a72fcca58-70b04cb28acso2420855b3a.0
 for <test-report@dpdk.org>; Mon, 08 Jul 2024 04:25:21 -0700 (PDT)
DKIM-Signature: v=1; a=rsa-sha256; c=relaxed/relaxed;
 d=iol.unh.edu; s=unh-iol; t=1720437921; x=1721042721; darn=dpdk.org;
 h=references:in-reply-to:cc:to:from:subject:message-id:date:from:to
 :cc:subject:date:message-id:reply-to;
 bh=NOdi4GGNRcS+SVFUOzidOvEvPvimgpTAY4frJ2VTsBk=;
 b=ZhZ+27dwtiEh2sKrdYzbSJyjq57rQHv3hDVNCcw1U0U1SUB8pO5ewwM/75sU59ZhcI
 Ndc/rF7QK4WYGDoWUonhAyHj8YoZeCaXQivI5+ryurpJmphu/+iKS0zJUBwBL2PRhPXK
 riQImIWVhf9KXzIptbhQ1EBGv/ckWFEqa7qDI=
X-Google-DKIM-Signature: v=1; a=rsa-sha256; c=relaxed/relaxed;
 d=1e100.net; s=20230601; t=1720437921; x=1721042721;
 h=references:in-reply-to:cc:to:from:subject:message-id:date
 :x-gm-message-state:from:to:cc:subject:date:message-id:reply-to;
 bh=NOdi4GGNRcS+SVFUOzidOvEvPvimgpTAY4frJ2VTsBk=;
 b=gVr+RU8S+WLxaxWMFPbYKaoFhejsLch96YW3hj0TdvOFTdmuC7irtY8RDPMHlrPF3Q
 OZxtSY8Gdbuxt0WPuuj/ZHgnCjxNNv5/dMdAH0C8oFsk4wYroceEVHotzd4N4n8HFb+P
 1MoYaSrKRvgbjLYbt+gTq3eXf+xCvNkSfKVO8qJb65UjFJ407fww3Lwj+3AkMUqCfFBi
 JuinKXefYl6IDDZ94whfxPi6BObmxiyZSNuG1ySUuYu+rE/XpgnJyLESbWJ4DyNF5EJ0
 OBSSvC6SzOejCPOR1zCbkLYQJBbcnDphBaIdlEXvSJNtjKDteU1/P6hCd+H2sDx0jtty
 wBTg==
X-Gm-Message-State: AOJu0YzxaaKZgkC4b5443JoIq2Ku2jeV9vuZhOb4HY+rTorHzzbun6dz
 53rfNQY1GRTWuhv4m0yvL0/VFy6HUg9nVWAdSNYpcczLvhw0vg41fA0NT59OXZ98VDWCzuFnkIO
 hFHPBWD9DJKEMUkIZkr2t7uWklpRo5tCJoOmS4Oqo
X-Google-Smtp-Source: AGHT+IGx5f/VhjwD7P3CyhaLfL7Z4J4+PlcqsaB/odEc7IL8Bt2SustSf4TmthmaK0EhnT62b7pvBlZIN9CE
X-Received: by 2002:a05:6a20:3d81:b0:1b8:27dc:10c7 with SMTP id
 adf61e73a8af0-1c0cd194d98mr18853421637.12.1720437920719; 
 Mon, 08 Jul 2024 04:25:20 -0700 (PDT)
Received: from postal.iol.unh.edu (postal.iol.unh.edu. [132.177.123.84])
 by smtp-relay.gmail.com with ESMTPS id
 d2e1a72fcca58-70b10ce6eecsm308405b3a.1.2024.07.08.04.25.20
 (version=TLS1_2 cipher=ECDHE-ECDSA-AES128-GCM-SHA256 bits=128/128);
 Mon, 08 Jul 2024 04:25:20 -0700 (PDT)
X-Relaying-Domain: iol.unh.edu
Date: Mon, 08 Jul 2024 04:25:20 -0700 (PDT)
Message-ID: <668bcca0.050a0220.bca4d.676cSMTPIN_ADDED_MISSING@mx.google.com>
Received: from [172.21.0.6] (unknown [172.18.0.240])
 by postal.iol.unh.edu (Postfix) with ESMTP id C2CEA60526E2;
 Mon,  8 Jul 2024 07:25:19 -0400 (EDT)
Subject: |PENDING| pw142192 [PATCH] [v2] net/nfp: fix port action core dump
From: dpdklab@iol.unh.edu
To: Test Report <test-report@dpdk.org>
Cc: dpdk-test-reports@iol.unh.edu
In-Reply-To: <20240708031209.79302-1-chaoyong.he@corigine.com>
References: <20240708031209.79302-1-chaoyong.he@corigine.com>
Content-Type: text/plain
X-BeenThere: test-report@dpdk.org
X-Mailman-Version: 2.1.29
Precedence: list
List-Id: automatic DPDK test reports <test-report.dpdk.org>
List-Unsubscribe: <https://mails.dpdk.org/options/test-report>,
 <mailto:test-report-request@dpdk.org?subject=unsubscribe>
List-Archive: <http://mails.dpdk.org/archives/test-report/>
List-Post: <mailto:test-report@dpdk.org>
List-Help: <mailto:test-report-request@dpdk.org?subject=help>
List-Subscribe: <https://mails.dpdk.org/listinfo/test-report>,
 <mailto:test-report-request@dpdk.org?subject=subscribe>
Errors-To: test-report-bounces@dpdk.org

Test-Label: iol-abi-testing
Test-Status: PENDING
http://dpdk.org/patch/142192

_Testing pending_

Submitter: Chaoyong He <chaoyong.he@corigine.com>
Date: Monday, July 08 2024 03:12:09 
DPDK git baseline: Repo:dpdk
  Branch: master
  CommitID:249c34811d8f134110784872ee3f31ead1fde84c

142192 --> testing pending

Test environment and result as below:

+-------------------+----------+
|    Environment    | abi_test |
+===================+==========+
| CentOS Stream 8   | PEND     |
+-------------------+----------+
| CentOS Stream 9   | PASS     |
+-------------------+----------+
| Debian Bullseye   | PASS     |
+-------------------+----------+
| Fedora 37         | PEND     |
+-------------------+----------+
| Debian 12         | PEND     |
+-------------------+----------+
| Fedora 39 (Clang) | PASS     |
+-------------------+----------+
| Fedora 38         | PASS     |
+-------------------+----------+
| Fedora 38 (Clang) | PEND     |
+-------------------+----------+
| Fedora 39         | PEND     |
+-------------------+----------+
| RHEL8             | PEND     |
+-------------------+----------+
| openSUSE Leap 15  | PEND     |
+-------------------+----------+
| Fedora 40         | PEND     |
+-------------------+----------+
| Fedora 40 (Clang) | PEND     |
+-------------------+----------+
| RHEL9             | PEND     |
+-------------------+----------+
| Ubuntu 22.04      | PEND     |
+-------------------+----------+
| Ubuntu 24.04      | PEND     |
+-------------------+----------+


CentOS Stream 8
	Kernel: 5.4.0-167-generic
	Compiler: gcc 8.5.0 20210514

CentOS Stream 9
	Kernel: 5.4.0-167-generic
	Compiler: gcc 11.4.1 20230605

Debian Bullseye
	Kernel: 5.4.0-167-generic
	Compiler: gcc 10.2.1-6

Fedora 37
	Kernel: Depends on container host system
	Compiler: gcc 12.3.1

Debian 12
	Kernel: Container Host Kernel
	Compiler: gcc 12.2.0

Fedora 39 (Clang)
	Kernel: Depends on container host
	Compiler: clang 17.0.6

Fedora 38
	Kernel: Depends on container host
	Compiler: gcc 13.2.1

Fedora 38 (Clang)
	Kernel: Depends on container host
	Compiler: clang 16.0.6

Fedora 39
	Kernel: Depends on container host
	Compiler: gcc 13.2.1

RHEL8
	Kernel: 5.4.0-167-generic
	Compiler: gcc 8.5.0 20210514 (Red Hat 8.5.0-20)

openSUSE Leap 15
	Kernel: 5.4.0-167-generic
	Compiler: gcc 7.5.0

Fedora 40
	Kernel: Depends on container host
	Compiler: gcc 14.1.1

Fedora 40 (Clang)
	Kernel: Depends on container host
	Compiler: clang 18.1.6

RHEL9
	Kernel: Depends on container host
	Compiler: gcc 11.4.1

Ubuntu 22.04
	Kernel: 5.4.0-167-generic
	Compiler: gcc 11.4.0

Ubuntu 24.04
	Kernel: 5.4.0-167-generic
	Compiler: gcc 13.2.0

To view detailed results, visit:
https://lab.dpdk.org/results/dashboard/patchsets/30448/

UNH-IOL DPDK Community Lab

To manage your email subscriptions, visit: 
https://lab.dpdk.org/results/dashboard/preferences/subscriptions/