From mboxrd@z Thu Jan  1 00:00:00 1970
Return-Path: <test-report-bounces@dpdk.org>
Received: from mails.dpdk.org (mails.dpdk.org [217.70.189.124])
	by inbox.dpdk.org (Postfix) with ESMTP id DBAF6455C7
	for <public@inbox.dpdk.org>; Mon,  8 Jul 2024 18:52:48 +0200 (CEST)
Received: from mails.dpdk.org (localhost [127.0.0.1])
	by mails.dpdk.org (Postfix) with ESMTP id D84FB42791;
	Mon,  8 Jul 2024 18:52:48 +0200 (CEST)
Received: from mail-pj1-f100.google.com (mail-pj1-f100.google.com
 [209.85.216.100])
 by mails.dpdk.org (Postfix) with ESMTP id 427F24278E
 for <test-report@dpdk.org>; Mon,  8 Jul 2024 18:52:47 +0200 (CEST)
Received: by mail-pj1-f100.google.com with SMTP id
 98e67ed59e1d1-2c9baecc80fso1656313a91.1
 for <test-report@dpdk.org>; Mon, 08 Jul 2024 09:52:47 -0700 (PDT)
DKIM-Signature: v=1; a=rsa-sha256; c=relaxed/relaxed;
 d=iol.unh.edu; s=unh-iol; t=1720457566; x=1721062366; darn=dpdk.org;
 h=references:in-reply-to:cc:to:from:subject:message-id:date:from:to
 :cc:subject:date:message-id:reply-to;
 bh=3clZriePcIWi1+e1+mp1ReBX+ZhCBCzHlyMoSkOCyY8=;
 b=JlaHrG1dQ4tam9SMIi5jUD6T001NuHGOkVW6T09VZFJ1laRAp3CQS5XtbCRKejtGKC
 FdrTIqM9albLGFSzieMsnP9a2rWVPm2Z8toIwDM6dB6+SHOFmW6TuKn19wgwhAUEa2d4
 wNBG0g+2cD/N/inZZoH3m8tTr2+IFnhTLwuf4=
X-Google-DKIM-Signature: v=1; a=rsa-sha256; c=relaxed/relaxed;
 d=1e100.net; s=20230601; t=1720457566; x=1721062366;
 h=references:in-reply-to:cc:to:from:subject:message-id:date
 :x-gm-message-state:from:to:cc:subject:date:message-id:reply-to;
 bh=3clZriePcIWi1+e1+mp1ReBX+ZhCBCzHlyMoSkOCyY8=;
 b=iq1xNLWYIszl6qKu+AZgPaj9ejejOhshhS/po7/hog64PLcc8jbjB1Y+nP77+1mw/K
 Y9Cmi7j+LsQXxzYh4UKLsfUnTzK3x5tBauSFlR3d2re2pkb0nwET6klcoyGyeyN680aQ
 mWUYhSR1i7ia1zsmLmDsYqVK4YnEhNRV0Y44jPxHusVCnRGkIWZbIFmsA8/OPq8xWZuL
 HrXlFIZddLIjyoE9xMn6f9tPh1SI35CE2DhedtXINFbEQtHiNI3UZMp7pO0t2HheE8+V
 6l61BXVCea+XXQFceofnyfw35ci25sRUkzmkwITlF5xLsJAojrnJRxvS00Vpu78equG7
 NajQ==
X-Gm-Message-State: AOJu0YwtIcqqC4whUa7YBbK2akKb2oG8Jdu2izY8oU2iWiD7B8tGv0Uq
 eBGf9N+xM3QzwB9D7BVyyzTVy3/8sY8NR9Qc4HV5AV3j+MpqdI3dRCAZH4R92+VChgoIEHTtm4f
 12IYxmyxM/d72nMuTfzqs3Orp2SoT5GoKgkn+km7M3jIAO9E13Wgt3Hah
X-Google-Smtp-Source: AGHT+IEtL2hi1b6Ow+etb7jfq8VAhSqN2Bn07UaZnxB3LvcfwzGdFhoYCMReKrM9tUrLqCtm08zSdgsQoh+7
X-Received: by 2002:a17:90b:38c9:b0:2c3:37e7:aaa8 with SMTP id
 98e67ed59e1d1-2ca35d60c9emr167412a91.46.1720457566314; 
 Mon, 08 Jul 2024 09:52:46 -0700 (PDT)
Received: from postal.iol.unh.edu (postal.iol.unh.edu.
 [2606:4100:3880:1234::84]) by smtp-relay.gmail.com with ESMTPS id
 98e67ed59e1d1-2ca343c2bbasm12768a91.1.2024.07.08.09.52.46
 (version=TLS1_2 cipher=ECDHE-ECDSA-AES128-GCM-SHA256 bits=128/128);
 Mon, 08 Jul 2024 09:52:46 -0700 (PDT)
X-Relaying-Domain: iol.unh.edu
Date: Mon, 08 Jul 2024 09:52:46 -0700 (PDT)
Message-ID: <668c195e.170a0220.27771.0ecbSMTPIN_ADDED_MISSING@mx.google.com>
Received: from [172.21.0.7] (unknown [172.18.0.240])
 by postal.iol.unh.edu (Postfix) with ESMTP id C59C2605C380;
 Mon,  8 Jul 2024 12:52:45 -0400 (EDT)
Subject: |PENDING| pw142199-142206 [PATCH] [v3,8/8] mempool/dpaax: cache free
From: dpdklab@iol.unh.edu
To: Test Report <test-report@dpdk.org>
Cc: dpdk-test-reports@iol.unh.edu
In-Reply-To: <20240708072945.2376209-9-vanshika.shukla@nxp.com>
References: <20240708072945.2376209-9-vanshika.shukla@nxp.com>
Content-Type: text/plain
X-BeenThere: test-report@dpdk.org
X-Mailman-Version: 2.1.29
Precedence: list
List-Id: automatic DPDK test reports <test-report.dpdk.org>
List-Unsubscribe: <https://mails.dpdk.org/options/test-report>,
 <mailto:test-report-request@dpdk.org?subject=unsubscribe>
List-Archive: <http://mails.dpdk.org/archives/test-report/>
List-Post: <mailto:test-report@dpdk.org>
List-Help: <mailto:test-report-request@dpdk.org?subject=help>
List-Subscribe: <https://mails.dpdk.org/listinfo/test-report>,
 <mailto:test-report-request@dpdk.org?subject=subscribe>
Errors-To: test-report-bounces@dpdk.org

Test-Label: iol-unit-amd64-testing
Test-Status: PENDING
http://dpdk.org/patch/142206

_Testing pending_

Submitter: None <vanshika.shukla@nxp.com>
Date: Monday, July 08 2024 07:29:45 
DPDK git baseline: Repo:dpdk
  Branch: master
  CommitID:90c38f8182246d4f8039db59882b11f6bbf88d1b

142199-142206 --> testing pending

Test environment and result as below:

+---------------------+----------------+
|     Environment     | dpdk_unit_test |
+=====================+================+
| Windows Server 2022 | PASS           |
+---------------------+----------------+
| CentOS Stream 8     | PASS           |
+---------------------+----------------+
| CentOS Stream 9     | PASS           |
+---------------------+----------------+
| Windows Server 2019 | PASS           |
+---------------------+----------------+
| Debian Bullseye     | PASS           |
+---------------------+----------------+
| Debian 12           | PASS           |
+---------------------+----------------+
| Fedora 37           | PASS           |
+---------------------+----------------+
| Fedora 38           | PASS           |
+---------------------+----------------+
| Fedora 38 (Clang)   | PASS           |
+---------------------+----------------+
| Fedora 39           | PASS           |
+---------------------+----------------+
| Fedora 40           | PASS           |
+---------------------+----------------+
| Fedora 39 (Clang)   | PEND           |
+---------------------+----------------+
| Fedora 40 (Clang)   | PEND           |
+---------------------+----------------+
| openSUSE Leap 15    | PASS           |
+---------------------+----------------+
| RHEL8               | PEND           |
+---------------------+----------------+
| RHEL9               | PEND           |
+---------------------+----------------+
| Ubuntu 22.04        | PEND           |
+---------------------+----------------+
| Ubuntu 20.04        | PEND           |
+---------------------+----------------+
| Ubuntu 24.04        | PEND           |
+---------------------+----------------+


Windows Server 2022
	Kernel: 10.0.20348.2031
	Compiler: clang 15.0.7, gcc 8.1.0 (MinGW), and MSVC VS 17.9

CentOS Stream 8
	Kernel: 5.4.0-167-generic
	Compiler: gcc 8.5.0 20210514

CentOS Stream 9
	Kernel: 5.4.0-167-generic
	Compiler: gcc 11.4.1 20230605

Windows Server 2019
	Kernel: 10.0.17763
	Compiler: clang 14.0 and gcc 8.1.0 (MinGW)

Debian Bullseye
	Kernel: 5.4.0-167-generic
	Compiler: gcc 10.2.1-6

Debian 12
	Kernel: Container Host Kernel
	Compiler: gcc 12.2.0

Fedora 37
	Kernel: Depends on container host system
	Compiler: gcc 12.3.1

Fedora 38
	Kernel: Depends on container host
	Compiler: gcc 13.2.1

Fedora 38 (Clang)
	Kernel: Depends on container host
	Compiler: clang 16.0.6

Fedora 39
	Kernel: Depends on container host
	Compiler: gcc 13.2.1

Fedora 40
	Kernel: Depends on container host
	Compiler: gcc 14.1.1

Fedora 39 (Clang)
	Kernel: Depends on container host
	Compiler: clang 17.0.6

Fedora 40 (Clang)
	Kernel: Depends on container host
	Compiler: clang 18.1.6

openSUSE Leap 15
	Kernel: 5.4.0-167-generic
	Compiler: gcc 7.5.0

RHEL8
	Kernel: 5.4.0-167-generic
	Compiler: gcc 8.5.0 20210514 (Red Hat 8.5.0-20)

RHEL9
	Kernel: Depends on container host
	Compiler: gcc 11.4.1

Ubuntu 22.04
	Kernel: 5.4.0-167-generic
	Compiler: gcc 11.4.0

Ubuntu 20.04
	Kernel: 5.4.0-167-generic
	Compiler: gcc 9.4.0-1ubuntu1~20.04.1

Ubuntu 24.04
	Kernel: 5.4.0-167-generic
	Compiler: gcc 13.2.0

To view detailed results, visit:
https://lab.dpdk.org/results/dashboard/patchsets/30452/

UNH-IOL DPDK Community Lab

To manage your email subscriptions, visit: 
https://lab.dpdk.org/results/dashboard/preferences/subscriptions/