From mboxrd@z Thu Jan  1 00:00:00 1970
Return-Path: <test-report-bounces@dpdk.org>
Received: from mails.dpdk.org (mails.dpdk.org [217.70.189.124])
	by inbox.dpdk.org (Postfix) with ESMTP id 37C35455D6
	for <public@inbox.dpdk.org>; Wed, 10 Jul 2024 21:35:58 +0200 (CEST)
Received: from mails.dpdk.org (localhost [127.0.0.1])
	by mails.dpdk.org (Postfix) with ESMTP id 3293840E0A;
	Wed, 10 Jul 2024 21:35:58 +0200 (CEST)
Received: from mail-pl1-f228.google.com (mail-pl1-f228.google.com
 [209.85.214.228])
 by mails.dpdk.org (Postfix) with ESMTP id 68D7340647
 for <test-report@dpdk.org>; Wed, 10 Jul 2024 21:35:57 +0200 (CEST)
Received: by mail-pl1-f228.google.com with SMTP id
 d9443c01a7336-1fbc3a9d23bso690315ad.1
 for <test-report@dpdk.org>; Wed, 10 Jul 2024 12:35:57 -0700 (PDT)
DKIM-Signature: v=1; a=rsa-sha256; c=relaxed/relaxed;
 d=iol.unh.edu; s=unh-iol; t=1720640156; x=1721244956; darn=dpdk.org;
 h=references:in-reply-to:cc:to:from:subject:message-id:date:from:to
 :cc:subject:date:message-id:reply-to;
 bh=gLh8L2wzX5XXhahLXz/iOhfcmAkElr84TI8N4wd1ya8=;
 b=VqBBOcrZsBifivo8i2BZUQOmKSchCB4NSe/1+lYoxnl8HzbUMLc1mjEN0NjYV6GvwM
 0v0tPdGmdk34RdA/7flFcgQnDwyqSHpBkmGpsQg85OhAqapQ+JrFHhaYP0xP+xkbWyWa
 FJgVpht1yYUfto5MKgaLRXUIx4hxOFzU/oL1M=
X-Google-DKIM-Signature: v=1; a=rsa-sha256; c=relaxed/relaxed;
 d=1e100.net; s=20230601; t=1720640156; x=1721244956;
 h=references:in-reply-to:cc:to:from:subject:message-id:date
 :x-gm-message-state:from:to:cc:subject:date:message-id:reply-to;
 bh=gLh8L2wzX5XXhahLXz/iOhfcmAkElr84TI8N4wd1ya8=;
 b=q7Wj9VxUpXgHpW6AZjWjPATDjYt/g4vdvwKWIgE9e3G6sWEli3+RcZyxhefKiF9AHk
 cdiI0olGKfU2A3TcjfjnTX+3K6hN6iZjHxXu/y/mI0hlhbkuGvc8mmF5KaBr0u9iKF+A
 0hDGFVqof2gcnauBdXpBAyDWy58/uJwDK7dTgbMM2dizNx1zNzsVgr1yYdA/EPa+E4jt
 Hd0aPVi0J+AMHXgPZ7d1UJCv1zQ+eO8XZAUcqULwPQl/d7ZEXXkZHJ+9iJaGQPBhxaHx
 kfRW9NhWzL9K6zZivDTlhO5+piujG1p/0BnI9Mk7sqBRLs8uvYi8u7UAF150UH3O+Unr
 EQfg==
X-Gm-Message-State: AOJu0YzQ2C0cuVNXa0wIogaYbeftHyyyqjsmMoDvxcRFugHWGNZBUfZx
 EOoTPqE1cibfAETItkpwbzwTx5Af7oiikotK5p1dnxFK3/kAGl9K+0/cKEnbVS6/fXHGeGmJxSG
 lnDJEes/PstempByGIH5KAW73BMTzVjoSWXF48OQVm/O6WEnYMDJHm8MA
X-Google-Smtp-Source: AGHT+IEAm8mHCNLpw32wChvKNkedooc1iFQpbgHYzZvsbLar90rk3IrXM8HZ8+kd+3ZWmcdnAdCTqOILzVeZ
X-Received: by 2002:a17:902:e30a:b0:1fb:76d9:fe84 with SMTP id
 d9443c01a7336-1fbb6f0ce0bmr38220895ad.65.1720640156446; 
 Wed, 10 Jul 2024 12:35:56 -0700 (PDT)
Received: from postal.iol.unh.edu (postal.iol.unh.edu.
 [2606:4100:3880:1234::84]) by smtp-relay.gmail.com with ESMTPS id
 d9443c01a7336-1fbb6a131e5sm1554625ad.25.2024.07.10.12.35.56
 (version=TLS1_2 cipher=ECDHE-ECDSA-AES128-GCM-SHA256 bits=128/128);
 Wed, 10 Jul 2024 12:35:56 -0700 (PDT)
X-Relaying-Domain: iol.unh.edu
Date: Wed, 10 Jul 2024 12:35:56 -0700 (PDT)
Message-ID: <668ee29c.170a0220.69aab.8b51SMTPIN_ADDED_MISSING@mx.google.com>
Received: from [172.21.0.6] (unknown [172.18.0.240])
 by postal.iol.unh.edu (Postfix) with ESMTP id 964A5605C380;
 Wed, 10 Jul 2024 15:35:55 -0400 (EDT)
Subject: |PENDING| pw142292 [PATCH] [v1,1/1] fbarray: fix find_next_n for una
From: dpdklab@iol.unh.edu
To: Test Report <test-report@dpdk.org>
Cc: dpdk-test-reports@iol.unh.edu
In-Reply-To: <229663bd30b1f64accf51bdefa20f6abf9ee8ad0.1720612158.git.anatoly.burakov@intel.com>
References: <229663bd30b1f64accf51bdefa20f6abf9ee8ad0.1720612158.git.anatoly.burakov@intel.com>
Content-Type: text/plain
X-BeenThere: test-report@dpdk.org
X-Mailman-Version: 2.1.29
Precedence: list
List-Id: automatic DPDK test reports <test-report.dpdk.org>
List-Unsubscribe: <https://mails.dpdk.org/options/test-report>,
 <mailto:test-report-request@dpdk.org?subject=unsubscribe>
List-Archive: <http://mails.dpdk.org/archives/test-report/>
List-Post: <mailto:test-report@dpdk.org>
List-Help: <mailto:test-report-request@dpdk.org?subject=help>
List-Subscribe: <https://mails.dpdk.org/listinfo/test-report>,
 <mailto:test-report-request@dpdk.org?subject=subscribe>
Errors-To: test-report-bounces@dpdk.org

Test-Label: iol-abi-testing
Test-Status: PENDING
http://dpdk.org/patch/142292

_Testing pending_

Submitter: Anatoly Burakov <anatoly.burakov@intel.com>
Date: Wednesday, July 10 2024 11:49:26 
DPDK git baseline: Repo:dpdk
  Branch: master
  CommitID:830d7c98d6b2746401142050a88ff5cbc3465ba7

142292 --> testing pending

Test environment and result as below:

+-------------------+----------+
|    Environment    | abi_test |
+===================+==========+
| CentOS Stream 8   | PASS     |
+-------------------+----------+
| Debian Bullseye   | PASS     |
+-------------------+----------+
| CentOS Stream 9   | PASS     |
+-------------------+----------+
| Debian 12         | PASS     |
+-------------------+----------+
| Fedora 38 (Clang) | PASS     |
+-------------------+----------+
| Fedora 37         | PEND     |
+-------------------+----------+
| Fedora 38         | PASS     |
+-------------------+----------+
| Fedora 39 (Clang) | PASS     |
+-------------------+----------+
| Ubuntu 24.04      | PEND     |
+-------------------+----------+
| Fedora 39         | PEND     |
+-------------------+----------+
| Fedora 40 (Clang) | PEND     |
+-------------------+----------+
| openSUSE Leap 15  | PEND     |
+-------------------+----------+
| Fedora 40         | PEND     |
+-------------------+----------+
| RHEL8             | PEND     |
+-------------------+----------+
| Ubuntu 22.04      | PEND     |
+-------------------+----------+
| RHEL9             | PEND     |
+-------------------+----------+


CentOS Stream 8
	Kernel: 5.4.0-167-generic
	Compiler: gcc 8.5.0 20210514

Debian Bullseye
	Kernel: 5.4.0-167-generic
	Compiler: gcc 10.2.1-6

CentOS Stream 9
	Kernel: 5.4.0-167-generic
	Compiler: gcc 11.4.1 20230605

Debian 12
	Kernel: Container Host Kernel
	Compiler: gcc 12.2.0

Fedora 38 (Clang)
	Kernel: Depends on container host
	Compiler: clang 16.0.6

Fedora 37
	Kernel: Depends on container host system
	Compiler: gcc 12.3.1

Fedora 38
	Kernel: Depends on container host
	Compiler: gcc 13.2.1

Fedora 39 (Clang)
	Kernel: Depends on container host
	Compiler: clang 17.0.6

Ubuntu 24.04
	Kernel: 5.4.0-167-generic
	Compiler: gcc 13.2.0

Fedora 39
	Kernel: Depends on container host
	Compiler: gcc 13.2.1

Fedora 40 (Clang)
	Kernel: Depends on container host
	Compiler: clang 18.1.6

openSUSE Leap 15
	Kernel: 5.4.0-167-generic
	Compiler: gcc 7.5.0

Fedora 40
	Kernel: Depends on container host
	Compiler: gcc 14.1.1

RHEL8
	Kernel: 5.4.0-167-generic
	Compiler: gcc 8.5.0 20210514 (Red Hat 8.5.0-20)

Ubuntu 22.04
	Kernel: 5.4.0-167-generic
	Compiler: gcc 11.4.0

RHEL9
	Kernel: Depends on container host
	Compiler: gcc 11.4.1

To view detailed results, visit:
https://lab.dpdk.org/results/dashboard/patchsets/30486/

UNH-IOL DPDK Community Lab

To manage your email subscriptions, visit: 
https://lab.dpdk.org/results/dashboard/preferences/subscriptions/