From mboxrd@z Thu Jan  1 00:00:00 1970
Return-Path: <test-report-bounces@dpdk.org>
Received: from mails.dpdk.org (mails.dpdk.org [217.70.189.124])
	by inbox.dpdk.org (Postfix) with ESMTP id 8185D455D6
	for <public@inbox.dpdk.org>; Wed, 10 Jul 2024 21:51:47 +0200 (CEST)
Received: from mails.dpdk.org (localhost [127.0.0.1])
	by mails.dpdk.org (Postfix) with ESMTP id 7C163410D4;
	Wed, 10 Jul 2024 21:51:47 +0200 (CEST)
Received: from mail-il1-f226.google.com (mail-il1-f226.google.com
 [209.85.166.226])
 by mails.dpdk.org (Postfix) with ESMTP id A45F840647
 for <test-report@dpdk.org>; Wed, 10 Jul 2024 21:51:45 +0200 (CEST)
Received: by mail-il1-f226.google.com with SMTP id
 e9e14a558f8ab-3847b2395d1so465265ab.2
 for <test-report@dpdk.org>; Wed, 10 Jul 2024 12:51:45 -0700 (PDT)
DKIM-Signature: v=1; a=rsa-sha256; c=relaxed/relaxed;
 d=iol.unh.edu; s=unh-iol; t=1720641105; x=1721245905; darn=dpdk.org;
 h=references:in-reply-to:cc:to:from:subject:message-id:date:from:to
 :cc:subject:date:message-id:reply-to;
 bh=T6dU8e9IAH6fxEN34idZPLqndPYQmEK/2iqd8sk7Who=;
 b=bb/Ya2sPyiesLbw/ZzbuHgEBFYhi0patVA6EPewcbDdZhMmFGiCsHUzVs9i04c0iTi
 Eo++kR9RzsI+dRxWTuXocqqZTC7seCBI8eRbeagtI1N+4ZV1BtvKblTKNwXIzjJztDXr
 JRCQoFMNuuQqjrXioTgVSBwWGwSaXXQYId8X8=
X-Google-DKIM-Signature: v=1; a=rsa-sha256; c=relaxed/relaxed;
 d=1e100.net; s=20230601; t=1720641105; x=1721245905;
 h=references:in-reply-to:cc:to:from:subject:message-id:date
 :x-gm-message-state:from:to:cc:subject:date:message-id:reply-to;
 bh=T6dU8e9IAH6fxEN34idZPLqndPYQmEK/2iqd8sk7Who=;
 b=Odvke5DFMdZdtsyNmfGDvxKBDhmz5LWmlrMdMnb0zgF7sQcA21V+sk+QufzeiTlR+3
 q4x47u3MesknQW2gE/nGL+wvXmF38rruiEm4X8eIV40jCkgoraoxnrMAHBxuKEj27FJL
 H0zp9k8urYx+Mkb7PpTQN3jnsMUEN420VKNFGVQeMbYu6gm2JmSfktq7mEqdZCSe7Yen
 8VBBcvd/Ow502yHn6xJ2KabCEQfR8RrlAPpuk/rd44qev1VS+CmImvjddUsql0p5yp3C
 sZpgG+kzWI8y+E3jffFTmC3VQqJjonVgt/kIojQxX/vJAdKeybox/KgsOQUzD7ORm/8t
 F5ig==
X-Gm-Message-State: AOJu0YwYPI0DbM51G6LbhLgt+Hp6VIlGSqsYf0tIc3CugF0h2k+Fd57i
 M4asRM3MI3F7Sr/0sOUZHcBgXfflNeRNzVHBPq2pOhIJZuzBhR5u9AjDtKDq35mcAOTI6O6bC7b
 PTjHZmwBm8saAA2M7J56B8BiL+ggztM0z0g/GGlcA
X-Google-Smtp-Source: AGHT+IGpKLRtrOgMHGxuFsPhUw5PZ9Y3ouQX/lo7gsLn5Ph54HPiZMdU0l+FDBoWBPkVZEoknuRFbURymaOl
X-Received: by 2002:a05:6e02:1e0b:b0:381:791a:6f60 with SMTP id
 e9e14a558f8ab-38a580a6d11mr87750465ab.19.1720641104901; 
 Wed, 10 Jul 2024 12:51:44 -0700 (PDT)
Received: from postal.iol.unh.edu (postal.iol.unh.edu. [132.177.123.84])
 by smtp-relay.gmail.com with ESMTPS id
 41be03b00d2f7-77d5dc71cfbsm180131a12.27.2024.07.10.12.51.44
 (version=TLS1_2 cipher=ECDHE-ECDSA-AES128-GCM-SHA256 bits=128/128);
 Wed, 10 Jul 2024 12:51:44 -0700 (PDT)
X-Relaying-Domain: iol.unh.edu
Date: Wed, 10 Jul 2024 12:51:44 -0700 (PDT)
Message-ID: <668ee650.630a0220.ef2af.a802SMTPIN_ADDED_MISSING@mx.google.com>
Received: from [172.21.0.6] (unknown [172.18.0.240])
 by postal.iol.unh.edu (Postfix) with ESMTP id 27199605C380;
 Wed, 10 Jul 2024 15:51:44 -0400 (EDT)
Subject: |PENDING| pw142292 [PATCH] [v1,1/1] fbarray: fix find_next_n for una
From: dpdklab@iol.unh.edu
To: Test Report <test-report@dpdk.org>
Cc: dpdk-test-reports@iol.unh.edu
In-Reply-To: <229663bd30b1f64accf51bdefa20f6abf9ee8ad0.1720612158.git.anatoly.burakov@intel.com>
References: <229663bd30b1f64accf51bdefa20f6abf9ee8ad0.1720612158.git.anatoly.burakov@intel.com>
Content-Type: text/plain
X-BeenThere: test-report@dpdk.org
X-Mailman-Version: 2.1.29
Precedence: list
List-Id: automatic DPDK test reports <test-report.dpdk.org>
List-Unsubscribe: <https://mails.dpdk.org/options/test-report>,
 <mailto:test-report-request@dpdk.org?subject=unsubscribe>
List-Archive: <http://mails.dpdk.org/archives/test-report/>
List-Post: <mailto:test-report@dpdk.org>
List-Help: <mailto:test-report-request@dpdk.org?subject=help>
List-Subscribe: <https://mails.dpdk.org/listinfo/test-report>,
 <mailto:test-report-request@dpdk.org?subject=subscribe>
Errors-To: test-report-bounces@dpdk.org

Test-Label: iol-abi-testing
Test-Status: PENDING
http://dpdk.org/patch/142292

_Testing pending_

Submitter: Anatoly Burakov <anatoly.burakov@intel.com>
Date: Wednesday, July 10 2024 11:49:26 
DPDK git baseline: Repo:dpdk
  Branch: master
  CommitID:830d7c98d6b2746401142050a88ff5cbc3465ba7

142292 --> testing pending

Test environment and result as below:

+-------------------+----------+
|    Environment    | abi_test |
+===================+==========+
| CentOS Stream 8   | PASS     |
+-------------------+----------+
| Debian Bullseye   | PASS     |
+-------------------+----------+
| CentOS Stream 9   | PASS     |
+-------------------+----------+
| Debian 12         | PASS     |
+-------------------+----------+
| Fedora 38 (Clang) | PASS     |
+-------------------+----------+
| Fedora 37         | PASS     |
+-------------------+----------+
| Fedora 38         | PASS     |
+-------------------+----------+
| Fedora 39 (Clang) | PASS     |
+-------------------+----------+
| Ubuntu 24.04      | PASS     |
+-------------------+----------+
| Fedora 39         | PASS     |
+-------------------+----------+
| Fedora 40 (Clang) | PASS     |
+-------------------+----------+
| openSUSE Leap 15  | PASS     |
+-------------------+----------+
| Fedora 40         | PEND     |
+-------------------+----------+
| RHEL8             | PEND     |
+-------------------+----------+
| Ubuntu 22.04      | PEND     |
+-------------------+----------+
| RHEL9             | PEND     |
+-------------------+----------+


CentOS Stream 8
	Kernel: 5.4.0-167-generic
	Compiler: gcc 8.5.0 20210514

Debian Bullseye
	Kernel: 5.4.0-167-generic
	Compiler: gcc 10.2.1-6

CentOS Stream 9
	Kernel: 5.4.0-167-generic
	Compiler: gcc 11.4.1 20230605

Debian 12
	Kernel: Container Host Kernel
	Compiler: gcc 12.2.0

Fedora 38 (Clang)
	Kernel: Depends on container host
	Compiler: clang 16.0.6

Fedora 37
	Kernel: Depends on container host system
	Compiler: gcc 12.3.1

Fedora 38
	Kernel: Depends on container host
	Compiler: gcc 13.2.1

Fedora 39 (Clang)
	Kernel: Depends on container host
	Compiler: clang 17.0.6

Ubuntu 24.04
	Kernel: 5.4.0-167-generic
	Compiler: gcc 13.2.0

Fedora 39
	Kernel: Depends on container host
	Compiler: gcc 13.2.1

Fedora 40 (Clang)
	Kernel: Depends on container host
	Compiler: clang 18.1.6

openSUSE Leap 15
	Kernel: 5.4.0-167-generic
	Compiler: gcc 7.5.0

Fedora 40
	Kernel: Depends on container host
	Compiler: gcc 14.1.1

RHEL8
	Kernel: 5.4.0-167-generic
	Compiler: gcc 8.5.0 20210514 (Red Hat 8.5.0-20)

Ubuntu 22.04
	Kernel: 5.4.0-167-generic
	Compiler: gcc 11.4.0

RHEL9
	Kernel: Depends on container host
	Compiler: gcc 11.4.1

To view detailed results, visit:
https://lab.dpdk.org/results/dashboard/patchsets/30486/

UNH-IOL DPDK Community Lab

To manage your email subscriptions, visit: 
https://lab.dpdk.org/results/dashboard/preferences/subscriptions/