From mboxrd@z Thu Jan  1 00:00:00 1970
Return-Path: <test-report-bounces@dpdk.org>
Received: from mails.dpdk.org (mails.dpdk.org [217.70.189.124])
	by inbox.dpdk.org (Postfix) with ESMTP id C1AF0455D7
	for <public@inbox.dpdk.org>; Wed, 10 Jul 2024 22:52:36 +0200 (CEST)
Received: from mails.dpdk.org (localhost [127.0.0.1])
	by mails.dpdk.org (Postfix) with ESMTP id 89E9C410D4;
	Wed, 10 Jul 2024 22:52:36 +0200 (CEST)
Received: from mail-pg1-f227.google.com (mail-pg1-f227.google.com
 [209.85.215.227])
 by mails.dpdk.org (Postfix) with ESMTP id 155DA40E0A
 for <test-report@dpdk.org>; Wed, 10 Jul 2024 22:52:35 +0200 (CEST)
Received: by mail-pg1-f227.google.com with SMTP id
 41be03b00d2f7-7515437ff16so68975a12.2
 for <test-report@dpdk.org>; Wed, 10 Jul 2024 13:52:34 -0700 (PDT)
DKIM-Signature: v=1; a=rsa-sha256; c=relaxed/relaxed;
 d=iol.unh.edu; s=unh-iol; t=1720644754; x=1721249554; darn=dpdk.org;
 h=references:in-reply-to:cc:to:from:subject:message-id:date:from:to
 :cc:subject:date:message-id:reply-to;
 bh=qiZUvi7Ty5em/pTb30dniajgWSArzODaoce1rnUP+x0=;
 b=TpAa/74D17wfGr6ADBeDNLd4w8U1tDAi6tgCfH2gFeQuekM1Q4qC7ArNC8O7m3rq6P
 h3Tw2Z6aQhIgUb0yQ4NNZHizVW/qGUdBEX4n+Um+t+wsL3eokxyatfQYgF1oSm9JG8RU
 bkV5+A7oO6joBBlNBXZuaL506y5ru7qRKYB3c=
X-Google-DKIM-Signature: v=1; a=rsa-sha256; c=relaxed/relaxed;
 d=1e100.net; s=20230601; t=1720644754; x=1721249554;
 h=references:in-reply-to:cc:to:from:subject:message-id:date
 :x-gm-message-state:from:to:cc:subject:date:message-id:reply-to;
 bh=qiZUvi7Ty5em/pTb30dniajgWSArzODaoce1rnUP+x0=;
 b=omqeY9vwKz8y4EO6ai+jgW6G3yEelmi0smDa8SqHJJn/Ya4oyCr5vebvDb+ALr8q2n
 rVErq/kUb5ZnP6OQpKfwWgfKy7T/WSB98Ovr0LD5mTuvXQH2aNFd1FXoTFOmXgeoWVys
 /MFr+0blWcsizHvgbqdghNiiCYYpJ8q/8yT7Jk/oomNH0iWmucJ5Ybb6xdqHh/vubq4A
 b4XKx1GjwzgYjRhQJQnq01SGddjYC/RhsIDUsqo6TyaxrDjzGMHnwZlMTu9fmMADgkaU
 oBdIxdHRgHHFpMD578qTl6bpS30Itd/lnziDSbWKzwoiYABKfDS0bknp0EcKwfPbKw+S
 YKYA==
X-Gm-Message-State: AOJu0YzdgdqRnxm5weNuFhsWBHAEA7IaVRlJzuEXdJXFgyii9Z3ImjQt
 WxPQpl3BKsQy2Azcl30VuVpd0B2xAvRlH6BciIBF65EG/ZKrYKXSeCUV1u/L+3cBzdPAyqJBe81
 xXBIhmddNo29QwR9jMsDeQwK0WlkmkcALtGCmxjJcBJeQaE/ur5IuTqLE
X-Google-Smtp-Source: AGHT+IGSYijBWq1ZV3j0QyVDdDs/fb23BSwY3FiihzmZgqWkBIBZMfzNzRGrZ1sQjWxv5IG7R92pdw/GYETt
X-Received: by 2002:a05:6a20:1586:b0:1c2:9634:27cb with SMTP id
 adf61e73a8af0-1c2982430a2mr7735210637.29.1720644754077; 
 Wed, 10 Jul 2024 13:52:34 -0700 (PDT)
Received: from postal.iol.unh.edu (postal.iol.unh.edu.
 [2606:4100:3880:1234::84]) by smtp-relay.gmail.com with ESMTPS id
 d2e1a72fcca58-70b436f2dadsm247310b3a.0.2024.07.10.13.52.33
 (version=TLS1_2 cipher=ECDHE-ECDSA-AES128-GCM-SHA256 bits=128/128);
 Wed, 10 Jul 2024 13:52:34 -0700 (PDT)
X-Relaying-Domain: iol.unh.edu
Date: Wed, 10 Jul 2024 13:52:34 -0700 (PDT)
Message-ID: <668ef492.050a0220.d1063.dd48SMTPIN_ADDED_MISSING@mx.google.com>
Received: from [172.21.0.6] (unknown [172.18.0.240])
 by postal.iol.unh.edu (Postfix) with ESMTP id 430A4605C380;
 Wed, 10 Jul 2024 16:52:33 -0400 (EDT)
Subject: |PENDING| pw142292 [PATCH] [v1,1/1] fbarray: fix find_next_n for una
From: dpdklab@iol.unh.edu
To: Test Report <test-report@dpdk.org>
Cc: dpdk-test-reports@iol.unh.edu
In-Reply-To: <229663bd30b1f64accf51bdefa20f6abf9ee8ad0.1720612158.git.anatoly.burakov@intel.com>
References: <229663bd30b1f64accf51bdefa20f6abf9ee8ad0.1720612158.git.anatoly.burakov@intel.com>
Content-Type: text/plain
X-BeenThere: test-report@dpdk.org
X-Mailman-Version: 2.1.29
Precedence: list
List-Id: automatic DPDK test reports <test-report.dpdk.org>
List-Unsubscribe: <https://mails.dpdk.org/options/test-report>,
 <mailto:test-report-request@dpdk.org?subject=unsubscribe>
List-Archive: <http://mails.dpdk.org/archives/test-report/>
List-Post: <mailto:test-report@dpdk.org>
List-Help: <mailto:test-report-request@dpdk.org?subject=help>
List-Subscribe: <https://mails.dpdk.org/listinfo/test-report>,
 <mailto:test-report-request@dpdk.org?subject=subscribe>
Errors-To: test-report-bounces@dpdk.org

Test-Label: iol-unit-arm64-testing
Test-Status: PENDING
http://dpdk.org/patch/142292

_Testing pending_

Submitter: Anatoly Burakov <anatoly.burakov@intel.com>
Date: Wednesday, July 10 2024 11:49:26 
DPDK git baseline: Repo:dpdk
  Branch: master
  CommitID:830d7c98d6b2746401142050a88ff5cbc3465ba7

142292 --> testing pending

Test environment and result as below:

+-----------------------------+----------------+--------------+---------------------------+------------------------------+
|         Environment         | dpdk_unit_test | lpm_autotest | cryptodev_sw_zuc_autotest | cryptodev_sw_snow3g_autotest |
+=============================+================+==============+===========================+==============================+
| CentOS Stream 9 (ARM)       | PASS           | SKIPPED      | SKIPPED                   | SKIPPED                      |
+-----------------------------+----------------+--------------+---------------------------+------------------------------+
| Debian 11 (Buster) (ARM)    | PASS           | SKIPPED      | SKIPPED                   | SKIPPED                      |
+-----------------------------+----------------+--------------+---------------------------+------------------------------+
| Fedora 37 (ARM)             | PASS           | SKIPPED      | SKIPPED                   | SKIPPED                      |
+-----------------------------+----------------+--------------+---------------------------+------------------------------+
| Debian 12 (arm)             | PASS           | SKIPPED      | PASS                      | PEND                         |
+-----------------------------+----------------+--------------+---------------------------+------------------------------+
| Fedora 38 (ARM)             | PASS           | SKIPPED      | SKIPPED                   | SKIPPED                      |
+-----------------------------+----------------+--------------+---------------------------+------------------------------+
| Fedora 38 (ARM Clang)       | PEND           | SKIPPED      | SKIPPED                   | SKIPPED                      |
+-----------------------------+----------------+--------------+---------------------------+------------------------------+
| Fedora 39 (ARM)             | PASS           | SKIPPED      | SKIPPED                   | SKIPPED                      |
+-----------------------------+----------------+--------------+---------------------------+------------------------------+
| Fedora 39 (ARM Clang)       | PEND           | SKIPPED      | SKIPPED                   | SKIPPED                      |
+-----------------------------+----------------+--------------+---------------------------+------------------------------+
| Fedora 40 (ARM)             | PASS           | SKIPPED      | SKIPPED                   | SKIPPED                      |
+-----------------------------+----------------+--------------+---------------------------+------------------------------+
| Fedora 40 (ARM Clang)       | PEND           | SKIPPED      | SKIPPED                   | SKIPPED                      |
+-----------------------------+----------------+--------------+---------------------------+------------------------------+
| 32-bit Ubuntu 20.04.4 (ARM) | PEND           | SKIPPED      | SKIPPED                   | SKIPPED                      |
+-----------------------------+----------------+--------------+---------------------------+------------------------------+
| RHEL9 (ARM)                 | PEND           | SKIPPED      | SKIPPED                   | SKIPPED                      |
+-----------------------------+----------------+--------------+---------------------------+------------------------------+
| Ubuntu 20.04 (ARM)          | PEND           | SKIPPED      | SKIPPED                   | SKIPPED                      |
+-----------------------------+----------------+--------------+---------------------------+------------------------------+
| Ubuntu 22.04 (ARM)          | PEND           | SKIPPED      | SKIPPED                   | SKIPPED                      |
+-----------------------------+----------------+--------------+---------------------------+------------------------------+
| Ubuntu 24.04 (ARM)          | PEND           | SKIPPED      | SKIPPED                   | SKIPPED                      |
+-----------------------------+----------------+--------------+---------------------------+------------------------------+
| Ubuntu 20.04 ARM SVE        | SKIPPED        | PEND         | SKIPPED                   | SKIPPED                      |
+-----------------------------+----------------+--------------+---------------------------+------------------------------+


CentOS Stream 9 (ARM)
	Kernel: Container Host Kernel
	Compiler: gcc 11.4.1

Debian 11 (Buster) (ARM)
	Kernel: Container Host Kernel
	Compiler: gcc 10.2.1

Fedora 37 (ARM)
	Kernel: Depends on container host
	Compiler: gcc 12.3.1

Debian 12 (arm)
	Kernel: Container Host Kernel
	Compiler: gcc 12.2.0

Fedora 38 (ARM)
	Kernel: Depends on container host
	Compiler: gcc 13.2.1

Fedora 38 (ARM Clang)
	Kernel: Depends on container host
	Compiler: clang 16.0.6

Fedora 39 (ARM)
	Kernel: Depends on container host
	Compiler: gcc 13.2.1

Fedora 39 (ARM Clang)
	Kernel: Depends on container host
	Compiler: clang 17.0.6

Fedora 40 (ARM)
	Kernel: Depends on container host
	Compiler: gcc 14.1.1

Fedora 40 (ARM Clang)
	Kernel: Depends on container host
	Compiler: clang 18.1.6

32-bit Ubuntu 20.04.4 (ARM)
	Kernel: 5.4.0-155-generic aarch64
	Compiler: gcc 9.4

RHEL9 (ARM)
	Kernel: Depends on container host
	Compiler: gcc 11.4.1

Ubuntu 20.04 (ARM)
	Kernel: Container Host Kernel
	Compiler: gcc 9.4.0

Ubuntu 22.04 (ARM)
	Kernel: Container Host Kernel
	Compiler: gcc 11.4.0

Ubuntu 24.04 (ARM)
	Kernel: 5.4.0-167-generic
	Compiler: gcc 13.2.0

Ubuntu 20.04 ARM SVE
	Kernel: 5.4.0-167-generic
	Compiler: gcc (Ubuntu 10.5.0-1ubuntu1~20.04) 10.5.0

To view detailed results, visit:
https://lab.dpdk.org/results/dashboard/patchsets/30486/

UNH-IOL DPDK Community Lab

To manage your email subscriptions, visit: 
https://lab.dpdk.org/results/dashboard/preferences/subscriptions/