From mboxrd@z Thu Jan  1 00:00:00 1970
Return-Path: <test-report-bounces@dpdk.org>
Received: from mails.dpdk.org (mails.dpdk.org [217.70.189.124])
	by inbox.dpdk.org (Postfix) with ESMTP id 41A8E455D7
	for <public@inbox.dpdk.org>; Wed, 10 Jul 2024 23:32:52 +0200 (CEST)
Received: from mails.dpdk.org (localhost [127.0.0.1])
	by mails.dpdk.org (Postfix) with ESMTP id 3BBB2410D4;
	Wed, 10 Jul 2024 23:32:52 +0200 (CEST)
Received: from mail-qv1-f97.google.com (mail-qv1-f97.google.com
 [209.85.219.97]) by mails.dpdk.org (Postfix) with ESMTP id BCD11402DE
 for <test-report@dpdk.org>; Wed, 10 Jul 2024 23:32:50 +0200 (CEST)
Received: by mail-qv1-f97.google.com with SMTP id
 6a1803df08f44-6b5da2730efso1581116d6.2
 for <test-report@dpdk.org>; Wed, 10 Jul 2024 14:32:50 -0700 (PDT)
DKIM-Signature: v=1; a=rsa-sha256; c=relaxed/relaxed;
 d=iol.unh.edu; s=unh-iol; t=1720647170; x=1721251970; darn=dpdk.org;
 h=references:in-reply-to:cc:to:from:subject:message-id:date:from:to
 :cc:subject:date:message-id:reply-to;
 bh=Mwi5cL+1kc22++5v3ayarrNOklGW/72avcirWrMZNOI=;
 b=Zez3vDeVd9ohC21Cp/0ScOpeFcaq+xOwlp2gqNLbfPgiutv67E3tuJlWBZh0u7C++3
 TwvUNG1Uw+dP9qiVY3po4RVSlUtQX0zS7OfnFYCnVkFe1oK2SSVbESd3imMLik+bwx/h
 bxJ1EeM9Pj06eFZeEQPj3zqLncUL1cV7hRTKg=
X-Google-DKIM-Signature: v=1; a=rsa-sha256; c=relaxed/relaxed;
 d=1e100.net; s=20230601; t=1720647170; x=1721251970;
 h=references:in-reply-to:cc:to:from:subject:message-id:date
 :x-gm-message-state:from:to:cc:subject:date:message-id:reply-to;
 bh=Mwi5cL+1kc22++5v3ayarrNOklGW/72avcirWrMZNOI=;
 b=XRTmXsusheIYfFURxfpLVFWJXJk9cNUeYiOhMIrkG6Nh/uYxPuakd+DIR+J/oubeIA
 OLdUtBg1EIZw60xKphBN4iXtR+b6EqpP/NdLuGrb3V6ZyoC8a64im4+1qnIi9oYSNOJh
 /0/xtA8m56MsrSX7bpZi68eQPIkJCXbEcwO7SO2sJHD6hUKQlbhfZ95uL0Gc6phKHBww
 GU63xAh8G8xBFKyLLG5WgLUw8gNM6jRLz7L5yqotEzQer7S7s2YMHDMOJwgp06YROh9M
 J0zO61rB/nu6zwtZOL9kg2iUU+oxCiDy9yZzdrdBnn7kqODQOOIc2ZneLvZnhLuoFs5y
 4ZBA==
X-Gm-Message-State: AOJu0YysGHBRkSCHdOz3JXORHxoDEMUkGwLdEGOBdn5tVMVPxvZJOIso
 YKc9Lcy1qiPnBozbhccOIowLK1B/vdwc3wLNzIULcZgbsFUva3QHfrv5YucXfw3jNp8JOlGJRS3
 9wWCXM24id601XI6WtHp7vij/wcRYkh2PH1AVmefk+DlxghUpoVxBtuIp
X-Google-Smtp-Source: AGHT+IHIX4VxTBF3irnJC88IWYfWuUDN0msVUcK4T5NgdMskvkyHP2/QgU5TEp6AAgiaP/A06rkg93Eddo5y
X-Received: by 2002:a05:6214:d6a:b0:6b5:4e07:2a55 with SMTP id
 6a1803df08f44-6b61bf038cfmr80608876d6.29.1720647170059; 
 Wed, 10 Jul 2024 14:32:50 -0700 (PDT)
Received: from postal.iol.unh.edu (postal.iol.unh.edu.
 [2606:4100:3880:1234::84]) by smtp-relay.gmail.com with ESMTPS id
 6a1803df08f44-6b61ba9604esm2775586d6.50.2024.07.10.14.32.49
 (version=TLS1_2 cipher=ECDHE-ECDSA-AES128-GCM-SHA256 bits=128/128);
 Wed, 10 Jul 2024 14:32:50 -0700 (PDT)
X-Relaying-Domain: iol.unh.edu
Date: Wed, 10 Jul 2024 14:32:50 -0700 (PDT)
Message-ID: <668efe02.050a0220.ee369.f94aSMTPIN_ADDED_MISSING@mx.google.com>
Received: from [172.21.0.6] (unknown [172.18.0.240])
 by postal.iol.unh.edu (Postfix) with ESMTP id C2198605C380;
 Wed, 10 Jul 2024 17:32:49 -0400 (EDT)
Subject: |PENDING| pw142292 [PATCH] [v1,1/1] fbarray: fix find_next_n for una
From: dpdklab@iol.unh.edu
To: Test Report <test-report@dpdk.org>
Cc: dpdk-test-reports@iol.unh.edu
In-Reply-To: <229663bd30b1f64accf51bdefa20f6abf9ee8ad0.1720612158.git.anatoly.burakov@intel.com>
References: <229663bd30b1f64accf51bdefa20f6abf9ee8ad0.1720612158.git.anatoly.burakov@intel.com>
Content-Type: text/plain
X-BeenThere: test-report@dpdk.org
X-Mailman-Version: 2.1.29
Precedence: list
List-Id: automatic DPDK test reports <test-report.dpdk.org>
List-Unsubscribe: <https://mails.dpdk.org/options/test-report>,
 <mailto:test-report-request@dpdk.org?subject=unsubscribe>
List-Archive: <http://mails.dpdk.org/archives/test-report/>
List-Post: <mailto:test-report@dpdk.org>
List-Help: <mailto:test-report-request@dpdk.org?subject=help>
List-Subscribe: <https://mails.dpdk.org/listinfo/test-report>,
 <mailto:test-report-request@dpdk.org?subject=subscribe>
Errors-To: test-report-bounces@dpdk.org

Test-Label: iol-unit-amd64-testing
Test-Status: PENDING
http://dpdk.org/patch/142292

_Testing pending_

Submitter: Anatoly Burakov <anatoly.burakov@intel.com>
Date: Wednesday, July 10 2024 11:49:26 
DPDK git baseline: Repo:dpdk
  Branch: master
  CommitID:830d7c98d6b2746401142050a88ff5cbc3465ba7

142292 --> testing pending

Test environment and result as below:

+---------------------+----------------+
|     Environment     | dpdk_unit_test |
+=====================+================+
| CentOS Stream 9     | PASS           |
+---------------------+----------------+
| CentOS Stream 8     | PEND           |
+---------------------+----------------+
| Debian Bullseye     | PASS           |
+---------------------+----------------+
| Debian 12           | PASS           |
+---------------------+----------------+
| Fedora 37           | PEND           |
+---------------------+----------------+
| Fedora 38           | PASS           |
+---------------------+----------------+
| Fedora 38 (Clang)   | PEND           |
+---------------------+----------------+
| Fedora 39           | PEND           |
+---------------------+----------------+
| Fedora 40           | PEND           |
+---------------------+----------------+
| Fedora 39 (Clang)   | PEND           |
+---------------------+----------------+
| Fedora 40 (Clang)   | PEND           |
+---------------------+----------------+
| openSUSE Leap 15    | PEND           |
+---------------------+----------------+
| RHEL8               | PEND           |
+---------------------+----------------+
| RHEL9               | PEND           |
+---------------------+----------------+
| Ubuntu 20.04        | PEND           |
+---------------------+----------------+
| Ubuntu 22.04        | PEND           |
+---------------------+----------------+
| Ubuntu 24.04        | PEND           |
+---------------------+----------------+
| Windows Server 2019 | PASS           |
+---------------------+----------------+
| Windows Server 2022 | PASS           |
+---------------------+----------------+


CentOS Stream 9
	Kernel: 5.4.0-167-generic
	Compiler: gcc 11.4.1 20230605

CentOS Stream 8
	Kernel: 5.4.0-167-generic
	Compiler: gcc 8.5.0 20210514

Debian Bullseye
	Kernel: 5.4.0-167-generic
	Compiler: gcc 10.2.1-6

Debian 12
	Kernel: Container Host Kernel
	Compiler: gcc 12.2.0

Fedora 37
	Kernel: Depends on container host system
	Compiler: gcc 12.3.1

Fedora 38
	Kernel: Depends on container host
	Compiler: gcc 13.2.1

Fedora 38 (Clang)
	Kernel: Depends on container host
	Compiler: clang 16.0.6

Fedora 39
	Kernel: Depends on container host
	Compiler: gcc 13.2.1

Fedora 40
	Kernel: Depends on container host
	Compiler: gcc 14.1.1

Fedora 39 (Clang)
	Kernel: Depends on container host
	Compiler: clang 17.0.6

Fedora 40 (Clang)
	Kernel: Depends on container host
	Compiler: clang 18.1.6

openSUSE Leap 15
	Kernel: 5.4.0-167-generic
	Compiler: gcc 7.5.0

RHEL8
	Kernel: 5.4.0-167-generic
	Compiler: gcc 8.5.0 20210514 (Red Hat 8.5.0-20)

RHEL9
	Kernel: Depends on container host
	Compiler: gcc 11.4.1

Ubuntu 20.04
	Kernel: 5.4.0-167-generic
	Compiler: gcc 9.4.0-1ubuntu1~20.04.1

Ubuntu 22.04
	Kernel: 5.4.0-167-generic
	Compiler: gcc 11.4.0

Ubuntu 24.04
	Kernel: 5.4.0-167-generic
	Compiler: gcc 13.2.0

Windows Server 2019
	Kernel: 10.0.17763
	Compiler: clang 14.0 and gcc 8.1.0 (MinGW)

Windows Server 2022
	Kernel: 10.0.20348.2031
	Compiler: clang 15.0.7, gcc 8.1.0 (MinGW), and MSVC VS 17.9

To view detailed results, visit:
https://lab.dpdk.org/results/dashboard/patchsets/30486/

UNH-IOL DPDK Community Lab

To manage your email subscriptions, visit: 
https://lab.dpdk.org/results/dashboard/preferences/subscriptions/