From mboxrd@z Thu Jan  1 00:00:00 1970
Return-Path: <test-report-bounces@dpdk.org>
Received: from mails.dpdk.org (mails.dpdk.org [217.70.189.124])
	by inbox.dpdk.org (Postfix) with ESMTP id 21BEC45601
	for <public@inbox.dpdk.org>; Thu, 11 Jul 2024 19:29:22 +0200 (CEST)
Received: from mails.dpdk.org (localhost [127.0.0.1])
	by mails.dpdk.org (Postfix) with ESMTP id 1D66D42E55;
	Thu, 11 Jul 2024 19:29:22 +0200 (CEST)
Received: from mail-pj1-f98.google.com (mail-pj1-f98.google.com
 [209.85.216.98]) by mails.dpdk.org (Postfix) with ESMTP id 62EF64065B
 for <test-report@dpdk.org>; Thu, 11 Jul 2024 19:29:20 +0200 (CEST)
Received: by mail-pj1-f98.google.com with SMTP id
 98e67ed59e1d1-2c98a97d1ccso1666983a91.0
 for <test-report@dpdk.org>; Thu, 11 Jul 2024 10:29:20 -0700 (PDT)
DKIM-Signature: v=1; a=rsa-sha256; c=relaxed/relaxed;
 d=iol.unh.edu; s=unh-iol; t=1720718959; x=1721323759; darn=dpdk.org;
 h=references:in-reply-to:cc:to:from:subject:message-id:date:from:to
 :cc:subject:date:message-id:reply-to;
 bh=q6UHRQd/JeF63bC4SHMBDGS1uS3TB24enp1O9EEVhdk=;
 b=ao1Z1/llfdEIrS3HwTLImFydjpzNJ23NRFWHg+2D/9xmTu8Ts+PAI8AoUFQXMAeq/e
 j3/A5KY/hPxpykjOqjmPEiYnXpThZBbYmzgteSi9+wrb1IvJPJvzldT9CdXWBfy7wigw
 keE/dY1oIUogYVGtVHoQR9FRTO3On04JjiS50=
X-Google-DKIM-Signature: v=1; a=rsa-sha256; c=relaxed/relaxed;
 d=1e100.net; s=20230601; t=1720718959; x=1721323759;
 h=references:in-reply-to:cc:to:from:subject:message-id:date
 :x-gm-message-state:from:to:cc:subject:date:message-id:reply-to;
 bh=q6UHRQd/JeF63bC4SHMBDGS1uS3TB24enp1O9EEVhdk=;
 b=AvoD2IbhVFRYQESYJ1quqTqfrouRAGNSgYjuLtH1B3+8KJ+ZvqSkbuNkQfguOO+fsJ
 eg6EyXxLjWxDsAGZ0iGsO85Lm05ZlKNqB2orrYrHT3lUK/yF5oXXsvOv+me7HqIJgTgT
 5iu135mtSBa7OP8F8RuHxlJU32da2GwoBjKP6F2pKcB4CEo93EySUjDdwTZWuJxZoPeV
 hjptZdapQKfccHaFpucsNg0u4tuXk8MTz3DbzstnwP/qUM/JZkYwKtS7SYh9+a6qLlJw
 wUeqq/v2ncu1IyNoxe0ofF1/Ka6g3kqwGU04bR8aBBD3Jgg4KLp4BD8UM2rq5q/75KDz
 E4vg==
X-Gm-Message-State: AOJu0YwxHrhy1f+cfaceqwCaFAQ/ONRa0IFHy5vXdwqeVB6csZGJKE0h
 F7A2M70f7Nmj7fYpiq3WA7nwXSknQhiYERtt4lltJDzPvdC/rcpnNwD3/2/rQFy0ZpVsMwD0wLw
 SZVEmWa7l8ZlHifzDzCF0JJ/LWl3tZ8/tR9bXPgBLBqeI0IY15f/056wX
X-Google-Smtp-Source: AGHT+IFmmzyie0tJ2ubMMEux038kRnEeHAZLVjlBP3ShCcQ8LS85LbYZgtw1/fAnvPjsdu+6doWjRPwXMR1X
X-Received: by 2002:a17:90a:ab91:b0:2c9:63d3:1f20 with SMTP id
 98e67ed59e1d1-2cac6e425ecmr360493a91.18.1720718959506; 
 Thu, 11 Jul 2024 10:29:19 -0700 (PDT)
Received: from postal.iol.unh.edu (postal.iol.unh.edu.
 [2606:4100:3880:1234::84]) by smtp-relay.gmail.com with ESMTPS id
 98e67ed59e1d1-2ca343c2d2esm347613a91.4.2024.07.11.10.29.19
 (version=TLS1_2 cipher=ECDHE-ECDSA-AES128-GCM-SHA256 bits=128/128);
 Thu, 11 Jul 2024 10:29:19 -0700 (PDT)
X-Relaying-Domain: iol.unh.edu
Date: Thu, 11 Jul 2024 10:29:19 -0700 (PDT)
Message-ID: <6690166f.170a0220.c6f76.29b7SMTPIN_ADDED_MISSING@mx.google.com>
Received: from [172.21.0.7] (unknown [172.18.0.240])
 by postal.iol.unh.edu (Postfix) with ESMTP id B0F9B605C380;
 Thu, 11 Jul 2024 13:29:18 -0400 (EDT)
Subject: |PENDING| pw142323 [PATCH] [v2] net/virtio_user: fix issue with conv
From: dpdklab@iol.unh.edu
To: Test Report <test-report@dpdk.org>
Cc: dpdk-test-reports@iol.unh.edu
In-Reply-To: <20240711124436.2383232-1-schalla@marvell.com>
References: <20240711124436.2383232-1-schalla@marvell.com>
Content-Type: text/plain
X-BeenThere: test-report@dpdk.org
X-Mailman-Version: 2.1.29
Precedence: list
List-Id: automatic DPDK test reports <test-report.dpdk.org>
List-Unsubscribe: <https://mails.dpdk.org/options/test-report>,
 <mailto:test-report-request@dpdk.org?subject=unsubscribe>
List-Archive: <http://mails.dpdk.org/archives/test-report/>
List-Post: <mailto:test-report@dpdk.org>
List-Help: <mailto:test-report-request@dpdk.org?subject=help>
List-Subscribe: <https://mails.dpdk.org/listinfo/test-report>,
 <mailto:test-report-request@dpdk.org?subject=subscribe>
Errors-To: test-report-bounces@dpdk.org

Test-Label: iol-abi-testing
Test-Status: PENDING
http://dpdk.org/patch/142323

_Testing pending_

Submitter: Srujana Challa <schalla@marvell.com>
Date: Thursday, July 11 2024 12:44:36 
DPDK git baseline: Repo:dpdk
  Branch: master
  CommitID:9cbdb606e5d04de04be3d9f70f0e76551e8c9a36

142323 --> testing pending

Test environment and result as below:

+-------------------+----------+
|    Environment    | abi_test |
+===================+==========+
| Debian Bullseye   | PASS     |
+-------------------+----------+
| CentOS Stream 8   | PEND     |
+-------------------+----------+
| Fedora 38 (Clang) | PASS     |
+-------------------+----------+
| Fedora 37         | PEND     |
+-------------------+----------+
| Fedora 39 (Clang) | PASS     |
+-------------------+----------+
| Debian 12         | PEND     |
+-------------------+----------+
| Fedora 38         | PASS     |
+-------------------+----------+
| Fedora 40         | PEND     |
+-------------------+----------+
| openSUSE Leap 15  | PEND     |
+-------------------+----------+
| RHEL8             | PEND     |
+-------------------+----------+
| Fedora 39         | PEND     |
+-------------------+----------+
| Fedora 40 (Clang) | PEND     |
+-------------------+----------+
| RHEL9             | PEND     |
+-------------------+----------+
| Ubuntu 22.04      | PEND     |
+-------------------+----------+
| Ubuntu 24.04      | PEND     |
+-------------------+----------+
| CentOS Stream 9   | PEND     |
+-------------------+----------+


Debian Bullseye
	Kernel: 5.4.0-167-generic
	Compiler: gcc 10.2.1-6

CentOS Stream 8
	Kernel: 5.4.0-167-generic
	Compiler: gcc 8.5.0 20210514

Fedora 38 (Clang)
	Kernel: Depends on container host
	Compiler: clang 16.0.6

Fedora 37
	Kernel: Depends on container host system
	Compiler: gcc 12.3.1

Fedora 39 (Clang)
	Kernel: Depends on container host
	Compiler: clang 17.0.6

Debian 12
	Kernel: Container Host Kernel
	Compiler: gcc 12.2.0

Fedora 38
	Kernel: Depends on container host
	Compiler: gcc 13.2.1

Fedora 40
	Kernel: Depends on container host
	Compiler: gcc 14.1.1

openSUSE Leap 15
	Kernel: 5.4.0-167-generic
	Compiler: gcc 7.5.0

RHEL8
	Kernel: 5.4.0-167-generic
	Compiler: gcc 8.5.0 20210514 (Red Hat 8.5.0-20)

Fedora 39
	Kernel: Depends on container host
	Compiler: gcc 13.2.1

Fedora 40 (Clang)
	Kernel: Depends on container host
	Compiler: clang 18.1.6

RHEL9
	Kernel: Depends on container host
	Compiler: gcc 11.4.1

Ubuntu 22.04
	Kernel: 5.4.0-167-generic
	Compiler: gcc 11.4.0

Ubuntu 24.04
	Kernel: 5.4.0-167-generic
	Compiler: gcc 13.2.0

CentOS Stream 9
	Kernel: 5.4.0-167-generic
	Compiler: gcc 11.4.1 20230605

To view detailed results, visit:
https://lab.dpdk.org/results/dashboard/patchsets/30495/

UNH-IOL DPDK Community Lab

To manage your email subscriptions, visit: 
https://lab.dpdk.org/results/dashboard/preferences/subscriptions/