From mboxrd@z Thu Jan  1 00:00:00 1970
Return-Path: <test-report-bounces@dpdk.org>
Received: from mails.dpdk.org (mails.dpdk.org [217.70.189.124])
	by inbox.dpdk.org (Postfix) with ESMTP id E1BD845601
	for <public@inbox.dpdk.org>; Thu, 11 Jul 2024 19:45:07 +0200 (CEST)
Received: from mails.dpdk.org (localhost [127.0.0.1])
	by mails.dpdk.org (Postfix) with ESMTP id DE94242E55;
	Thu, 11 Jul 2024 19:45:07 +0200 (CEST)
Received: from mail-pg1-f228.google.com (mail-pg1-f228.google.com
 [209.85.215.228])
 by mails.dpdk.org (Postfix) with ESMTP id 1D1154065B
 for <test-report@dpdk.org>; Thu, 11 Jul 2024 19:45:07 +0200 (CEST)
Received: by mail-pg1-f228.google.com with SMTP id
 41be03b00d2f7-75ee39f1ffbso745456a12.2
 for <test-report@dpdk.org>; Thu, 11 Jul 2024 10:45:07 -0700 (PDT)
DKIM-Signature: v=1; a=rsa-sha256; c=relaxed/relaxed;
 d=iol.unh.edu; s=unh-iol; t=1720719906; x=1721324706; darn=dpdk.org;
 h=references:in-reply-to:cc:to:from:subject:message-id:date:from:to
 :cc:subject:date:message-id:reply-to;
 bh=aVPW6NruwH2D0OqMN501UdESYn0BKKyrId95nWFByJI=;
 b=ak8MPmJ9oKj3ge0V4LD8WGGi11YOlXNUmBeNJReix8CypZkAp7sZHgmFFCoOkj4YbJ
 idNXAgbkPkhbd+wQnozK07FnK5XjGZ32/v5yMK6go3pAoC5JOP9KF/ZkOitmmBETed7I
 ACY+FfzddEwW24/ozbdsXkyHUgkKP96OTSZhA=
X-Google-DKIM-Signature: v=1; a=rsa-sha256; c=relaxed/relaxed;
 d=1e100.net; s=20230601; t=1720719906; x=1721324706;
 h=references:in-reply-to:cc:to:from:subject:message-id:date
 :x-gm-message-state:from:to:cc:subject:date:message-id:reply-to;
 bh=aVPW6NruwH2D0OqMN501UdESYn0BKKyrId95nWFByJI=;
 b=HE+S3huRFabj0SKq1V7waucOO2P2GU5bUR0RqhHQO+X29d0jnOlk+Se/72ZLdPuyyL
 j5znlnO+S+yV04Sd4QBfGzzNX6idg68XCkOyGkl78DaKp4fr9L4yqNMvHPqjNRLW6KHo
 IY4/9Ut4oT7AEpYNOS+np7XcyNpmiS2/U7S2A0mJCdjfQTgbunKPXpsSozmtpqzvKWIE
 Hmzp3ZH/Q9NxF2RRxSx5z9yab8ZxPGA3srBApIhvkOOzBap9RjCWwSkgcLGSCFpARWay
 Fz8CULl/SL9/NguENq1yhyUtRelpHW+N79VP1POoDixF/DVj6NWp7XlmgvD0EV6uJaLQ
 DVLg==
X-Gm-Message-State: AOJu0Yw12F+t2Rc7c7845o1/+jlQE4erUAdeWsLKy3yxbMv1bXTfkQ+0
 GLZ2Fs1SJ4lhb0D3/+IR+BLPG/iVpBgyID7nBeCbbQ8GE+Em50Wcu0ctRY+Tujuj200927Lfxro
 u/kRqXDXu8RusXYK9gJ4+OzFiIsI/mnGnFn3t/+sh
X-Google-Smtp-Source: AGHT+IGKiGfYA1ZgXpEaSYwm2xFIwThiUsX8XdGeIi0mXBOSZk5WBVfbAf/J0o3RnI4I/0aDdcF667GIOpuE
X-Received: by 2002:a05:6a20:841a:b0:1c2:8a0e:6f84 with SMTP id
 adf61e73a8af0-1c2984d8e25mr10886844637.51.1720719906097; 
 Thu, 11 Jul 2024 10:45:06 -0700 (PDT)
Received: from postal.iol.unh.edu (postal.iol.unh.edu. [132.177.123.84])
 by smtp-relay.gmail.com with ESMTPS id
 d9443c01a7336-1fbb6acf87esm2528345ad.140.2024.07.11.10.45.05
 (version=TLS1_2 cipher=ECDHE-ECDSA-AES128-GCM-SHA256 bits=128/128);
 Thu, 11 Jul 2024 10:45:06 -0700 (PDT)
X-Relaying-Domain: iol.unh.edu
Date: Thu, 11 Jul 2024 10:45:06 -0700 (PDT)
Message-ID: <66901a22.170a0220.b1d75.cc75SMTPIN_ADDED_MISSING@mx.google.com>
Received: from [172.21.0.6] (unknown [172.18.0.240])
 by postal.iol.unh.edu (Postfix) with ESMTP id 38518605C380;
 Thu, 11 Jul 2024 13:45:05 -0400 (EDT)
Subject: |PENDING| pw142323 [PATCH] [v2] net/virtio_user: fix issue with conv
From: dpdklab@iol.unh.edu
To: Test Report <test-report@dpdk.org>
Cc: dpdk-test-reports@iol.unh.edu
In-Reply-To: <20240711124436.2383232-1-schalla@marvell.com>
References: <20240711124436.2383232-1-schalla@marvell.com>
Content-Type: text/plain
X-BeenThere: test-report@dpdk.org
X-Mailman-Version: 2.1.29
Precedence: list
List-Id: automatic DPDK test reports <test-report.dpdk.org>
List-Unsubscribe: <https://mails.dpdk.org/options/test-report>,
 <mailto:test-report-request@dpdk.org?subject=unsubscribe>
List-Archive: <http://mails.dpdk.org/archives/test-report/>
List-Post: <mailto:test-report@dpdk.org>
List-Help: <mailto:test-report-request@dpdk.org?subject=help>
List-Subscribe: <https://mails.dpdk.org/listinfo/test-report>,
 <mailto:test-report-request@dpdk.org?subject=subscribe>
Errors-To: test-report-bounces@dpdk.org

Test-Label: iol-abi-testing
Test-Status: PENDING
http://dpdk.org/patch/142323

_Testing pending_

Submitter: Srujana Challa <schalla@marvell.com>
Date: Thursday, July 11 2024 12:44:36 
DPDK git baseline: Repo:dpdk
  Branch: master
  CommitID:9cbdb606e5d04de04be3d9f70f0e76551e8c9a36

142323 --> testing pending

Test environment and result as below:

+-------------------+----------+
|    Environment    | abi_test |
+===================+==========+
| Debian Bullseye   | PASS     |
+-------------------+----------+
| CentOS Stream 8   | PASS     |
+-------------------+----------+
| Fedora 38 (Clang) | PASS     |
+-------------------+----------+
| Fedora 37         | PASS     |
+-------------------+----------+
| Fedora 39 (Clang) | PASS     |
+-------------------+----------+
| Debian 12         | PASS     |
+-------------------+----------+
| Fedora 38         | PASS     |
+-------------------+----------+
| Fedora 40         | PEND     |
+-------------------+----------+
| openSUSE Leap 15  | PASS     |
+-------------------+----------+
| RHEL8             | PEND     |
+-------------------+----------+
| Fedora 39         | PEND     |
+-------------------+----------+
| Fedora 40 (Clang) | PASS     |
+-------------------+----------+
| RHEL9             | PEND     |
+-------------------+----------+
| Ubuntu 22.04      | PEND     |
+-------------------+----------+
| Ubuntu 24.04      | PEND     |
+-------------------+----------+
| CentOS Stream 9   | PEND     |
+-------------------+----------+


Debian Bullseye
	Kernel: 5.4.0-167-generic
	Compiler: gcc 10.2.1-6

CentOS Stream 8
	Kernel: 5.4.0-167-generic
	Compiler: gcc 8.5.0 20210514

Fedora 38 (Clang)
	Kernel: Depends on container host
	Compiler: clang 16.0.6

Fedora 37
	Kernel: Depends on container host system
	Compiler: gcc 12.3.1

Fedora 39 (Clang)
	Kernel: Depends on container host
	Compiler: clang 17.0.6

Debian 12
	Kernel: Container Host Kernel
	Compiler: gcc 12.2.0

Fedora 38
	Kernel: Depends on container host
	Compiler: gcc 13.2.1

Fedora 40
	Kernel: Depends on container host
	Compiler: gcc 14.1.1

openSUSE Leap 15
	Kernel: 5.4.0-167-generic
	Compiler: gcc 7.5.0

RHEL8
	Kernel: 5.4.0-167-generic
	Compiler: gcc 8.5.0 20210514 (Red Hat 8.5.0-20)

Fedora 39
	Kernel: Depends on container host
	Compiler: gcc 13.2.1

Fedora 40 (Clang)
	Kernel: Depends on container host
	Compiler: clang 18.1.6

RHEL9
	Kernel: Depends on container host
	Compiler: gcc 11.4.1

Ubuntu 22.04
	Kernel: 5.4.0-167-generic
	Compiler: gcc 11.4.0

Ubuntu 24.04
	Kernel: 5.4.0-167-generic
	Compiler: gcc 13.2.0

CentOS Stream 9
	Kernel: 5.4.0-167-generic
	Compiler: gcc 11.4.1 20230605

To view detailed results, visit:
https://lab.dpdk.org/results/dashboard/patchsets/30495/

UNH-IOL DPDK Community Lab

To manage your email subscriptions, visit: 
https://lab.dpdk.org/results/dashboard/preferences/subscriptions/