From mboxrd@z Thu Jan  1 00:00:00 1970
Return-Path: <test-report-bounces@dpdk.org>
Received: from mails.dpdk.org (mails.dpdk.org [217.70.189.124])
	by inbox.dpdk.org (Postfix) with ESMTP id 7332C45602
	for <public@inbox.dpdk.org>; Thu, 11 Jul 2024 20:08:30 +0200 (CEST)
Received: from mails.dpdk.org (localhost [127.0.0.1])
	by mails.dpdk.org (Postfix) with ESMTP id 651B442E57;
	Thu, 11 Jul 2024 20:08:30 +0200 (CEST)
Received: from mail-il1-f228.google.com (mail-il1-f228.google.com
 [209.85.166.228])
 by mails.dpdk.org (Postfix) with ESMTP id 5197342E55
 for <test-report@dpdk.org>; Thu, 11 Jul 2024 20:08:29 +0200 (CEST)
Received: by mail-il1-f228.google.com with SMTP id
 e9e14a558f8ab-37636c3872bso4748095ab.3
 for <test-report@dpdk.org>; Thu, 11 Jul 2024 11:08:29 -0700 (PDT)
DKIM-Signature: v=1; a=rsa-sha256; c=relaxed/relaxed;
 d=iol.unh.edu; s=unh-iol; t=1720721308; x=1721326108; darn=dpdk.org;
 h=references:in-reply-to:cc:to:from:subject:message-id:date:from:to
 :cc:subject:date:message-id:reply-to;
 bh=n+EWLCbqC+sl32xze1yhmZHHe7E62qP2tgdG3bMsQc0=;
 b=h1fH4r9b5op0fIfzg3L2VeLoiQAbIFJmRxdQ6w8ZO6crf+QWod0/2T1Pa+9pu25mMl
 w+bsGp2w0t4bwGAyKZ51dX8gZh/4cIz7MQrnSKA+dcT7jKg/HCK40bGPzrwvbcUa5F7K
 hNpoV/y/c9bOuekjUYJc6ICN1K5Jbx2eD0rcg=
X-Google-DKIM-Signature: v=1; a=rsa-sha256; c=relaxed/relaxed;
 d=1e100.net; s=20230601; t=1720721308; x=1721326108;
 h=references:in-reply-to:cc:to:from:subject:message-id:date
 :x-gm-message-state:from:to:cc:subject:date:message-id:reply-to;
 bh=n+EWLCbqC+sl32xze1yhmZHHe7E62qP2tgdG3bMsQc0=;
 b=uXEOpJgnORfSrmzeza2++i4L4jzBcVdoZzVh++nEz5yxYWW6U/HQ8tspKVpS3j1aZ5
 +ZpiPCxvn29EgDQ+Rjxw0HGPcZLgzQq/JkK+DIkealQvC60sy73Ey2lrHSxiOkIPx3Ls
 ROP7hAD59N1oWfGPHTZlDo+DBe8y7qGsaqxwuwh51WXY2Qs0Qr2ILl2KcYZknBp/6w8C
 ZOr4yr5Cg779fxtHro1wzS5bjATyuQhCet7XBNnm1GwuMN3NIV683aP7Qe18dCCxqPEs
 JEG/zz5MFHAo/ODrmEDxwDlUihAjHoWyfsZQVWt0s+Wb2hFsjKgE5T4TVMumRKxYFTP0
 SsCw==
X-Gm-Message-State: AOJu0Yy07l7WXEiJvpLnxXKfW8eJuZdmTJRMAEc8CT7SydmyUNJqinuQ
 8bq97Dsl/GFeJizIDpe1Gm3mXOsbm+Xtltouln8a2i2uupXL1TeGzDQ39ponLeKdsqh+rQSGI6E
 lJWZYZtbdzLkY8YD+SGadvKAhIyFV3q21IzEzx8Q3BhQe+vYb1xd1XDU3
X-Google-Smtp-Source: AGHT+IEld+PNFCvPsLEIZsF0CZQ0uZMWSI6pRvYwZsPNb8jnvKULmHR+7kzlWsZFYVnD6fDFLx2uSHicj3DD
X-Received: by 2002:a05:6e02:1fc1:b0:375:a50d:7f45 with SMTP id
 e9e14a558f8ab-38a56d0c2d0mr107306185ab.1.1720721308725; 
 Thu, 11 Jul 2024 11:08:28 -0700 (PDT)
Received: from postal.iol.unh.edu (postal.iol.unh.edu.
 [2606:4100:3880:1234::84]) by smtp-relay.gmail.com with ESMTPS id
 8926c6da1cb9f-4c0b1bfc310sm270807173.53.2024.07.11.11.08.28
 (version=TLS1_2 cipher=ECDHE-ECDSA-AES128-GCM-SHA256 bits=128/128);
 Thu, 11 Jul 2024 11:08:28 -0700 (PDT)
X-Relaying-Domain: iol.unh.edu
Date: Thu, 11 Jul 2024 11:08:28 -0700 (PDT)
Message-ID: <66901f9c.050a0220.6f4dc.e875SMTPIN_ADDED_MISSING@mx.google.com>
Received: from [172.21.0.7] (unknown [172.18.0.240])
 by postal.iol.unh.edu (Postfix) with ESMTP id 35BF1605C380;
 Thu, 11 Jul 2024 14:08:28 -0400 (EDT)
Subject: |PENDING| pw142323 [PATCH] [v2] net/virtio_user: fix issue with conv
From: dpdklab@iol.unh.edu
To: Test Report <test-report@dpdk.org>
Cc: dpdk-test-reports@iol.unh.edu
In-Reply-To: <20240711124436.2383232-1-schalla@marvell.com>
References: <20240711124436.2383232-1-schalla@marvell.com>
Content-Type: text/plain
X-BeenThere: test-report@dpdk.org
X-Mailman-Version: 2.1.29
Precedence: list
List-Id: automatic DPDK test reports <test-report.dpdk.org>
List-Unsubscribe: <https://mails.dpdk.org/options/test-report>,
 <mailto:test-report-request@dpdk.org?subject=unsubscribe>
List-Archive: <http://mails.dpdk.org/archives/test-report/>
List-Post: <mailto:test-report@dpdk.org>
List-Help: <mailto:test-report-request@dpdk.org?subject=help>
List-Subscribe: <https://mails.dpdk.org/listinfo/test-report>,
 <mailto:test-report-request@dpdk.org?subject=subscribe>
Errors-To: test-report-bounces@dpdk.org

Test-Label: iol-abi-testing
Test-Status: PENDING
http://dpdk.org/patch/142323

_Testing pending_

Submitter: Srujana Challa <schalla@marvell.com>
Date: Thursday, July 11 2024 12:44:36 
DPDK git baseline: Repo:dpdk
  Branch: master
  CommitID:9cbdb606e5d04de04be3d9f70f0e76551e8c9a36

142323 --> testing pending

Test environment and result as below:

+-------------------+----------+
|    Environment    | abi_test |
+===================+==========+
| Debian Bullseye   | PASS     |
+-------------------+----------+
| CentOS Stream 8   | PASS     |
+-------------------+----------+
| Fedora 38 (Clang) | PASS     |
+-------------------+----------+
| Fedora 37         | PASS     |
+-------------------+----------+
| Fedora 39 (Clang) | PASS     |
+-------------------+----------+
| Debian 12         | PASS     |
+-------------------+----------+
| Fedora 38         | PASS     |
+-------------------+----------+
| Fedora 40         | PASS     |
+-------------------+----------+
| openSUSE Leap 15  | PASS     |
+-------------------+----------+
| RHEL8             | PASS     |
+-------------------+----------+
| Fedora 39         | PASS     |
+-------------------+----------+
| Fedora 40 (Clang) | PASS     |
+-------------------+----------+
| RHEL9             | PASS     |
+-------------------+----------+
| Ubuntu 22.04      | PASS     |
+-------------------+----------+
| Ubuntu 24.04      | PASS     |
+-------------------+----------+
| CentOS Stream 9   | PEND     |
+-------------------+----------+


Debian Bullseye
	Kernel: 5.4.0-167-generic
	Compiler: gcc 10.2.1-6

CentOS Stream 8
	Kernel: 5.4.0-167-generic
	Compiler: gcc 8.5.0 20210514

Fedora 38 (Clang)
	Kernel: Depends on container host
	Compiler: clang 16.0.6

Fedora 37
	Kernel: Depends on container host system
	Compiler: gcc 12.3.1

Fedora 39 (Clang)
	Kernel: Depends on container host
	Compiler: clang 17.0.6

Debian 12
	Kernel: Container Host Kernel
	Compiler: gcc 12.2.0

Fedora 38
	Kernel: Depends on container host
	Compiler: gcc 13.2.1

Fedora 40
	Kernel: Depends on container host
	Compiler: gcc 14.1.1

openSUSE Leap 15
	Kernel: 5.4.0-167-generic
	Compiler: gcc 7.5.0

RHEL8
	Kernel: 5.4.0-167-generic
	Compiler: gcc 8.5.0 20210514 (Red Hat 8.5.0-20)

Fedora 39
	Kernel: Depends on container host
	Compiler: gcc 13.2.1

Fedora 40 (Clang)
	Kernel: Depends on container host
	Compiler: clang 18.1.6

RHEL9
	Kernel: Depends on container host
	Compiler: gcc 11.4.1

Ubuntu 22.04
	Kernel: 5.4.0-167-generic
	Compiler: gcc 11.4.0

Ubuntu 24.04
	Kernel: 5.4.0-167-generic
	Compiler: gcc 13.2.0

CentOS Stream 9
	Kernel: 5.4.0-167-generic
	Compiler: gcc 11.4.1 20230605

To view detailed results, visit:
https://lab.dpdk.org/results/dashboard/patchsets/30495/

UNH-IOL DPDK Community Lab

To manage your email subscriptions, visit: 
https://lab.dpdk.org/results/dashboard/preferences/subscriptions/