From mboxrd@z Thu Jan  1 00:00:00 1970
Return-Path: <test-report-bounces@dpdk.org>
Received: from mails.dpdk.org (mails.dpdk.org [217.70.189.124])
	by inbox.dpdk.org (Postfix) with ESMTP id BE6A145602
	for <public@inbox.dpdk.org>; Thu, 11 Jul 2024 20:39:58 +0200 (CEST)
Received: from mails.dpdk.org (localhost [127.0.0.1])
	by mails.dpdk.org (Postfix) with ESMTP id B9C4442E55;
	Thu, 11 Jul 2024 20:39:58 +0200 (CEST)
Received: from mail-ot1-f99.google.com (mail-ot1-f99.google.com
 [209.85.210.99]) by mails.dpdk.org (Postfix) with ESMTP id 31BCE42E50
 for <test-report@dpdk.org>; Thu, 11 Jul 2024 20:39:57 +0200 (CEST)
Received: by mail-ot1-f99.google.com with SMTP id
 46e09a7af769-7036815bde7so673630a34.3
 for <test-report@dpdk.org>; Thu, 11 Jul 2024 11:39:57 -0700 (PDT)
DKIM-Signature: v=1; a=rsa-sha256; c=relaxed/relaxed;
 d=iol.unh.edu; s=unh-iol; t=1720723196; x=1721327996; darn=dpdk.org;
 h=references:in-reply-to:cc:to:from:subject:message-id:date:from:to
 :cc:subject:date:message-id:reply-to;
 bh=T1VvoGyD10CDGrrEr16bK5ppqD8rI6jZRQO4gLk3sgA=;
 b=IXOYTPNL0DiLmzQ7YnC5ke84DtUn3eHT4+F75QCJ3JeFfwLIMV/A+4Z+rXh9/MFRA3
 HJMV+iY7km4CjFuXKGkf42uw1lT6u9atC+wLiVcFWiGFcRpuO9WG2F1rkM+1CVHu7Jr1
 xOjN5E+SwfT7jAuV2oecj6x2tTKzGpPoJeGRk=
X-Google-DKIM-Signature: v=1; a=rsa-sha256; c=relaxed/relaxed;
 d=1e100.net; s=20230601; t=1720723196; x=1721327996;
 h=references:in-reply-to:cc:to:from:subject:message-id:date
 :x-gm-message-state:from:to:cc:subject:date:message-id:reply-to;
 bh=T1VvoGyD10CDGrrEr16bK5ppqD8rI6jZRQO4gLk3sgA=;
 b=KVl3Pdp6XpdwjyIWkJrMxlMFihiDKo8jmASvJZFHrCfCJgNuZbBGf8uiHTR6aoqyz2
 96p3sLEnjasE9OoJ2Bt2/B8AWtjO6R5vBwBPQZCcAb143W+gmix7PnQMSZLyCY1jmYGS
 HiMhy+q6aJLdHq1FFaIPxcUUpJaj5qcynerwbPWJlGSRQW6n0GvnpO0qCVxIFKXikz7d
 5qTwmAU3qt4nbm+bBVssSqf4y4b6H+ug+q/Vqn9N3zr7L84CoDn3Phbpk4kYdajER6Np
 QRlB9w+Su1gPhnOwIVdsZQOC/LURQqAYc2rHIzLB5lmCMuJ4w5ZXf3ps8XxEpyufiRL0
 S8uA==
X-Gm-Message-State: AOJu0YzFdWTdz9jvIXLhHru+1wU0EXcaKMl24exsCzjHB9ixam4v61tO
 T+UCrVmOXR7pnK3WRbqL8k111hE12MPvABmqFtbR0ZRm7jibFrbM1BHU13KECQbMzTfvN9bPq6k
 uvgvG8ryOVawbaVMYO6amUwb7z2d99vZ1WraQl6c0EYFudrkmTTKRBSkQ
X-Google-Smtp-Source: AGHT+IH/zrh4T6BtyVdfrcsqxbWkHJFODQzXN86+DNX1Wc9SipdQ46G45FZaAPnL9EDh5d1ogkoThxq3yQPj
X-Received: by 2002:a9d:7315:0:b0:703:6c79:4d65 with SMTP id
 46e09a7af769-70375a05806mr8585816a34.9.1720723196239; 
 Thu, 11 Jul 2024 11:39:56 -0700 (PDT)
Received: from postal.iol.unh.edu (postal.iol.unh.edu.
 [2606:4100:3880:1234::84]) by smtp-relay.gmail.com with ESMTPS id
 6a1803df08f44-6b61ba96256sm4103696d6.56.2024.07.11.11.39.56
 (version=TLS1_2 cipher=ECDHE-ECDSA-AES128-GCM-SHA256 bits=128/128);
 Thu, 11 Jul 2024 11:39:56 -0700 (PDT)
X-Relaying-Domain: iol.unh.edu
Date: Thu, 11 Jul 2024 11:39:56 -0700 (PDT)
Message-ID: <669026fc.050a0220.1593.604aSMTPIN_ADDED_MISSING@mx.google.com>
Received: from [172.21.0.7] (unknown [172.18.0.240])
 by postal.iol.unh.edu (Postfix) with ESMTP id A8D00605C380;
 Thu, 11 Jul 2024 14:39:55 -0400 (EDT)
Subject: |PENDING| pw142323 [PATCH] [v2] net/virtio_user: fix issue with conv
From: dpdklab@iol.unh.edu
To: Test Report <test-report@dpdk.org>
Cc: dpdk-test-reports@iol.unh.edu
In-Reply-To: <20240711124436.2383232-1-schalla@marvell.com>
References: <20240711124436.2383232-1-schalla@marvell.com>
Content-Type: text/plain
X-BeenThere: test-report@dpdk.org
X-Mailman-Version: 2.1.29
Precedence: list
List-Id: automatic DPDK test reports <test-report.dpdk.org>
List-Unsubscribe: <https://mails.dpdk.org/options/test-report>,
 <mailto:test-report-request@dpdk.org?subject=unsubscribe>
List-Archive: <http://mails.dpdk.org/archives/test-report/>
List-Post: <mailto:test-report@dpdk.org>
List-Help: <mailto:test-report-request@dpdk.org?subject=help>
List-Subscribe: <https://mails.dpdk.org/listinfo/test-report>,
 <mailto:test-report-request@dpdk.org?subject=subscribe>
Errors-To: test-report-bounces@dpdk.org

Test-Label: iol-unit-arm64-testing
Test-Status: PENDING
http://dpdk.org/patch/142323

_Testing pending_

Submitter: Srujana Challa <schalla@marvell.com>
Date: Thursday, July 11 2024 12:44:36 
DPDK git baseline: Repo:dpdk
  Branch: master
  CommitID:9cbdb606e5d04de04be3d9f70f0e76551e8c9a36

142323 --> testing pending

Test environment and result as below:

+-----------------------------+----------------+--------------+---------------------------+------------------------------+
|         Environment         | dpdk_unit_test | lpm_autotest | cryptodev_sw_zuc_autotest | cryptodev_sw_snow3g_autotest |
+=============================+================+==============+===========================+==============================+
| CentOS Stream 9 (ARM)       | PASS           | SKIPPED      | SKIPPED                   | SKIPPED                      |
+-----------------------------+----------------+--------------+---------------------------+------------------------------+
| Debian 11 (Buster) (ARM)    | PASS           | SKIPPED      | SKIPPED                   | SKIPPED                      |
+-----------------------------+----------------+--------------+---------------------------+------------------------------+
| Debian 12 (arm)             | PASS           | SKIPPED      | PASS                      | PASS                         |
+-----------------------------+----------------+--------------+---------------------------+------------------------------+
| Fedora 37 (ARM)             | PASS           | SKIPPED      | SKIPPED                   | SKIPPED                      |
+-----------------------------+----------------+--------------+---------------------------+------------------------------+
| Fedora 38 (ARM)             | PASS           | SKIPPED      | SKIPPED                   | SKIPPED                      |
+-----------------------------+----------------+--------------+---------------------------+------------------------------+
| Fedora 39 (ARM)             | PASS           | SKIPPED      | SKIPPED                   | SKIPPED                      |
+-----------------------------+----------------+--------------+---------------------------+------------------------------+
| Fedora 38 (ARM Clang)       | PASS           | SKIPPED      | SKIPPED                   | SKIPPED                      |
+-----------------------------+----------------+--------------+---------------------------+------------------------------+
| Fedora 39 (ARM Clang)       | PASS           | SKIPPED      | SKIPPED                   | SKIPPED                      |
+-----------------------------+----------------+--------------+---------------------------+------------------------------+
| Fedora 40 (ARM)             | PASS           | SKIPPED      | SKIPPED                   | SKIPPED                      |
+-----------------------------+----------------+--------------+---------------------------+------------------------------+
| 32-bit Ubuntu 20.04.4 (ARM) | PASS           | SKIPPED      | SKIPPED                   | SKIPPED                      |
+-----------------------------+----------------+--------------+---------------------------+------------------------------+
| Fedora 40 (ARM Clang)       | PASS           | SKIPPED      | SKIPPED                   | SKIPPED                      |
+-----------------------------+----------------+--------------+---------------------------+------------------------------+
| RHEL9 (ARM)                 | PASS           | SKIPPED      | SKIPPED                   | SKIPPED                      |
+-----------------------------+----------------+--------------+---------------------------+------------------------------+
| Ubuntu 22.04 (ARM)          | PASS           | SKIPPED      | SKIPPED                   | SKIPPED                      |
+-----------------------------+----------------+--------------+---------------------------+------------------------------+
| Ubuntu 20.04 (ARM)          | PASS           | SKIPPED      | SKIPPED                   | SKIPPED                      |
+-----------------------------+----------------+--------------+---------------------------+------------------------------+
| Ubuntu 24.04 (ARM)          | PEND           | SKIPPED      | SKIPPED                   | SKIPPED                      |
+-----------------------------+----------------+--------------+---------------------------+------------------------------+
| Ubuntu 20.04 ARM SVE        | SKIPPED        | PEND         | SKIPPED                   | SKIPPED                      |
+-----------------------------+----------------+--------------+---------------------------+------------------------------+


CentOS Stream 9 (ARM)
	Kernel: Container Host Kernel
	Compiler: gcc 11.4.1

Debian 11 (Buster) (ARM)
	Kernel: Container Host Kernel
	Compiler: gcc 10.2.1

Debian 12 (arm)
	Kernel: Container Host Kernel
	Compiler: gcc 12.2.0

Fedora 37 (ARM)
	Kernel: Depends on container host
	Compiler: gcc 12.3.1

Fedora 38 (ARM)
	Kernel: Depends on container host
	Compiler: gcc 13.2.1

Fedora 39 (ARM)
	Kernel: Depends on container host
	Compiler: gcc 13.2.1

Fedora 38 (ARM Clang)
	Kernel: Depends on container host
	Compiler: clang 16.0.6

Fedora 39 (ARM Clang)
	Kernel: Depends on container host
	Compiler: clang 17.0.6

Fedora 40 (ARM)
	Kernel: Depends on container host
	Compiler: gcc 14.1.1

32-bit Ubuntu 20.04.4 (ARM)
	Kernel: 5.4.0-155-generic aarch64
	Compiler: gcc 9.4

Fedora 40 (ARM Clang)
	Kernel: Depends on container host
	Compiler: clang 18.1.6

RHEL9 (ARM)
	Kernel: Depends on container host
	Compiler: gcc 11.4.1

Ubuntu 22.04 (ARM)
	Kernel: Container Host Kernel
	Compiler: gcc 11.4.0

Ubuntu 20.04 (ARM)
	Kernel: Container Host Kernel
	Compiler: gcc 9.4.0

Ubuntu 24.04 (ARM)
	Kernel: 5.4.0-167-generic
	Compiler: gcc 13.2.0

Ubuntu 20.04 ARM SVE
	Kernel: 5.4.0-167-generic
	Compiler: gcc (Ubuntu 10.5.0-1ubuntu1~20.04) 10.5.0

To view detailed results, visit:
https://lab.dpdk.org/results/dashboard/patchsets/30495/

UNH-IOL DPDK Community Lab

To manage your email subscriptions, visit: 
https://lab.dpdk.org/results/dashboard/preferences/subscriptions/