From mboxrd@z Thu Jan  1 00:00:00 1970
Return-Path: <test-report-bounces@dpdk.org>
Received: from mails.dpdk.org (mails.dpdk.org [217.70.189.124])
	by inbox.dpdk.org (Postfix) with ESMTP id D728145602
	for <public@inbox.dpdk.org>; Thu, 11 Jul 2024 20:54:27 +0200 (CEST)
Received: from mails.dpdk.org (localhost [127.0.0.1])
	by mails.dpdk.org (Postfix) with ESMTP id D429542E55;
	Thu, 11 Jul 2024 20:54:27 +0200 (CEST)
Received: from mail-yw1-f226.google.com (mail-yw1-f226.google.com
 [209.85.128.226])
 by mails.dpdk.org (Postfix) with ESMTP id D518C42E50
 for <test-report@dpdk.org>; Thu, 11 Jul 2024 20:54:19 +0200 (CEST)
Received: by mail-yw1-f226.google.com with SMTP id
 00721157ae682-64f4c11d2c9so11047527b3.2
 for <test-report@dpdk.org>; Thu, 11 Jul 2024 11:54:19 -0700 (PDT)
DKIM-Signature: v=1; a=rsa-sha256; c=relaxed/relaxed;
 d=iol.unh.edu; s=unh-iol; t=1720724059; x=1721328859; darn=dpdk.org;
 h=references:in-reply-to:cc:to:from:subject:message-id:date:from:to
 :cc:subject:date:message-id:reply-to;
 bh=5mgfF3xp9dEHeNcFvOnUWONCnkkD/Nf7bGHI7anpVu8=;
 b=FEbRkccG36goJ6TznFDVEWdknen5AynxXpdLrg4wuuRUpYcZeWBcctM2UYvnIe6NpB
 BgoW7ujYZ+SsbQu9EyoI9PqBDfILE1xJN4XCJxPjrlkUk6+Jez3mIbI1W/HzWNiDtbID
 00M9qP6XR+77+3oU4kQ1oMbuJz73MMhay8O00=
X-Google-DKIM-Signature: v=1; a=rsa-sha256; c=relaxed/relaxed;
 d=1e100.net; s=20230601; t=1720724059; x=1721328859;
 h=references:in-reply-to:cc:to:from:subject:message-id:date
 :x-gm-message-state:from:to:cc:subject:date:message-id:reply-to;
 bh=5mgfF3xp9dEHeNcFvOnUWONCnkkD/Nf7bGHI7anpVu8=;
 b=gJ8r3smvfEpX7ZlAXQqzq/dJKFTTdPAvRimaqQEso0kIoWvYvrVV8DxEDIsVwk4Y8v
 EY29c2J+hveBvGnQWgarV0dI4E+ooJX8443aSLWAT/R6hGV9WdvNgN+w5N8mMHSeY8Nw
 bPmJRf6WXJbj99Ih+3iVsIROZOFS/+f+77HAiMeOLS4V6cWeFVHzgJ3cGvV8Z77A8osE
 0WwgLnm+pRZkiTqd8vcR0ELIbaePP7pX67KmojEImGP3bej3y9UGRnZ3AYsA0Jna4VQF
 IP1G7hNNO8XPufu7RXo4slSDI3YTYZu5UOJmqUFb74LM1a0WLFq96QigboDC+ygLgHh+
 i1rQ==
X-Gm-Message-State: AOJu0YxrKbi/zjwWbsWeFS1j+/Y1+2nHZgDuhEU/8jdiX2400Sb4EKAw
 HgjMEHF6Xv6Z8/75GXKvnlq5hoCvF5mGopyaO6/lhFlj3ZYJdDdvUGxFJNmxaUKHNf2Zo5FFaeU
 wOtt/knfPd7Kon6VZXNaqzRkBBQg9esO8i7qVcu4sn1gpvUY+DtCZ6Ms8
X-Google-Smtp-Source: AGHT+IEF5WxeIxESubEB56vS/da3fj/fbmAMcVKPaUKB99JcAL7evh2glJ0bBt4kpNetUCjoEmOGlMcmyUmF
X-Received: by 2002:a81:8d11:0:b0:646:3ef4:6ace with SMTP id
 00721157ae682-658ef24b284mr92819277b3.24.1720724059219; 
 Thu, 11 Jul 2024 11:54:19 -0700 (PDT)
Received: from postal.iol.unh.edu (postal.iol.unh.edu.
 [2606:4100:3880:1234::84]) by smtp-relay.gmail.com with ESMTPS id
 00721157ae682-658e4455558sm2637987b3.10.2024.07.11.11.54.19
 (version=TLS1_2 cipher=ECDHE-ECDSA-AES128-GCM-SHA256 bits=128/128);
 Thu, 11 Jul 2024 11:54:19 -0700 (PDT)
X-Relaying-Domain: iol.unh.edu
Date: Thu, 11 Jul 2024 11:54:19 -0700 (PDT)
Message-ID: <66902a5b.050a0220.dfb51.dd78SMTPIN_ADDED_MISSING@mx.google.com>
Received: from [172.21.0.10] (unknown [172.18.0.240])
 by postal.iol.unh.edu (Postfix) with ESMTP id AB17B605C380;
 Thu, 11 Jul 2024 14:54:18 -0400 (EDT)
Subject: |PENDING| pw142323 [PATCH] [v2] net/virtio_user: fix issue with conv
From: dpdklab@iol.unh.edu
To: Test Report <test-report@dpdk.org>
Cc: dpdk-test-reports@iol.unh.edu
In-Reply-To: <20240711124436.2383232-1-schalla@marvell.com>
References: <20240711124436.2383232-1-schalla@marvell.com>
Content-Type: text/plain
X-BeenThere: test-report@dpdk.org
X-Mailman-Version: 2.1.29
Precedence: list
List-Id: automatic DPDK test reports <test-report.dpdk.org>
List-Unsubscribe: <https://mails.dpdk.org/options/test-report>,
 <mailto:test-report-request@dpdk.org?subject=unsubscribe>
List-Archive: <http://mails.dpdk.org/archives/test-report/>
List-Post: <mailto:test-report@dpdk.org>
List-Help: <mailto:test-report-request@dpdk.org?subject=help>
List-Subscribe: <https://mails.dpdk.org/listinfo/test-report>,
 <mailto:test-report-request@dpdk.org?subject=subscribe>
Errors-To: test-report-bounces@dpdk.org

Test-Label: iol-compile-arm64-testing
Test-Status: PENDING
http://dpdk.org/patch/142323

_Testing pending_

Submitter: Srujana Challa <schalla@marvell.com>
Date: Thursday, July 11 2024 12:44:36 
DPDK git baseline: Repo:dpdk
  Branch: master
  CommitID:9cbdb606e5d04de04be3d9f70f0e76551e8c9a36

142323 --> testing pending

Test environment and result as below:

+----------------------------------------+--------------------+
|              Environment               | dpdk_meson_compile |
+========================================+====================+
| RHEL9 (ARM)                            | PASS               |
+----------------------------------------+--------------------+
| Ubuntu 20.04 ARM GCC Cross Compile     | PEND               |
+----------------------------------------+--------------------+
| Ubuntu 20.04 ARM SVE                   | PASS               |
+----------------------------------------+--------------------+
| Debian 12 with MUSDK                   | PASS               |
+----------------------------------------+--------------------+
| Fedora 37 (ARM)                        | PASS               |
+----------------------------------------+--------------------+
| Fedora 38 (ARM)                        | PEND               |
+----------------------------------------+--------------------+
| Fedora 38 (ARM Clang)                  | PEND               |
+----------------------------------------+--------------------+
| Fedora 39 (ARM)                        | PASS               |
+----------------------------------------+--------------------+
| Fedora 39 (ARM Clang)                  | PEND               |
+----------------------------------------+--------------------+
| Fedora 40 (ARM)                        | PEND               |
+----------------------------------------+--------------------+
| Fedora 40 (ARM Clang)                  | PEND               |
+----------------------------------------+--------------------+
| Ubuntu 20.04 (ARM)                     | PASS               |
+----------------------------------------+--------------------+
| Ubuntu 22.04 (ARM)                     | PASS               |
+----------------------------------------+--------------------+
| Ubuntu 24.04 (ARM)                     | PASS               |
+----------------------------------------+--------------------+
| CentOS Stream 9 (ARM)                  | PASS               |
+----------------------------------------+--------------------+
| Debian 11 (Buster) (ARM)               | PASS               |
+----------------------------------------+--------------------+
| Debian 12 (arm)                        | PASS               |
+----------------------------------------+--------------------+
| Ubuntu 20.04 ARM Clang Cross Compile   | PEND               |
+----------------------------------------+--------------------+
| Ubuntu 20.04 aarch32 GCC Cross Compile | PEND               |
+----------------------------------------+--------------------+


RHEL9 (ARM)
	Kernel: Depends on container host
	Compiler: gcc 11.4.1

Ubuntu 20.04 ARM GCC Cross Compile
	Kernel: 5.4.0-167-generic
	Compiler: aarch64-linux-gnu-gcc (Ubuntu 9.4.0-1ubuntu1~20.04.2) 9.4.0

Ubuntu 20.04 ARM SVE
	Kernel: 5.4.0-167-generic
	Compiler: gcc (Ubuntu 10.5.0-1ubuntu1~20.04) 10.5.0

Debian 12 with MUSDK
	Kernel: Container Host Kernel
	Compiler: gcc 12.2.0

Fedora 37 (ARM)
	Kernel: Depends on container host
	Compiler: gcc 12.3.1

Fedora 38 (ARM)
	Kernel: Depends on container host
	Compiler: gcc 13.2.1

Fedora 38 (ARM Clang)
	Kernel: Depends on container host
	Compiler: clang 16.0.6

Fedora 39 (ARM)
	Kernel: Depends on container host
	Compiler: gcc 13.2.1

Fedora 39 (ARM Clang)
	Kernel: Depends on container host
	Compiler: clang 17.0.6

Fedora 40 (ARM)
	Kernel: Depends on container host
	Compiler: gcc 14.1.1

Fedora 40 (ARM Clang)
	Kernel: Depends on container host
	Compiler: clang 18.1.6

Ubuntu 20.04 (ARM)
	Kernel: Container Host Kernel
	Compiler: gcc 9.4.0

Ubuntu 22.04 (ARM)
	Kernel: Container Host Kernel
	Compiler: gcc 11.4.0

Ubuntu 24.04 (ARM)
	Kernel: 5.4.0-167-generic
	Compiler: gcc 13.2.0

CentOS Stream 9 (ARM)
	Kernel: Container Host Kernel
	Compiler: gcc 11.4.1

Debian 11 (Buster) (ARM)
	Kernel: Container Host Kernel
	Compiler: gcc 10.2.1

Debian 12 (arm)
	Kernel: Container Host Kernel
	Compiler: gcc 12.2.0

Ubuntu 20.04 ARM Clang Cross Compile
	Kernel: 5.4.0-72-generic
	Compiler: clang 10.0.0-4ubuntu1

Ubuntu 20.04 aarch32 GCC Cross Compile
	Kernel: 5.4.0-167-generic
	Compiler: gcc 9.4.0

To view detailed results, visit:
https://lab.dpdk.org/results/dashboard/patchsets/30495/

UNH-IOL DPDK Community Lab

To manage your email subscriptions, visit: 
https://lab.dpdk.org/results/dashboard/preferences/subscriptions/