From mboxrd@z Thu Jan  1 00:00:00 1970
Return-Path: <test-report-bounces@dpdk.org>
Received: from mails.dpdk.org (mails.dpdk.org [217.70.189.124])
	by inbox.dpdk.org (Postfix) with ESMTP id 1D514455FE
	for <public@inbox.dpdk.org>; Thu, 11 Jul 2024 23:29:02 +0200 (CEST)
Received: from mails.dpdk.org (localhost [127.0.0.1])
	by mails.dpdk.org (Postfix) with ESMTP id 196FE402CE;
	Thu, 11 Jul 2024 23:29:02 +0200 (CEST)
Received: from mail-il1-f225.google.com (mail-il1-f225.google.com
 [209.85.166.225])
 by mails.dpdk.org (Postfix) with ESMTP id 8FC28402CC
 for <test-report@dpdk.org>; Thu, 11 Jul 2024 23:29:00 +0200 (CEST)
Received: by mail-il1-f225.google.com with SMTP id
 e9e14a558f8ab-38b4e08c3e5so5991515ab.3
 for <test-report@dpdk.org>; Thu, 11 Jul 2024 14:29:00 -0700 (PDT)
DKIM-Signature: v=1; a=rsa-sha256; c=relaxed/relaxed;
 d=iol.unh.edu; s=unh-iol; t=1720733340; x=1721338140; darn=dpdk.org;
 h=references:in-reply-to:cc:to:from:subject:message-id:date:from:to
 :cc:subject:date:message-id:reply-to;
 bh=TtjNi3vpESSdUVddnDpqmBELnaJufsNlWO1NQ0h1SYg=;
 b=GgdmI+c0irUjEEZEKs2tEsXwLute82rkKCCzlaQ1T/71CILEIpoyrXcNhYooZEhjjG
 wG75HZdCpwZv5tidRe+iCvdAOPzskq2KmMuxrsO8DRifFJI1BQpn4Kn5DvRe+3roLgkv
 eEgwOVttBOW/oxT4cwMQrjbziqk9xTKFabLIw=
X-Google-DKIM-Signature: v=1; a=rsa-sha256; c=relaxed/relaxed;
 d=1e100.net; s=20230601; t=1720733340; x=1721338140;
 h=references:in-reply-to:cc:to:from:subject:message-id:date
 :x-gm-message-state:from:to:cc:subject:date:message-id:reply-to;
 bh=TtjNi3vpESSdUVddnDpqmBELnaJufsNlWO1NQ0h1SYg=;
 b=PsF7QdBjKzJtT/RZyA9yBiDgf49Qfaja5aokjqIGxUSYALZKXnSi99E4M4mIbQb/d1
 93vrb2eEVicIlFYRWEZLB5DibvheAXL7XoOvgKZDQSt335EvlvXrJlLrPuHIjv3fYo8y
 Mbqwd3nIQmleNhGzNLeJ71G9ibXInByEN1srv5/+S5YFuanjePhOM4PZ1h29nxHiw0bu
 EFTghZoniMV19oIZ7Nh4XlbTsnp4AXyIaP9ZT9gPN3fFey341dB4SlZFwAAtZ0jcxo+4
 ZszdRFfb/cc5UP5H9YWLXzQyG6ZkXJQuy2DYC/JJCQJdVGIE2cKRkrhdkJ9wfSCUhy63
 63qQ==
X-Gm-Message-State: AOJu0YwHsxOzqHUvR2tRISGK67gqB2Pvq2JQeXTRnffWXJAvkJ+8JuXD
 17xjysTh+ez9h5hmy8SaWPG6xob3nJQIbj8DT/SYH4ZjbBjoxM/ev4TSM1n5Pmkjv+EazwewjxW
 czBMFeKvQB3VByGY3F61elDbMaH/f7n+co+Pp7P63
X-Google-Smtp-Source: AGHT+IG6Row5mx2+9REbvyCI/OxpYPPhs+p/I4nisyiWbgFRCEO4jTJuccYkvmUGcV3TVaqLYl+P8G33JLs0
X-Received: by 2002:a05:6e02:18cc:b0:375:9e20:beef with SMTP id
 e9e14a558f8ab-38a53e858b0mr127139135ab.0.1720733339907; 
 Thu, 11 Jul 2024 14:28:59 -0700 (PDT)
Received: from postal.iol.unh.edu (postal.iol.unh.edu. [132.177.123.84])
 by smtp-relay.gmail.com with ESMTPS id
 e9e14a558f8ab-38a49c226a8sm3653055ab.41.2024.07.11.14.28.59
 (version=TLS1_2 cipher=ECDHE-ECDSA-AES128-GCM-SHA256 bits=128/128);
 Thu, 11 Jul 2024 14:28:59 -0700 (PDT)
X-Relaying-Domain: iol.unh.edu
Date: Thu, 11 Jul 2024 14:28:59 -0700 (PDT)
Message-ID: <66904e9b.050a0220.d2f0.3c60SMTPIN_ADDED_MISSING@mx.google.com>
Received: from [172.21.0.7] (unknown [172.18.0.240])
 by postal.iol.unh.edu (Postfix) with ESMTP id 71816605C380;
 Thu, 11 Jul 2024 17:28:59 -0400 (EDT)
Subject: |PENDING| pw142302-142319 [PATCH] [v6,21/21] net/ntnic: add physical
From: dpdklab@iol.unh.edu
To: Test Report <test-report@dpdk.org>
Cc: dpdk-test-reports@iol.unh.edu
In-Reply-To: <20240711120737.698176-21-sil-plv@napatech.com>
References: <20240711120737.698176-21-sil-plv@napatech.com>
Content-Type: text/plain
X-BeenThere: test-report@dpdk.org
X-Mailman-Version: 2.1.29
Precedence: list
List-Id: automatic DPDK test reports <test-report.dpdk.org>
List-Unsubscribe: <https://mails.dpdk.org/options/test-report>,
 <mailto:test-report-request@dpdk.org?subject=unsubscribe>
List-Archive: <http://mails.dpdk.org/archives/test-report/>
List-Post: <mailto:test-report@dpdk.org>
List-Help: <mailto:test-report-request@dpdk.org?subject=help>
List-Subscribe: <https://mails.dpdk.org/listinfo/test-report>,
 <mailto:test-report-request@dpdk.org?subject=subscribe>
Errors-To: test-report-bounces@dpdk.org

Test-Label: iol-unit-amd64-testing
Test-Status: PENDING
http://dpdk.org/patch/142319

_Testing pending_

Submitter: Serhii Iliushyk <sil-plv@napatech.com>
Date: Thursday, July 11 2024 12:07:32 
DPDK git baseline: Repo:dpdk
  Branch: master
  CommitID:a6c3ec342ee105e322ffdb21e810cdfd38455c62

142302-142319 --> testing pending

Test environment and result as below:

+---------------------+----------------+
|     Environment     | dpdk_unit_test |
+=====================+================+
| Windows Server 2022 | PASS           |
+---------------------+----------------+
| Windows Server 2019 | PASS           |
+---------------------+----------------+
| Debian 12           | PASS           |
+---------------------+----------------+
| CentOS Stream 9     | PASS           |
+---------------------+----------------+
| CentOS Stream 8     | PASS           |
+---------------------+----------------+
| Debian Bullseye     | PASS           |
+---------------------+----------------+
| Fedora 39           | PASS           |
+---------------------+----------------+
| openSUSE Leap 15    | PASS           |
+---------------------+----------------+
| RHEL8               | PASS           |
+---------------------+----------------+
| Fedora 38 (Clang)   | PASS           |
+---------------------+----------------+
| Fedora 38           | PASS           |
+---------------------+----------------+
| Fedora 37           | PEND           |
+---------------------+----------------+
| Fedora 39 (Clang)   | PEND           |
+---------------------+----------------+
| Fedora 40           | PEND           |
+---------------------+----------------+
| RHEL9               | PEND           |
+---------------------+----------------+
| Fedora 40 (Clang)   | PEND           |
+---------------------+----------------+
| Ubuntu 22.04        | PEND           |
+---------------------+----------------+
| Ubuntu 20.04        | PEND           |
+---------------------+----------------+
| Ubuntu 24.04        | PEND           |
+---------------------+----------------+


Windows Server 2022
	Kernel: 10.0.20348.2031
	Compiler: clang 15.0.7, gcc 8.1.0 (MinGW), and MSVC VS 17.9

Windows Server 2019
	Kernel: 10.0.17763
	Compiler: clang 14.0 and gcc 8.1.0 (MinGW)

Debian 12
	Kernel: Container Host Kernel
	Compiler: gcc 12.2.0

CentOS Stream 9
	Kernel: 5.4.0-167-generic
	Compiler: gcc 11.4.1 20230605

CentOS Stream 8
	Kernel: 5.4.0-167-generic
	Compiler: gcc 8.5.0 20210514

Debian Bullseye
	Kernel: 5.4.0-167-generic
	Compiler: gcc 10.2.1-6

Fedora 39
	Kernel: Depends on container host
	Compiler: gcc 13.2.1

openSUSE Leap 15
	Kernel: 5.4.0-167-generic
	Compiler: gcc 7.5.0

RHEL8
	Kernel: 5.4.0-167-generic
	Compiler: gcc 8.5.0 20210514 (Red Hat 8.5.0-20)

Fedora 38 (Clang)
	Kernel: Depends on container host
	Compiler: clang 16.0.6

Fedora 38
	Kernel: Depends on container host
	Compiler: gcc 13.2.1

Fedora 37
	Kernel: Depends on container host system
	Compiler: gcc 12.3.1

Fedora 39 (Clang)
	Kernel: Depends on container host
	Compiler: clang 17.0.6

Fedora 40
	Kernel: Depends on container host
	Compiler: gcc 14.1.1

RHEL9
	Kernel: Depends on container host
	Compiler: gcc 11.4.1

Fedora 40 (Clang)
	Kernel: Depends on container host
	Compiler: clang 18.1.6

Ubuntu 22.04
	Kernel: 5.4.0-167-generic
	Compiler: gcc 11.4.0

Ubuntu 20.04
	Kernel: 5.4.0-167-generic
	Compiler: gcc 9.4.0-1ubuntu1~20.04.1

Ubuntu 24.04
	Kernel: 5.4.0-167-generic
	Compiler: gcc 13.2.0

To view detailed results, visit:
https://lab.dpdk.org/results/dashboard/patchsets/30492/

UNH-IOL DPDK Community Lab

To manage your email subscriptions, visit: 
https://lab.dpdk.org/results/dashboard/preferences/subscriptions/