From mboxrd@z Thu Jan  1 00:00:00 1970
Return-Path: <test-report-bounces@dpdk.org>
Received: from mails.dpdk.org (mails.dpdk.org [217.70.189.124])
	by inbox.dpdk.org (Postfix) with ESMTP id B52F9455FE
	for <public@inbox.dpdk.org>; Thu, 11 Jul 2024 23:51:39 +0200 (CEST)
Received: from mails.dpdk.org (localhost [127.0.0.1])
	by mails.dpdk.org (Postfix) with ESMTP id B152D402CE;
	Thu, 11 Jul 2024 23:51:39 +0200 (CEST)
Received: from mail-yw1-f226.google.com (mail-yw1-f226.google.com
 [209.85.128.226])
 by mails.dpdk.org (Postfix) with ESMTP id 17041402CC
 for <test-report@dpdk.org>; Thu, 11 Jul 2024 23:51:13 +0200 (CEST)
Received: by mail-yw1-f226.google.com with SMTP id
 00721157ae682-651da7c1531so13847117b3.0
 for <test-report@dpdk.org>; Thu, 11 Jul 2024 14:51:13 -0700 (PDT)
DKIM-Signature: v=1; a=rsa-sha256; c=relaxed/relaxed;
 d=iol.unh.edu; s=unh-iol; t=1720734672; x=1721339472; darn=dpdk.org;
 h=references:in-reply-to:cc:to:from:subject:message-id:date:from:to
 :cc:subject:date:message-id:reply-to;
 bh=k8xUQST+7tknIEzRQ2PLFNvPIeIjR3oRhlIYnTLd6Nc=;
 b=W/MWhWGw4lGbQpQQCe1woosqdXAa2Pnwx0hLeuNcofDvWlo92h7WloNdPBx4tLHrpM
 f0LT9yigIGrigQlyCLi6bPNBi466HMKiXXVwP2w2/BhA5vTgPliGHh2Xj47Vhv87CaIj
 Q9/TyIApJNlG0uwl84tKdMivrlvsgdnqRjcPc=
X-Google-DKIM-Signature: v=1; a=rsa-sha256; c=relaxed/relaxed;
 d=1e100.net; s=20230601; t=1720734672; x=1721339472;
 h=references:in-reply-to:cc:to:from:subject:message-id:date
 :x-gm-message-state:from:to:cc:subject:date:message-id:reply-to;
 bh=k8xUQST+7tknIEzRQ2PLFNvPIeIjR3oRhlIYnTLd6Nc=;
 b=edWuBmELIT2fNgHOUimqLOoo5/h9wSTZ5Wj/BFaSqOofM0z5p0+s5fqYVGwHVhnotQ
 amtYYxh+sR7y1TJl8L+7QZrI9XvK0L5Ur/mDQcuiYWdRKsKIu+apkdZPwYxJ/0LvT53e
 5kBAmkRaYGuM/XZRizxrTcgopXuSw/AB6pxdodlRIZkp+tynrR+TaA/NQHJFobnPN5eh
 TJ7j25OpX5b4m67N3awLFVrzYgFiWm3pYfyuUDvviNKv2wbaEX0qeywlnRzBy6BU39I0
 OymH2k6uffOMaOl25azry5NyUbNRO7wt8whi9IOzq1TBmR19yvg7z+1Ve4OrP/G9JWdo
 Ai6Q==
X-Gm-Message-State: AOJu0YyNwyMGU2otJ3QRcWMt5SFeGc2RjqS5C3lQHWYunv2L/t6HxTu6
 Q39KN7rSiIPww8yhZzcnHbGQLN1Dh2+xIxAshkF5B/LxAaLiF/fkBENDL0Ah47yl6vhkBCGRhtt
 qLfbhhuxyMdUvsaUmY+b+iaI5vFYhgZGrqxkG19z31tvEBbFqD8X4/YOm
X-Google-Smtp-Source: AGHT+IHE+TU5rBQLLLEPq/lIACHahhI+tL651pF3mpdizxHnr9nf/xIaQe4K69WYzfuZ2K8PGtyCYTXECLlf
X-Received: by 2002:a0d:ea50:0:b0:653:ffe7:d648 with SMTP id
 00721157ae682-658f0bc622fmr100428977b3.34.1720734672450; 
 Thu, 11 Jul 2024 14:51:12 -0700 (PDT)
Received: from postal.iol.unh.edu (postal.iol.unh.edu.
 [2606:4100:3880:1234::84]) by smtp-relay.gmail.com with ESMTPS id
 00721157ae682-658e445548asm2750487b3.14.2024.07.11.14.51.12
 (version=TLS1_2 cipher=ECDHE-ECDSA-AES128-GCM-SHA256 bits=128/128);
 Thu, 11 Jul 2024 14:51:12 -0700 (PDT)
X-Relaying-Domain: iol.unh.edu
Date: Thu, 11 Jul 2024 14:51:12 -0700 (PDT)
Message-ID: <669053d0.050a0220.62752.f42eSMTPIN_ADDED_MISSING@mx.google.com>
Received: from [172.21.0.7] (unknown [172.18.0.240])
 by postal.iol.unh.edu (Postfix) with ESMTP id 0F07F605C380;
 Thu, 11 Jul 2024 17:51:12 -0400 (EDT)
Subject: |PENDING| pw142325-142326 [PATCH] [v2,2/2] dts: improve starting and
From: dpdklab@iol.unh.edu
To: Test Report <test-report@dpdk.org>
Cc: dpdk-test-reports@iol.unh.edu
In-Reply-To: <20240711163410.89017-3-jspewock@iol.unh.edu>
References: <20240711163410.89017-3-jspewock@iol.unh.edu>
Content-Type: text/plain
X-BeenThere: test-report@dpdk.org
X-Mailman-Version: 2.1.29
Precedence: list
List-Id: automatic DPDK test reports <test-report.dpdk.org>
List-Unsubscribe: <https://mails.dpdk.org/options/test-report>,
 <mailto:test-report-request@dpdk.org?subject=unsubscribe>
List-Archive: <http://mails.dpdk.org/archives/test-report/>
List-Post: <mailto:test-report@dpdk.org>
List-Help: <mailto:test-report-request@dpdk.org?subject=help>
List-Subscribe: <https://mails.dpdk.org/listinfo/test-report>,
 <mailto:test-report-request@dpdk.org?subject=subscribe>
Errors-To: test-report-bounces@dpdk.org

Test-Label: iol-abi-testing
Test-Status: PENDING
http://dpdk.org/patch/142326

_Testing pending_

Submitter: Jeremy Spewock <jspewock@iol.unh.edu>
Date: Thursday, July 11 2024 16:34:10 
DPDK git baseline: Repo:dpdk
  Branch: master
  CommitID:6bfdd6a5e8cc0c065eb4a2109052139f4586b714

142325-142326 --> testing pending

Test environment and result as below:

+-------------------+----------+
|    Environment    | abi_test |
+===================+==========+
| CentOS Stream 8   | PASS     |
+-------------------+----------+
| CentOS Stream 9   | PASS     |
+-------------------+----------+
| Debian Bullseye   | PASS     |
+-------------------+----------+
| Debian 12         | PASS     |
+-------------------+----------+
| Fedora 38         | PASS     |
+-------------------+----------+
| Fedora 39 (Clang) | PASS     |
+-------------------+----------+
| Fedora 40 (Clang) | PASS     |
+-------------------+----------+
| Fedora 38 (Clang) | PASS     |
+-------------------+----------+
| Fedora 37         | PASS     |
+-------------------+----------+
| Fedora 39         | PASS     |
+-------------------+----------+
| RHEL9             | PASS     |
+-------------------+----------+
| RHEL8             | PASS     |
+-------------------+----------+
| openSUSE Leap 15  | PASS     |
+-------------------+----------+
| Fedora 40         | PASS     |
+-------------------+----------+
| Ubuntu 22.04      | PASS     |
+-------------------+----------+
| Ubuntu 24.04      | PEND     |
+-------------------+----------+


CentOS Stream 8
	Kernel: 5.4.0-167-generic
	Compiler: gcc 8.5.0 20210514

CentOS Stream 9
	Kernel: 5.4.0-167-generic
	Compiler: gcc 11.4.1 20230605

Debian Bullseye
	Kernel: 5.4.0-167-generic
	Compiler: gcc 10.2.1-6

Debian 12
	Kernel: Container Host Kernel
	Compiler: gcc 12.2.0

Fedora 38
	Kernel: Depends on container host
	Compiler: gcc 13.2.1

Fedora 39 (Clang)
	Kernel: Depends on container host
	Compiler: clang 17.0.6

Fedora 40 (Clang)
	Kernel: Depends on container host
	Compiler: clang 18.1.6

Fedora 38 (Clang)
	Kernel: Depends on container host
	Compiler: clang 16.0.6

Fedora 37
	Kernel: Depends on container host system
	Compiler: gcc 12.3.1

Fedora 39
	Kernel: Depends on container host
	Compiler: gcc 13.2.1

RHEL9
	Kernel: Depends on container host
	Compiler: gcc 11.4.1

RHEL8
	Kernel: 5.4.0-167-generic
	Compiler: gcc 8.5.0 20210514 (Red Hat 8.5.0-20)

openSUSE Leap 15
	Kernel: 5.4.0-167-generic
	Compiler: gcc 7.5.0

Fedora 40
	Kernel: Depends on container host
	Compiler: gcc 14.1.1

Ubuntu 22.04
	Kernel: 5.4.0-167-generic
	Compiler: gcc 11.4.0

Ubuntu 24.04
	Kernel: 5.4.0-167-generic
	Compiler: gcc 13.2.0

To view detailed results, visit:
https://lab.dpdk.org/results/dashboard/patchsets/30497/

UNH-IOL DPDK Community Lab

To manage your email subscriptions, visit: 
https://lab.dpdk.org/results/dashboard/preferences/subscriptions/