From: dpdklab@iol.unh.edu
To: Test Report <test-report@dpdk.org>
Cc: dpdk-test-reports@iol.unh.edu
Subject: |PENDING| [GIT MASTER] a6ec5765cf83d3d58cbd6d4ed5b92b4a06f8a808
Date: Fri, 12 Jul 2024 00:08:11 -0700 (PDT) [thread overview]
Message-ID: <6690d65b.050a0220.7a8f8.5ec5SMTPIN_ADDED_MISSING@mx.google.com> (raw)
_Testing pending_
Branch: tags/v23.11
a6ec5765cf83d3d58cbd6d4ed5b92b4a06f8a808 --> testing pending
Test environment and result as below:
+---------------------+--------------------+-------------------+----------------------+------------------+-------------------+
| Environment | dpdk_meson_compile | dpdk_msvc_compile | dpdk_mingw64_compile | dpdk_compile_ovs | dpdk_compile_spdk |
+=====================+====================+===================+======================+==================+===================+
| Windows Server 2019 | PASS | SKIPPED | PASS | SKIPPED | SKIPPED |
+---------------------+--------------------+-------------------+----------------------+------------------+-------------------+
| Windows Server 2022 | PASS | PASS | PASS | SKIPPED | SKIPPED |
+---------------------+--------------------+-------------------+----------------------+------------------+-------------------+
| FreeBSD 13.3 | PASS | SKIPPED | SKIPPED | SKIPPED | SKIPPED |
+---------------------+--------------------+-------------------+----------------------+------------------+-------------------+
| FreeBSD 14.1 | PASS | SKIPPED | SKIPPED | SKIPPED | SKIPPED |
+---------------------+--------------------+-------------------+----------------------+------------------+-------------------+
| CentOS Stream 8 | PASS | SKIPPED | SKIPPED | PASS | PASS |
+---------------------+--------------------+-------------------+----------------------+------------------+-------------------+
| CentOS Stream 9 | PEND | SKIPPED | SKIPPED | PEND | PEND |
+---------------------+--------------------+-------------------+----------------------+------------------+-------------------+
| Debian Bullseye | PEND | SKIPPED | SKIPPED | PEND | PEND |
+---------------------+--------------------+-------------------+----------------------+------------------+-------------------+
| Debian 12 | PEND | SKIPPED | SKIPPED | PEND | PEND |
+---------------------+--------------------+-------------------+----------------------+------------------+-------------------+
| Fedora 37 | PEND | SKIPPED | SKIPPED | PEND | PEND |
+---------------------+--------------------+-------------------+----------------------+------------------+-------------------+
Windows Server 2019
Kernel: 10.0.17763
Compiler: clang 14.0 and gcc 8.1.0 (MinGW)
Windows Server 2022
Kernel: 10.0.20348.2031
Compiler: clang 15.0.7, gcc 8.1.0 (MinGW), and MSVC VS 17.9
FreeBSD 13.3
Kernel: 13.3-RELEASE-p1
Compiler: clang 17.0.6
FreeBSD 14.1
Kernel: 14.1
Compiler: clang 18.1.5
CentOS Stream 8
Kernel: 5.4.0-167-generic
Compiler: gcc 8.5.0 20210514
CentOS Stream 9
Kernel: 5.4.0-167-generic
Compiler: gcc 11.4.1 20230605
Debian Bullseye
Kernel: 5.4.0-167-generic
Compiler: gcc 10.2.1-6
Debian 12
Kernel: Container Host Kernel
Compiler: gcc 12.2.0
Fedora 37
Kernel: Depends on container host system
Compiler: gcc 12.3.1
To view detailed results, visit:
https://lab.dpdk.org/results/dashboard/tarballs/29826/
UNH-IOL DPDK Community Lab
To manage your email subscriptions, visit:
https://lab.dpdk.org/results/dashboard/preferences/subscriptions/
next reply other threads:[~2024-07-12 7:08 UTC|newest]
Thread overview: 1544+ messages / expand[flat|nested] mbox.gz Atom feed top
2024-07-12 7:08 dpdklab [this message]
2024-07-13 8:52 dpdklab
2024-07-13 8:54 dpdklab
2024-07-13 8:55 dpdklab
2024-07-13 8:59 dpdklab
2024-07-13 9:00 dpdklab
2024-07-14 4:45 dpdklab
2024-07-14 4:50 dpdklab
2024-07-14 4:52 dpdklab
2024-07-14 4:55 dpdklab
2024-07-14 4:58 dpdklab
2024-07-14 4:58 dpdklab
2024-07-14 4:58 dpdklab
2024-07-14 4:59 dpdklab
2024-07-14 5:00 dpdklab
2024-07-14 5:01 dpdklab
2024-07-14 5:02 dpdklab
2024-07-14 5:04 dpdklab
2024-07-14 5:07 dpdklab
2024-07-14 5:08 dpdklab
2024-07-14 5:10 dpdklab
2024-07-14 5:13 dpdklab
2024-07-14 5:13 dpdklab
2024-07-14 5:14 dpdklab
2024-07-14 5:15 dpdklab
2024-07-14 5:17 dpdklab
2024-07-14 5:21 dpdklab
2024-07-14 5:23 dpdklab
2024-07-14 5:24 dpdklab
2024-07-14 5:28 dpdklab
2024-07-14 5:28 dpdklab
2024-07-14 5:29 dpdklab
2024-07-14 5:31 dpdklab
2024-07-14 5:33 dpdklab
2024-07-14 5:34 dpdklab
2024-07-14 5:34 dpdklab
2024-07-14 5:35 dpdklab
2024-07-14 5:36 dpdklab
2024-07-14 5:42 dpdklab
2024-07-14 5:43 dpdklab
2024-07-14 5:45 dpdklab
2024-07-14 5:46 dpdklab
2024-07-14 5:49 dpdklab
2024-07-14 5:50 dpdklab
2024-07-14 5:50 dpdklab
2024-07-14 5:53 dpdklab
2024-07-14 5:59 dpdklab
2024-07-15 4:15 dpdklab
2024-07-15 4:18 dpdklab
2024-07-15 4:19 dpdklab
2024-07-15 4:26 dpdklab
2024-07-15 4:28 dpdklab
2024-07-15 4:28 dpdklab
2024-07-15 4:28 dpdklab
2024-07-15 4:31 dpdklab
2024-07-15 4:33 dpdklab
2024-07-15 4:33 dpdklab
2024-07-15 4:34 dpdklab
2024-07-15 4:34 dpdklab
2024-07-15 4:35 dpdklab
2024-07-15 4:35 dpdklab
2024-07-15 4:35 dpdklab
2024-07-15 4:36 dpdklab
2024-07-15 4:37 dpdklab
2024-07-15 4:37 dpdklab
2024-07-15 4:40 dpdklab
2024-07-15 4:40 dpdklab
2024-07-15 4:41 dpdklab
2024-07-15 4:42 dpdklab
2024-07-15 4:44 dpdklab
2024-07-15 4:45 dpdklab
2024-07-15 4:45 dpdklab
2024-07-15 4:47 dpdklab
2024-07-15 4:47 dpdklab
2024-07-15 4:47 dpdklab
2024-07-15 4:49 dpdklab
2024-07-15 4:52 dpdklab
2024-07-15 4:57 dpdklab
2024-07-15 5:00 dpdklab
2024-07-15 5:01 dpdklab
2024-07-15 5:03 dpdklab
2024-07-15 5:05 dpdklab
2024-07-16 4:54 dpdklab
2024-07-16 5:40 dpdklab
2024-07-16 5:41 dpdklab
2024-07-16 5:43 dpdklab
2024-07-16 5:44 dpdklab
2024-07-16 5:46 dpdklab
2024-07-16 5:46 dpdklab
2024-07-16 5:49 dpdklab
2024-07-16 5:49 dpdklab
2024-07-16 5:50 dpdklab
2024-07-16 5:55 dpdklab
2024-07-16 6:01 dpdklab
2024-07-16 6:02 dpdklab
2024-07-16 6:14 dpdklab
2024-07-16 6:17 dpdklab
2024-07-16 6:18 dpdklab
2024-07-16 6:21 dpdklab
2024-07-16 6:23 dpdklab
2024-07-16 6:25 dpdklab
2024-07-16 6:28 dpdklab
2024-07-16 6:32 dpdklab
2024-07-16 6:35 dpdklab
2024-07-16 6:43 dpdklab
2024-07-16 6:56 dpdklab
2024-07-16 6:58 dpdklab
2024-07-16 7:03 dpdklab
2024-07-16 7:04 dpdklab
2024-07-16 7:06 dpdklab
2024-07-16 7:08 dpdklab
2024-07-16 7:08 dpdklab
2024-07-16 7:10 dpdklab
2024-07-16 7:10 dpdklab
2024-07-16 7:11 dpdklab
2024-07-16 7:29 dpdklab
2024-07-16 7:31 dpdklab
2024-07-16 7:45 dpdklab
2024-07-16 7:48 dpdklab
2024-07-16 7:51 dpdklab
2024-07-16 8:02 dpdklab
2024-07-16 8:04 dpdklab
2024-07-16 8:05 dpdklab
2024-07-16 8:08 dpdklab
2024-07-16 8:16 dpdklab
2024-07-16 20:14 dpdklab
2024-07-16 20:17 dpdklab
2024-07-17 6:18 dpdklab
2024-07-17 7:38 dpdklab
2024-07-17 8:05 dpdklab
2024-07-17 8:08 dpdklab
2024-07-17 8:08 dpdklab
2024-07-17 8:15 dpdklab
2024-07-17 8:17 dpdklab
2024-07-17 8:18 dpdklab
2024-07-17 8:19 dpdklab
2024-07-17 8:21 dpdklab
2024-07-17 8:28 dpdklab
2024-07-17 8:31 dpdklab
2024-07-17 8:42 dpdklab
2024-07-17 8:44 dpdklab
2024-07-17 8:51 dpdklab
2024-07-17 8:52 dpdklab
2024-07-17 8:55 dpdklab
2024-07-17 8:57 dpdklab
2024-07-17 9:00 dpdklab
2024-07-17 9:07 dpdklab
2024-07-17 9:08 dpdklab
2024-07-17 9:18 dpdklab
2024-07-17 9:20 dpdklab
2024-07-17 9:21 dpdklab
2024-07-17 9:23 dpdklab
2024-07-17 9:39 dpdklab
2024-07-17 9:43 dpdklab
2024-07-17 9:54 dpdklab
2024-07-17 9:57 dpdklab
2024-07-18 5:33 dpdklab
2024-07-18 5:36 dpdklab
2024-07-18 5:47 dpdklab
2024-07-18 5:48 dpdklab
2024-07-18 5:49 dpdklab
2024-07-18 5:50 dpdklab
2024-07-18 5:51 dpdklab
2024-07-18 5:55 dpdklab
2024-07-18 5:56 dpdklab
2024-07-18 5:57 dpdklab
2024-07-18 6:06 dpdklab
2024-07-18 6:11 dpdklab
2024-07-18 6:14 dpdklab
2024-07-18 6:15 dpdklab
2024-07-18 6:18 dpdklab
2024-07-18 6:21 dpdklab
2024-07-18 7:11 dpdklab
2024-07-18 7:14 dpdklab
2024-07-18 7:18 dpdklab
2024-07-18 7:19 dpdklab
2024-07-18 7:21 dpdklab
2024-07-18 8:53 dpdklab
2024-07-18 9:00 dpdklab
2024-07-18 9:01 dpdklab
2024-07-18 9:01 dpdklab
2024-07-18 9:10 dpdklab
2024-07-18 9:18 dpdklab
2024-07-18 9:28 dpdklab
2024-07-18 9:32 dpdklab
2024-07-18 9:33 dpdklab
2024-07-18 9:42 dpdklab
2024-07-18 9:44 dpdklab
2024-07-18 9:47 dpdklab
2024-07-18 9:54 dpdklab
2024-07-18 9:54 dpdklab
2024-07-18 9:59 dpdklab
2024-07-18 10:04 dpdklab
2024-07-18 10:05 dpdklab
2024-07-19 4:20 dpdklab
2024-07-19 4:20 dpdklab
2024-07-19 4:27 dpdklab
2024-07-19 4:27 dpdklab
2024-07-19 4:27 dpdklab
2024-07-19 4:28 dpdklab
2024-07-19 4:28 dpdklab
2024-07-19 4:28 dpdklab
2024-07-19 4:29 dpdklab
2024-07-19 4:29 dpdklab
2024-07-19 4:30 dpdklab
2024-07-19 4:30 dpdklab
2024-07-19 4:35 dpdklab
2024-07-19 4:36 dpdklab
2024-07-19 4:38 dpdklab
2024-07-19 4:38 dpdklab
2024-07-19 4:39 dpdklab
2024-07-19 4:42 dpdklab
2024-07-19 4:45 dpdklab
2024-07-19 4:46 dpdklab
2024-07-19 4:51 dpdklab
2024-07-19 4:52 dpdklab
2024-07-19 4:53 dpdklab
2024-07-19 4:56 dpdklab
2024-07-19 4:58 dpdklab
2024-07-19 4:58 dpdklab
2024-07-19 4:59 dpdklab
2024-07-19 5:04 dpdklab
2024-07-19 5:06 dpdklab
2024-07-19 5:06 dpdklab
2024-07-19 5:11 dpdklab
2024-07-19 5:13 dpdklab
2024-07-19 5:13 dpdklab
2024-07-19 5:13 dpdklab
2024-07-19 5:14 dpdklab
2024-07-19 5:25 dpdklab
2024-07-19 5:27 dpdklab
2024-07-19 5:33 dpdklab
2024-07-19 5:35 dpdklab
2024-07-19 5:38 dpdklab
2024-07-19 5:39 dpdklab
2024-07-19 5:43 dpdklab
2024-07-20 4:35 dpdklab
2024-07-20 4:46 dpdklab
2024-07-20 4:48 dpdklab
2024-07-20 4:52 dpdklab
2024-07-20 4:52 dpdklab
2024-07-20 4:52 dpdklab
2024-07-20 4:57 dpdklab
2024-07-20 4:57 dpdklab
2024-07-20 4:58 dpdklab
2024-07-20 5:02 dpdklab
2024-07-20 5:03 dpdklab
2024-07-20 5:05 dpdklab
2024-07-20 5:09 dpdklab
2024-07-20 5:10 dpdklab
2024-07-20 5:11 dpdklab
2024-07-20 5:15 dpdklab
2024-07-20 5:19 dpdklab
2024-07-20 5:22 dpdklab
2024-07-20 5:25 dpdklab
2024-07-20 5:28 dpdklab
2024-07-20 5:31 dpdklab
2024-07-20 5:32 dpdklab
2024-07-20 5:32 dpdklab
2024-07-20 5:32 dpdklab
2024-07-20 5:33 dpdklab
2024-07-20 5:34 dpdklab
2024-07-20 5:35 dpdklab
2024-07-20 5:37 dpdklab
2024-07-20 5:38 dpdklab
2024-07-20 5:38 dpdklab
2024-07-20 5:39 dpdklab
2024-07-20 5:49 dpdklab
2024-07-20 5:58 dpdklab
2024-07-20 5:59 dpdklab
2024-07-20 6:03 dpdklab
2024-07-20 6:10 dpdklab
2024-07-20 6:12 dpdklab
2024-07-20 6:14 dpdklab
2024-07-20 6:19 dpdklab
2024-07-20 6:26 dpdklab
2024-07-20 6:28 dpdklab
2024-07-20 6:31 dpdklab
2024-07-20 6:32 dpdklab
2024-07-21 4:23 dpdklab
2024-07-21 4:28 dpdklab
2024-07-21 4:38 dpdklab
2024-07-21 4:39 dpdklab
2024-07-21 4:46 dpdklab
2024-07-21 4:48 dpdklab
2024-07-21 4:48 dpdklab
2024-07-21 4:50 dpdklab
2024-07-21 4:50 dpdklab
2024-07-21 4:51 dpdklab
2024-07-21 4:53 dpdklab
2024-07-21 4:55 dpdklab
2024-07-21 4:55 dpdklab
2024-07-21 4:56 dpdklab
2024-07-21 4:57 dpdklab
2024-07-21 4:57 dpdklab
2024-07-21 4:59 dpdklab
2024-07-21 5:00 dpdklab
2024-07-21 5:02 dpdklab
2024-07-21 5:05 dpdklab
2024-07-21 5:05 dpdklab
2024-07-21 5:10 dpdklab
2024-07-21 5:13 dpdklab
2024-07-21 5:13 dpdklab
2024-07-21 5:14 dpdklab
2024-07-21 5:16 dpdklab
2024-07-21 5:18 dpdklab
2024-07-21 5:19 dpdklab
2024-07-22 4:17 dpdklab
2024-07-22 4:18 dpdklab
2024-07-22 4:19 dpdklab
2024-07-22 4:22 dpdklab
2024-07-22 4:22 dpdklab
2024-07-22 4:23 dpdklab
2024-07-22 4:23 dpdklab
2024-07-22 4:27 dpdklab
2024-07-22 4:28 dpdklab
2024-07-22 4:29 dpdklab
2024-07-22 4:34 dpdklab
2024-07-22 4:35 dpdklab
2024-07-22 4:36 dpdklab
2024-07-22 4:37 dpdklab
2024-07-22 4:38 dpdklab
2024-07-22 4:39 dpdklab
2024-07-22 4:39 dpdklab
2024-07-22 4:39 dpdklab
2024-07-22 4:39 dpdklab
2024-07-22 4:40 dpdklab
2024-07-22 4:40 dpdklab
2024-07-22 4:45 dpdklab
2024-07-22 4:45 dpdklab
2024-07-22 4:45 dpdklab
2024-07-22 4:45 dpdklab
2024-07-22 4:46 dpdklab
2024-07-22 4:47 dpdklab
2024-07-22 4:48 dpdklab
2024-07-22 4:53 dpdklab
2024-07-22 4:53 dpdklab
2024-07-22 4:54 dpdklab
2024-07-22 4:59 dpdklab
2024-07-23 4:46 dpdklab
2024-07-23 5:22 dpdklab
2024-07-23 5:53 dpdklab
2024-07-23 6:01 dpdklab
2024-07-23 6:03 dpdklab
2024-07-23 6:05 dpdklab
2024-07-23 6:06 dpdklab
2024-07-23 6:06 dpdklab
2024-07-23 6:07 dpdklab
2024-07-23 6:08 dpdklab
2024-07-23 6:09 dpdklab
2024-07-23 6:13 dpdklab
2024-07-23 6:15 dpdklab
2024-07-23 6:21 dpdklab
2024-07-23 6:25 dpdklab
2024-07-23 6:27 dpdklab
2024-07-23 6:30 dpdklab
2024-07-23 6:34 dpdklab
2024-07-23 6:34 dpdklab
2024-07-23 6:37 dpdklab
2024-07-23 6:37 dpdklab
2024-07-23 6:44 dpdklab
2024-07-23 6:45 dpdklab
2024-07-23 6:46 dpdklab
2024-07-23 6:50 dpdklab
2024-07-23 6:56 dpdklab
2024-07-23 6:57 dpdklab
2024-07-23 7:00 dpdklab
2024-07-23 7:13 dpdklab
2024-07-23 7:15 dpdklab
2024-07-23 7:15 dpdklab
2024-07-23 7:15 dpdklab
2024-07-23 7:16 dpdklab
2024-07-23 7:16 dpdklab
2024-07-23 7:17 dpdklab
2024-07-23 7:18 dpdklab
2024-07-23 7:18 dpdklab
2024-07-23 7:24 dpdklab
2024-07-23 7:36 dpdklab
2024-07-23 7:37 dpdklab
2024-07-23 7:41 dpdklab
2024-07-23 7:48 dpdklab
2024-07-24 4:25 dpdklab
2024-07-24 4:33 dpdklab
2024-07-24 4:57 dpdklab
2024-07-24 4:59 dpdklab
2024-07-24 5:00 dpdklab
2024-07-24 5:01 dpdklab
2024-07-24 5:03 dpdklab
2024-07-24 5:05 dpdklab
2024-07-24 5:10 dpdklab
2024-07-24 5:11 dpdklab
2024-07-24 5:19 dpdklab
2024-07-24 5:23 dpdklab
2024-07-24 5:24 dpdklab
2024-07-24 5:27 dpdklab
2024-07-24 5:27 dpdklab
2024-07-24 5:32 dpdklab
2024-07-24 5:32 dpdklab
2024-07-24 5:33 dpdklab
2024-07-24 5:34 dpdklab
2024-07-24 5:36 dpdklab
2024-07-24 5:36 dpdklab
2024-07-24 5:37 dpdklab
2024-07-24 5:38 dpdklab
2024-07-24 5:43 dpdklab
2024-07-24 5:52 dpdklab
2024-07-24 5:52 dpdklab
2024-07-24 5:55 dpdklab
2024-07-24 6:00 dpdklab
2024-07-24 6:02 dpdklab
2024-07-24 6:22 dpdklab
2024-07-24 6:31 dpdklab
2024-07-24 6:41 dpdklab
2024-07-24 6:47 dpdklab
2024-07-24 6:48 dpdklab
2024-07-24 6:57 dpdklab
2024-07-24 7:03 dpdklab
2024-07-24 7:04 dpdklab
2024-07-24 7:05 dpdklab
2024-07-24 7:08 dpdklab
2024-07-24 7:11 dpdklab
2024-07-25 6:10 dpdklab
2024-07-25 6:20 dpdklab
2024-07-25 12:22 dpdklab
2024-07-25 12:26 dpdklab
2024-07-25 12:33 dpdklab
2024-07-25 12:34 dpdklab
2024-07-25 12:35 dpdklab
2024-07-25 12:35 dpdklab
2024-07-25 12:39 dpdklab
2024-07-25 12:41 dpdklab
2024-07-25 12:43 dpdklab
2024-07-25 12:44 dpdklab
2024-07-25 12:48 dpdklab
2024-07-25 12:51 dpdklab
2024-07-25 12:55 dpdklab
2024-07-25 12:58 dpdklab
2024-07-25 13:02 dpdklab
2024-07-25 13:21 dpdklab
2024-07-25 13:24 dpdklab
2024-07-25 13:26 dpdklab
2024-07-25 14:03 dpdklab
2024-07-25 14:04 dpdklab
2024-07-25 14:15 dpdklab
2024-07-25 14:19 dpdklab
2024-07-25 14:20 dpdklab
2024-07-25 14:23 dpdklab
2024-07-25 14:31 dpdklab
2024-07-25 14:31 dpdklab
2024-07-25 14:31 dpdklab
2024-07-25 14:32 dpdklab
2024-07-25 14:32 dpdklab
2024-07-25 14:33 dpdklab
2024-07-25 14:38 dpdklab
2024-07-25 14:40 dpdklab
2024-07-25 14:42 dpdklab
2024-07-25 14:48 dpdklab
2024-07-25 14:51 dpdklab
2024-07-25 14:51 dpdklab
2024-07-25 14:52 dpdklab
2024-07-25 14:53 dpdklab
2024-07-25 14:57 dpdklab
2024-07-25 14:58 dpdklab
2024-07-25 15:07 dpdklab
2024-07-25 15:08 dpdklab
2024-07-25 15:08 dpdklab
2024-07-25 15:09 dpdklab
2024-07-25 15:10 dpdklab
2024-07-25 15:11 dpdklab
2024-07-26 6:28 dpdklab
2024-07-26 6:30 dpdklab
2024-07-26 6:33 dpdklab
2024-07-26 6:35 dpdklab
2024-07-26 6:42 dpdklab
2024-07-26 6:47 dpdklab
2024-07-26 6:53 dpdklab
2024-07-26 7:08 dpdklab
2024-07-26 7:09 dpdklab
2024-07-26 7:31 dpdklab
2024-07-26 7:32 dpdklab
2024-07-26 7:33 dpdklab
2024-07-26 7:35 dpdklab
2024-07-26 7:39 dpdklab
2024-07-26 7:48 dpdklab
2024-07-26 7:48 dpdklab
2024-07-26 7:52 dpdklab
2024-07-26 7:54 dpdklab
2024-07-26 7:54 dpdklab
2024-07-26 7:55 dpdklab
2024-07-26 8:00 dpdklab
2024-07-26 8:02 dpdklab
2024-07-26 8:07 dpdklab
2024-07-26 8:16 dpdklab
2024-07-26 8:25 dpdklab
2024-07-26 8:42 dpdklab
2024-07-26 8:46 dpdklab
2024-07-26 8:46 dpdklab
2024-07-26 8:53 dpdklab
2024-07-26 8:57 dpdklab
2024-07-26 8:59 dpdklab
2024-07-26 9:11 dpdklab
2024-07-26 9:12 dpdklab
2024-07-26 9:13 dpdklab
2024-07-26 9:19 dpdklab
2024-07-27 4:18 dpdklab
2024-07-27 4:22 dpdklab
2024-07-27 4:22 dpdklab
2024-07-27 4:24 dpdklab
2024-07-27 4:25 dpdklab
2024-07-27 4:26 dpdklab
2024-07-27 4:26 dpdklab
2024-07-27 4:28 dpdklab
2024-07-27 4:29 dpdklab
2024-07-27 4:32 dpdklab
2024-07-27 4:33 dpdklab
2024-07-27 4:33 dpdklab
2024-07-27 4:35 dpdklab
2024-07-27 4:35 dpdklab
2024-07-27 4:38 dpdklab
2024-07-27 4:39 dpdklab
2024-07-27 4:39 dpdklab
2024-07-27 4:40 dpdklab
2024-07-27 4:42 dpdklab
2024-07-27 4:42 dpdklab
2024-07-27 4:42 dpdklab
2024-07-27 4:43 dpdklab
2024-07-27 4:45 dpdklab
2024-07-27 4:45 dpdklab
2024-07-27 4:45 dpdklab
2024-07-27 4:48 dpdklab
2024-07-27 4:48 dpdklab
2024-07-27 4:49 dpdklab
2024-07-27 4:50 dpdklab
2024-07-27 4:52 dpdklab
2024-07-27 4:53 dpdklab
2024-07-27 4:56 dpdklab
2024-07-27 4:59 dpdklab
2024-07-27 4:59 dpdklab
2024-07-27 5:02 dpdklab
2024-07-27 5:02 dpdklab
2024-07-27 5:04 dpdklab
2024-07-27 5:04 dpdklab
2024-07-27 5:04 dpdklab
2024-07-27 5:17 dpdklab
2024-07-27 5:21 dpdklab
2024-07-27 5:27 dpdklab
2024-07-28 4:43 dpdklab
2024-07-28 4:45 dpdklab
2024-07-28 4:46 dpdklab
2024-07-28 4:47 dpdklab
2024-07-28 4:56 dpdklab
2024-07-28 4:58 dpdklab
2024-07-28 4:59 dpdklab
2024-07-28 5:00 dpdklab
2024-07-28 5:02 dpdklab
2024-07-28 5:03 dpdklab
2024-07-28 5:05 dpdklab
2024-07-28 5:07 dpdklab
2024-07-28 5:12 dpdklab
2024-07-28 5:14 dpdklab
2024-07-28 5:16 dpdklab
2024-07-28 5:16 dpdklab
2024-07-28 5:18 dpdklab
2024-07-28 5:21 dpdklab
2024-07-28 5:24 dpdklab
2024-07-28 5:25 dpdklab
2024-07-28 5:25 dpdklab
2024-07-28 5:26 dpdklab
2024-07-28 5:27 dpdklab
2024-07-28 5:27 dpdklab
2024-07-28 5:28 dpdklab
2024-07-28 5:34 dpdklab
2024-07-28 5:37 dpdklab
2024-07-28 5:38 dpdklab
2024-07-28 5:42 dpdklab
2024-07-28 5:52 dpdklab
2024-07-28 5:57 dpdklab
2024-07-28 6:02 dpdklab
2024-07-28 6:06 dpdklab
2024-07-28 6:11 dpdklab
2024-07-28 6:14 dpdklab
2024-07-28 6:15 dpdklab
2024-07-29 4:21 dpdklab
2024-07-29 4:23 dpdklab
2024-07-29 4:24 dpdklab
2024-07-29 4:25 dpdklab
2024-07-29 4:26 dpdklab
2024-07-29 4:27 dpdklab
2024-07-29 4:28 dpdklab
2024-07-29 4:28 dpdklab
2024-07-29 4:29 dpdklab
2024-07-29 4:29 dpdklab
2024-07-29 4:37 dpdklab
2024-07-29 4:38 dpdklab
2024-07-29 4:38 dpdklab
2024-07-29 4:42 dpdklab
2024-07-29 4:42 dpdklab
2024-07-29 4:45 dpdklab
2024-07-29 4:47 dpdklab
2024-07-29 4:47 dpdklab
2024-07-29 4:49 dpdklab
2024-07-29 4:49 dpdklab
2024-07-29 4:50 dpdklab
2024-07-29 4:51 dpdklab
2024-07-29 4:51 dpdklab
2024-07-29 4:56 dpdklab
2024-07-29 4:56 dpdklab
2024-07-29 4:56 dpdklab
2024-07-29 4:57 dpdklab
2024-07-29 4:59 dpdklab
2024-07-29 5:00 dpdklab
2024-07-29 5:07 dpdklab
2024-07-29 5:09 dpdklab
2024-07-29 5:10 dpdklab
2024-07-29 5:10 dpdklab
2024-07-29 5:12 dpdklab
2024-07-29 5:13 dpdklab
2024-07-29 5:14 dpdklab
2024-07-29 5:17 dpdklab
2024-07-30 4:19 dpdklab
2024-07-30 4:20 dpdklab
2024-07-30 4:21 dpdklab
2024-07-30 4:23 dpdklab
2024-07-30 4:23 dpdklab
2024-07-30 4:24 dpdklab
2024-07-30 4:25 dpdklab
2024-07-30 4:25 dpdklab
2024-07-30 4:26 dpdklab
2024-07-30 4:36 dpdklab
2024-07-30 4:36 dpdklab
2024-07-30 4:36 dpdklab
2024-07-30 4:42 dpdklab
2024-07-30 4:42 dpdklab
2024-07-30 4:43 dpdklab
2024-07-30 4:43 dpdklab
2024-07-30 4:45 dpdklab
2024-07-30 4:47 dpdklab
2024-07-30 4:49 dpdklab
2024-07-30 4:51 dpdklab
2024-07-30 4:52 dpdklab
2024-07-30 4:53 dpdklab
2024-07-30 4:58 dpdklab
2024-07-30 4:58 dpdklab
2024-07-30 5:03 dpdklab
2024-07-30 5:05 dpdklab
2024-07-30 5:05 dpdklab
2024-07-30 5:08 dpdklab
2024-07-30 5:08 dpdklab
2024-07-30 5:11 dpdklab
2024-07-30 5:12 dpdklab
2024-07-30 5:12 dpdklab
2024-07-30 5:14 dpdklab
2024-07-30 5:14 dpdklab
2024-07-30 5:17 dpdklab
2024-07-30 5:17 dpdklab
2024-07-30 5:25 dpdklab
2024-07-30 5:29 dpdklab
2024-07-30 5:30 dpdklab
2024-07-30 5:36 dpdklab
2024-07-30 5:37 dpdklab
2024-07-30 5:40 dpdklab
2024-07-31 4:14 dpdklab
2024-07-31 4:15 dpdklab
2024-07-31 4:17 dpdklab
2024-07-31 4:18 dpdklab
2024-07-31 4:20 dpdklab
2024-07-31 4:20 dpdklab
2024-07-31 4:22 dpdklab
2024-07-31 4:23 dpdklab
2024-07-31 4:25 dpdklab
2024-07-31 4:27 dpdklab
2024-07-31 4:29 dpdklab
2024-07-31 4:31 dpdklab
2024-07-31 4:31 dpdklab
2024-07-31 4:34 dpdklab
2024-07-31 4:35 dpdklab
2024-07-31 4:37 dpdklab
2024-07-31 4:38 dpdklab
2024-07-31 4:39 dpdklab
2024-07-31 4:41 dpdklab
2024-07-31 4:42 dpdklab
2024-07-31 4:43 dpdklab
2024-07-31 4:44 dpdklab
2024-07-31 4:46 dpdklab
2024-07-31 4:47 dpdklab
2024-07-31 4:49 dpdklab
2024-07-31 4:53 dpdklab
2024-07-31 4:53 dpdklab
2024-07-31 4:54 dpdklab
2024-07-31 4:55 dpdklab
2024-07-31 5:00 dpdklab
2024-07-31 5:01 dpdklab
2024-07-31 5:02 dpdklab
2024-07-31 5:04 dpdklab
2024-07-31 5:04 dpdklab
2024-07-31 5:08 dpdklab
2024-07-31 5:09 dpdklab
2024-07-31 5:09 dpdklab
2024-07-31 5:10 dpdklab
2024-07-31 5:19 dpdklab
2024-07-31 5:21 dpdklab
2024-07-31 5:23 dpdklab
2024-07-31 5:26 dpdklab
2024-07-31 5:29 dpdklab
2024-07-31 5:30 dpdklab
2024-07-31 5:34 dpdklab
2024-08-01 5:15 dpdklab
2024-08-01 6:01 dpdklab
2024-08-01 6:01 dpdklab
2024-08-01 6:03 dpdklab
2024-08-01 6:05 dpdklab
2024-08-01 6:06 dpdklab
2024-08-01 6:14 dpdklab
2024-08-01 6:22 dpdklab
2024-08-01 6:32 dpdklab
2024-08-01 6:33 dpdklab
2024-08-01 6:37 dpdklab
2024-08-01 6:38 dpdklab
2024-08-01 6:40 dpdklab
2024-08-01 6:41 dpdklab
2024-08-01 6:45 dpdklab
2024-08-01 6:49 dpdklab
2024-08-01 6:52 dpdklab
2024-08-01 6:54 dpdklab
2024-08-01 7:02 dpdklab
2024-08-01 7:05 dpdklab
2024-08-01 7:36 dpdklab
2024-08-01 7:39 dpdklab
2024-08-01 7:49 dpdklab
2024-08-01 7:53 dpdklab
2024-08-01 7:57 dpdklab
2024-08-01 8:04 dpdklab
2024-08-01 8:05 dpdklab
2024-08-01 8:06 dpdklab
2024-08-01 8:06 dpdklab
2024-08-01 8:08 dpdklab
2024-08-01 8:10 dpdklab
2024-08-01 8:13 dpdklab
2024-08-01 8:16 dpdklab
2024-08-01 8:20 dpdklab
2024-08-01 8:22 dpdklab
2024-08-01 8:23 dpdklab
2024-08-01 8:24 dpdklab
2024-08-01 8:25 dpdklab
2024-08-01 8:27 dpdklab
2024-08-01 8:31 dpdklab
2024-08-02 6:10 dpdklab
2024-08-02 6:19 dpdklab
2024-08-02 8:13 dpdklab
2024-08-02 10:52 dpdklab
2024-08-02 10:54 dpdklab
2024-08-02 10:55 dpdklab
2024-08-02 10:55 dpdklab
2024-08-02 10:56 dpdklab
2024-08-02 10:57 dpdklab
2024-08-02 11:02 dpdklab
2024-08-02 11:02 dpdklab
2024-08-02 11:08 dpdklab
2024-08-02 11:08 dpdklab
2024-08-02 11:08 dpdklab
2024-08-02 11:09 dpdklab
2024-08-02 11:13 dpdklab
2024-08-02 11:22 dpdklab
2024-08-02 11:26 dpdklab
2024-08-02 11:29 dpdklab
2024-08-02 11:34 dpdklab
2024-08-02 11:36 dpdklab
2024-08-02 11:37 dpdklab
2024-08-02 11:40 dpdklab
2024-08-02 11:40 dpdklab
2024-08-02 11:40 dpdklab
2024-08-02 11:41 dpdklab
2024-08-02 11:43 dpdklab
2024-08-02 11:43 dpdklab
2024-08-02 11:47 dpdklab
2024-08-02 11:51 dpdklab
2024-08-02 11:53 dpdklab
2024-08-02 11:53 dpdklab
2024-08-02 11:55 dpdklab
2024-08-02 11:59 dpdklab
2024-08-02 11:59 dpdklab
2024-08-02 12:03 dpdklab
2024-08-02 12:03 dpdklab
2024-08-02 12:19 dpdklab
2024-08-02 12:23 dpdklab
2024-08-02 12:24 dpdklab
2024-08-02 12:30 dpdklab
2024-08-02 12:32 dpdklab
2024-08-02 12:38 dpdklab
2024-08-02 12:41 dpdklab
2024-08-02 12:48 dpdklab
2024-08-02 12:49 dpdklab
2024-08-02 12:53 dpdklab
2024-08-03 4:20 dpdklab
2024-08-03 4:24 dpdklab
2024-08-03 4:24 dpdklab
2024-08-03 4:26 dpdklab
2024-08-03 4:36 dpdklab
2024-08-03 4:37 dpdklab
2024-08-03 4:40 dpdklab
2024-08-03 4:45 dpdklab
2024-08-03 4:45 dpdklab
2024-08-03 4:45 dpdklab
2024-08-03 4:47 dpdklab
2024-08-03 4:47 dpdklab
2024-08-03 4:47 dpdklab
2024-08-03 4:54 dpdklab
2024-08-03 4:55 dpdklab
2024-08-03 4:58 dpdklab
2024-08-03 4:58 dpdklab
2024-08-03 5:02 dpdklab
2024-08-03 5:02 dpdklab
2024-08-03 5:10 dpdklab
2024-08-03 5:10 dpdklab
2024-08-03 5:11 dpdklab
2024-08-03 5:15 dpdklab
2024-08-03 5:15 dpdklab
2024-08-03 5:19 dpdklab
2024-08-03 5:23 dpdklab
2024-08-03 5:31 dpdklab
2024-08-03 5:33 dpdklab
2024-08-03 5:35 dpdklab
2024-08-03 5:35 dpdklab
2024-08-04 4:21 dpdklab
2024-08-04 4:24 dpdklab
2024-08-04 4:25 dpdklab
2024-08-04 4:33 dpdklab
2024-08-04 4:34 dpdklab
2024-08-04 4:37 dpdklab
2024-08-04 4:37 dpdklab
2024-08-04 4:38 dpdklab
2024-08-04 4:41 dpdklab
2024-08-04 4:45 dpdklab
2024-08-04 4:46 dpdklab
2024-08-04 4:47 dpdklab
2024-08-04 4:49 dpdklab
2024-08-04 4:51 dpdklab
2024-08-04 4:51 dpdklab
2024-08-04 4:53 dpdklab
2024-08-04 4:53 dpdklab
2024-08-04 4:55 dpdklab
2024-08-04 4:55 dpdklab
2024-08-04 4:58 dpdklab
2024-08-04 4:59 dpdklab
2024-08-04 5:00 dpdklab
2024-08-04 5:01 dpdklab
2024-08-05 4:57 dpdklab
2024-08-05 4:58 dpdklab
2024-08-05 4:59 dpdklab
2024-08-05 5:06 dpdklab
2024-08-05 5:07 dpdklab
2024-08-05 5:08 dpdklab
2024-08-05 5:10 dpdklab
2024-08-05 5:11 dpdklab
2024-08-05 5:11 dpdklab
2024-08-05 5:13 dpdklab
2024-08-05 5:13 dpdklab
2024-08-05 5:14 dpdklab
2024-08-05 5:14 dpdklab
2024-08-05 5:15 dpdklab
2024-08-05 5:15 dpdklab
2024-08-05 5:16 dpdklab
2024-08-05 5:16 dpdklab
2024-08-05 5:17 dpdklab
2024-08-05 5:18 dpdklab
2024-08-05 5:18 dpdklab
2024-08-05 5:19 dpdklab
2024-08-05 5:19 dpdklab
2024-08-05 5:21 dpdklab
2024-08-05 5:21 dpdklab
2024-08-05 5:24 dpdklab
2024-08-05 5:25 dpdklab
2024-08-05 5:25 dpdklab
2024-08-05 5:30 dpdklab
2024-08-05 5:30 dpdklab
2024-08-05 5:32 dpdklab
2024-08-05 5:33 dpdklab
2024-08-05 5:34 dpdklab
2024-08-05 5:35 dpdklab
2024-08-05 5:35 dpdklab
2024-08-05 5:35 dpdklab
2024-08-05 5:36 dpdklab
2024-08-05 5:37 dpdklab
2024-08-05 5:38 dpdklab
2024-08-05 5:38 dpdklab
2024-08-05 5:39 dpdklab
2024-08-05 5:40 dpdklab
2024-08-05 5:40 dpdklab
2024-08-06 4:53 dpdklab
2024-08-06 4:59 dpdklab
2024-08-06 5:07 dpdklab
2024-08-06 5:08 dpdklab
2024-08-06 5:08 dpdklab
2024-08-06 5:10 dpdklab
2024-08-06 5:11 dpdklab
2024-08-06 5:11 dpdklab
2024-08-06 5:13 dpdklab
2024-08-06 5:15 dpdklab
2024-08-06 5:17 dpdklab
2024-08-06 5:21 dpdklab
2024-08-06 5:23 dpdklab
2024-08-06 5:23 dpdklab
2024-08-06 5:24 dpdklab
2024-08-06 5:24 dpdklab
2024-08-06 5:25 dpdklab
2024-08-06 5:26 dpdklab
2024-08-06 5:26 dpdklab
2024-08-06 5:27 dpdklab
2024-08-06 5:29 dpdklab
2024-08-06 5:36 dpdklab
2024-08-06 5:36 dpdklab
2024-08-06 5:38 dpdklab
2024-08-06 5:42 dpdklab
2024-08-06 5:42 dpdklab
2024-08-06 5:45 dpdklab
2024-08-06 5:53 dpdklab
2024-08-06 5:56 dpdklab
2024-08-06 5:58 dpdklab
2024-08-06 6:01 dpdklab
2024-08-06 6:02 dpdklab
2024-08-06 6:13 dpdklab
2024-08-06 6:15 dpdklab
2024-08-06 6:18 dpdklab
2024-08-06 6:19 dpdklab
2024-08-06 6:21 dpdklab
2024-08-06 6:22 dpdklab
2024-08-06 6:23 dpdklab
2024-08-06 6:28 dpdklab
2024-08-06 6:33 dpdklab
2024-08-07 4:19 dpdklab
2024-08-07 4:21 dpdklab
2024-08-07 4:21 dpdklab
2024-08-07 4:24 dpdklab
2024-08-07 4:28 dpdklab
2024-08-07 4:45 dpdklab
2024-08-07 4:48 dpdklab
2024-08-07 4:50 dpdklab
2024-08-07 4:52 dpdklab
2024-08-07 4:53 dpdklab
2024-08-07 4:55 dpdklab
2024-08-07 4:55 dpdklab
2024-08-07 4:56 dpdklab
2024-08-07 4:57 dpdklab
2024-08-07 4:58 dpdklab
2024-08-07 4:58 dpdklab
2024-08-07 4:59 dpdklab
2024-08-07 4:59 dpdklab
2024-08-07 4:59 dpdklab
2024-08-07 5:01 dpdklab
2024-08-07 5:05 dpdklab
2024-08-07 5:07 dpdklab
2024-08-07 5:09 dpdklab
2024-08-07 5:10 dpdklab
2024-08-07 5:11 dpdklab
2024-08-07 5:14 dpdklab
2024-08-07 5:19 dpdklab
2024-08-07 5:21 dpdklab
2024-08-07 5:21 dpdklab
2024-08-07 5:22 dpdklab
2024-08-07 5:22 dpdklab
2024-08-07 5:22 dpdklab
2024-08-07 5:26 dpdklab
2024-08-07 5:26 dpdklab
2024-08-07 5:27 dpdklab
2024-08-07 5:28 dpdklab
2024-08-08 4:12 dpdklab
2024-08-08 4:20 dpdklab
2024-08-08 4:20 dpdklab
2024-08-08 4:20 dpdklab
2024-08-08 4:24 dpdklab
2024-08-08 4:26 dpdklab
2024-08-08 4:37 dpdklab
2024-08-08 4:38 dpdklab
2024-08-08 4:38 dpdklab
2024-08-08 4:41 dpdklab
2024-08-08 4:47 dpdklab
2024-08-08 4:47 dpdklab
2024-08-08 4:48 dpdklab
2024-08-08 4:49 dpdklab
2024-08-08 4:49 dpdklab
2024-08-08 4:50 dpdklab
2024-08-08 4:54 dpdklab
2024-08-08 4:54 dpdklab
2024-08-08 4:55 dpdklab
2024-08-08 4:56 dpdklab
2024-08-08 4:58 dpdklab
2024-08-08 5:00 dpdklab
2024-08-08 5:02 dpdklab
2024-08-08 5:09 dpdklab
2024-08-08 5:09 dpdklab
2024-08-08 5:10 dpdklab
2024-08-08 5:11 dpdklab
2024-08-08 5:13 dpdklab
2024-08-08 5:14 dpdklab
2024-08-08 5:15 dpdklab
2024-08-08 5:16 dpdklab
2024-08-08 5:17 dpdklab
2024-08-08 5:20 dpdklab
2024-08-08 5:26 dpdklab
2024-08-08 5:34 dpdklab
Reply instructions:
You may reply publicly to this message via plain-text email
using any one of the following methods:
* Save the following mbox file, import it into your mail client,
and reply-to-all from there: mbox
Avoid top-posting and favor interleaved quoting:
https://en.wikipedia.org/wiki/Posting_style#Interleaved_style
* Reply using the --to, --cc, and --in-reply-to
switches of git-send-email(1):
git send-email \
--in-reply-to=6690d65b.050a0220.7a8f8.5ec5SMTPIN_ADDED_MISSING@mx.google.com \
--to=dpdklab@iol.unh.edu \
--cc=dpdk-test-reports@iol.unh.edu \
--cc=test-report@dpdk.org \
/path/to/YOUR_REPLY
https://kernel.org/pub/software/scm/git/docs/git-send-email.html
* If your mail client supports setting the In-Reply-To header
via mailto: links, try the mailto: link
Be sure your reply has a Subject: header at the top and a blank line
before the message body.
This is a public inbox, see mirroring instructions
for how to clone and mirror all data and code used for this inbox;
as well as URLs for NNTP newsgroup(s).