From mboxrd@z Thu Jan  1 00:00:00 1970
Return-Path: <test-report-bounces@dpdk.org>
Received: from mails.dpdk.org (mails.dpdk.org [217.70.189.124])
	by inbox.dpdk.org (Postfix) with ESMTP id 0584E455D7
	for <public@inbox.dpdk.org>; Tue, 16 Jul 2024 02:56:39 +0200 (CEST)
Received: from mails.dpdk.org (localhost [127.0.0.1])
	by mails.dpdk.org (Postfix) with ESMTP id EE46443245;
	Tue, 16 Jul 2024 02:56:38 +0200 (CEST)
Received: from mail-ot1-f97.google.com (mail-ot1-f97.google.com
 [209.85.210.97]) by mails.dpdk.org (Postfix) with ESMTP id 2CF40427E3
 for <test-report@dpdk.org>; Tue, 16 Jul 2024 02:56:38 +0200 (CEST)
Received: by mail-ot1-f97.google.com with SMTP id
 46e09a7af769-7037a208ff5so2942319a34.0
 for <test-report@dpdk.org>; Mon, 15 Jul 2024 17:56:38 -0700 (PDT)
DKIM-Signature: v=1; a=rsa-sha256; c=relaxed/relaxed;
 d=iol.unh.edu; s=unh-iol; t=1721091397; x=1721696197; darn=dpdk.org;
 h=references:in-reply-to:cc:to:from:subject:message-id:date:from:to
 :cc:subject:date:message-id:reply-to;
 bh=klfvWdDeFKQ6pFsuaih9Ud001fEn91QfQvm6MLk8hcA=;
 b=H2JgyLPljfLMpkvLQKGRB9XLkSGVapabzi87DJ6z4AD07CPI+fDO7S2NtD6wFdMTjB
 gjPL8atYuEmiYQyvXTuhMvk/3P3Zu1wZxcVacDSWWC31zJp2U8yd3JV3+FW2S2Z0w1UA
 eEGT2Zeu17ylVU6AeD8mfHpN2dAU/N+PYFQgM=
X-Google-DKIM-Signature: v=1; a=rsa-sha256; c=relaxed/relaxed;
 d=1e100.net; s=20230601; t=1721091397; x=1721696197;
 h=references:in-reply-to:cc:to:from:subject:message-id:date
 :x-gm-message-state:from:to:cc:subject:date:message-id:reply-to;
 bh=klfvWdDeFKQ6pFsuaih9Ud001fEn91QfQvm6MLk8hcA=;
 b=LrZacMg5z5jYkMSYMev6qEwor8yCnDLVL/nFWih/mcnUqsIIRVa9nJ7UZ2Qol5XPbQ
 UCkhI3L3+yFgoMqbA9Q6WCAusCOFApWnDIy60NcON5jMtawxlSEoodOEbHrzaUcptM0X
 9c6Dt0jlgdo4oWF8HHbyvnwyTbEPDPY6xHquhFtvG+lstYCFq9xQ/pp7yp9SYROUYeJh
 cFhjtBVThEsjJVFN5EWoj/ex3C1IQHFFC+qQt86vqj+Mqc9vDVPV1fpl3Nn5uArK1UcS
 hKV3EUQRmWEQyl8kZK1o7qJ3xpZZDhdZ2whJs9NErRv5ueQGz3Ru347P/RZZqTsn57U4
 eRgw==
X-Gm-Message-State: AOJu0YxOAS27AlJ8ksNw30urGc4Zv6QmSlberNaxcAwsv9+5ICkT26Fm
 lnIjstxCK2kNQxMuLsFwMjnsVf7he2L7jJ3It1LjP0VV8IKSGwKBzUZoRyyT2wwIY4ULsnzEEpZ
 yZAuai0XuuT7+o7zOHHPGcEb3kfTwcfpEd/GLVfG5
X-Google-Smtp-Source: AGHT+IGGpxW5MCw5lFRuMxB1KiACyQ+eXGDsJLvBkHoaABZoNiXGE+KoJx5w+DWwAH2erpPmSuhlfKFpLo20
X-Received: by 2002:a05:6830:61c6:b0:703:6988:dbed with SMTP id
 46e09a7af769-708d99c31fcmr1009853a34.34.1721091397309; 
 Mon, 15 Jul 2024 17:56:37 -0700 (PDT)
Received: from postal.iol.unh.edu (postal.iol.unh.edu. [132.177.123.84])
 by smtp-relay.gmail.com with ESMTPS id
 d2e1a72fcca58-70b7eca75b2sm532958b3a.26.2024.07.15.17.56.37
 (version=TLS1_2 cipher=ECDHE-ECDSA-AES128-GCM-SHA256 bits=128/128);
 Mon, 15 Jul 2024 17:56:37 -0700 (PDT)
X-Relaying-Domain: iol.unh.edu
Date: Mon, 15 Jul 2024 17:56:37 -0700 (PDT)
Message-ID: <6695c545.a70a0220.2d2e6.a047SMTPIN_ADDED_MISSING@mx.google.com>
Received: from [172.21.0.7] (unknown [172.18.0.240])
 by postal.iol.unh.edu (Postfix) with ESMTP id 64F53605C380;
 Mon, 15 Jul 2024 20:56:36 -0400 (EDT)
Subject: |PENDING| pw142407-142409 [PATCH] [v4,3/3] dts: dynamic config test 
From: dpdklab@iol.unh.edu
To: Test Report <test-report@dpdk.org>
Cc: dpdk-test-reports@iol.unh.edu
In-Reply-To: <20240715160021.23352-3-dmarx@iol.unh.edu>
References: <20240715160021.23352-3-dmarx@iol.unh.edu>
Content-Type: text/plain
X-BeenThere: test-report@dpdk.org
X-Mailman-Version: 2.1.29
Precedence: list
List-Id: automatic DPDK test reports <test-report.dpdk.org>
List-Unsubscribe: <https://mails.dpdk.org/options/test-report>,
 <mailto:test-report-request@dpdk.org?subject=unsubscribe>
List-Archive: <http://mails.dpdk.org/archives/test-report/>
List-Post: <mailto:test-report@dpdk.org>
List-Help: <mailto:test-report-request@dpdk.org?subject=help>
List-Subscribe: <https://mails.dpdk.org/listinfo/test-report>,
 <mailto:test-report-request@dpdk.org?subject=subscribe>
Errors-To: test-report-bounces@dpdk.org

Test-Label: iol-abi-testing
Test-Status: PENDING
http://dpdk.org/patch/142409

_Testing pending_

Submitter: Dean Marx <dmarx@iol.unh.edu>
Date: Monday, July 15 2024 16:00:21 
DPDK git baseline: Repo:dpdk
  Branch: master
  CommitID:fa8d2f7f28524a6c8defa3dcd94f5aa131aae084

142407-142409 --> testing pending

Test environment and result as below:

+-------------------+----------+
|    Environment    | abi_test |
+===================+==========+
| CentOS Stream 8   | PASS     |
+-------------------+----------+
| CentOS Stream 9   | PASS     |
+-------------------+----------+
| Debian Bullseye   | PASS     |
+-------------------+----------+
| Debian 12         | PASS     |
+-------------------+----------+
| Fedora 37         | PEND     |
+-------------------+----------+
| Fedora 38 (Clang) | PASS     |
+-------------------+----------+
| Fedora 38         | PASS     |
+-------------------+----------+
| Fedora 39 (Clang) | PASS     |
+-------------------+----------+
| Fedora 39         | PASS     |
+-------------------+----------+
| Fedora 40 (Clang) | PASS     |
+-------------------+----------+
| Fedora 40         | PEND     |
+-------------------+----------+
| openSUSE Leap 15  | PASS     |
+-------------------+----------+
| RHEL8             | PEND     |
+-------------------+----------+
| RHEL9             | PEND     |
+-------------------+----------+
| Ubuntu 22.04      | PEND     |
+-------------------+----------+
| Ubuntu 24.04      | PEND     |
+-------------------+----------+


CentOS Stream 8
	Kernel: 5.4.0-167-generic
	Compiler: gcc 8.5.0 20210514

CentOS Stream 9
	Kernel: 5.4.0-167-generic
	Compiler: gcc 11.4.1 20230605

Debian Bullseye
	Kernel: 5.4.0-167-generic
	Compiler: gcc 10.2.1-6

Debian 12
	Kernel: Container Host Kernel
	Compiler: gcc 12.2.0

Fedora 37
	Kernel: Depends on container host system
	Compiler: gcc 12.3.1

Fedora 38 (Clang)
	Kernel: Depends on container host
	Compiler: clang 16.0.6

Fedora 38
	Kernel: Depends on container host
	Compiler: gcc 13.2.1

Fedora 39 (Clang)
	Kernel: Depends on container host
	Compiler: clang 17.0.6

Fedora 39
	Kernel: Depends on container host
	Compiler: gcc 13.2.1

Fedora 40 (Clang)
	Kernel: Depends on container host
	Compiler: clang 18.1.6

Fedora 40
	Kernel: Depends on container host
	Compiler: gcc 14.1.1

openSUSE Leap 15
	Kernel: 5.4.0-167-generic
	Compiler: gcc 7.5.0

RHEL8
	Kernel: 5.4.0-167-generic
	Compiler: gcc 8.5.0 20210514 (Red Hat 8.5.0-20)

RHEL9
	Kernel: Depends on container host
	Compiler: gcc 11.4.1

Ubuntu 22.04
	Kernel: 5.4.0-167-generic
	Compiler: gcc 11.4.0

Ubuntu 24.04
	Kernel: 5.4.0-167-generic
	Compiler: gcc 13.2.0

To view detailed results, visit:
https://lab.dpdk.org/results/dashboard/patchsets/30520/

UNH-IOL DPDK Community Lab

To manage your email subscriptions, visit: 
https://lab.dpdk.org/results/dashboard/preferences/subscriptions/