From mboxrd@z Thu Jan  1 00:00:00 1970
Return-Path: <test-report-bounces@dpdk.org>
Received: from mails.dpdk.org (mails.dpdk.org [217.70.189.124])
	by inbox.dpdk.org (Postfix) with ESMTP id C67CA455D7
	for <public@inbox.dpdk.org>; Tue, 16 Jul 2024 03:24:12 +0200 (CEST)
Received: from mails.dpdk.org (localhost [127.0.0.1])
	by mails.dpdk.org (Postfix) with ESMTP id C229840BA6;
	Tue, 16 Jul 2024 03:24:12 +0200 (CEST)
Received: from mail-pl1-f227.google.com (mail-pl1-f227.google.com
 [209.85.214.227])
 by mails.dpdk.org (Postfix) with ESMTP id 8AA1140A8B
 for <test-report@dpdk.org>; Tue, 16 Jul 2024 03:24:10 +0200 (CEST)
Received: by mail-pl1-f227.google.com with SMTP id
 d9443c01a7336-1fbfb8e5e0cso31026415ad.0
 for <test-report@dpdk.org>; Mon, 15 Jul 2024 18:24:10 -0700 (PDT)
DKIM-Signature: v=1; a=rsa-sha256; c=relaxed/relaxed;
 d=iol.unh.edu; s=unh-iol; t=1721093050; x=1721697850; darn=dpdk.org;
 h=references:in-reply-to:cc:to:from:subject:message-id:date:from:to
 :cc:subject:date:message-id:reply-to;
 bh=2/3YAhHXOjfKgdzrZictD2UxiyqsPvL8Tfnqf8/LIkA=;
 b=B5G27o1z/Pc9cArIKQwaf1qgksZNxvpodQQsYxJV7iqHZl0CEG81f2huFaAcyR+fHE
 OEsY9Dvi0XcIE7uS9E8IiwH7Neraa/WZZQBuBJKrosh/dwt8WJqRMzdZFrPglX86mZSI
 meZionXyBGdMvmgq21/IeL4qe+1P/As7RzpcI=
X-Google-DKIM-Signature: v=1; a=rsa-sha256; c=relaxed/relaxed;
 d=1e100.net; s=20230601; t=1721093050; x=1721697850;
 h=references:in-reply-to:cc:to:from:subject:message-id:date
 :x-gm-message-state:from:to:cc:subject:date:message-id:reply-to;
 bh=2/3YAhHXOjfKgdzrZictD2UxiyqsPvL8Tfnqf8/LIkA=;
 b=sIO5p+JTophvpVNTdRFWPxJ1qXCH2QjOWE7phBqsFK9+zQnvaDnmCWyi/JonbmTwFB
 0L5dguLFdrC1XARBM8BKIaaqhy9soSRml/kj1tcsf97iC10PIKZX4RuM52mNZ/NJdd1V
 qvMVWxBwugubXSdJ08TyaPI0CWoaiY4E9s0fI69Zrd9Ui7ALkBoqlwsSJI2g27vAu8Q6
 z5Laqa260zJHIS3ryb7xdZQNUQnI6biLvVL6BnY7pyUQcUHSuW4r4bEeCkmYbeogfGb8
 AmTxIJA47FaWd1tJp/JCPPzE8tLHUPH0+jJnJ9/61fHhyp1HR5pqO/h0oPsQlOPKIfT6
 KYCg==
X-Gm-Message-State: AOJu0YwKakweqqbt+aAzZPP7khrEyCwkv0H++QHwzqLec66TTuCGKNE9
 C/kXgTH1o7fpWbmZ8kFHJBQUpPK30d2Wwylrwg/V0gFa3F0Kw44Z321bVRIRXC5SFn+15zm0Kvb
 giwdAVHpq5E90MZgO6VZKBoxWbqAOYc4ZVB3/I/g9dDk5UQwH87thuDpa
X-Google-Smtp-Source: AGHT+IFCoLNjBgAA2/wsi5KhHf+SoUfPMB/xCQVFCshR1UwJvbGxvErBWosT24CPhCr1WlcnIfX6atHrS+Lv
X-Received: by 2002:a17:903:40ce:b0:1fb:9cbf:b4cd with SMTP id
 d9443c01a7336-1fc3d9f893amr4923255ad.63.1721093049731; 
 Mon, 15 Jul 2024 18:24:09 -0700 (PDT)
Received: from postal.iol.unh.edu (postal.iol.unh.edu.
 [2606:4100:3880:1234::84]) by smtp-relay.gmail.com with ESMTPS id
 d9443c01a7336-1fc0bc19575sm947475ad.103.2024.07.15.18.24.09
 (version=TLS1_2 cipher=ECDHE-ECDSA-AES128-GCM-SHA256 bits=128/128);
 Mon, 15 Jul 2024 18:24:09 -0700 (PDT)
X-Relaying-Domain: iol.unh.edu
Date: Mon, 15 Jul 2024 18:24:09 -0700 (PDT)
Message-ID: <6695cbb9.170a0220.82c43.667dSMTPIN_ADDED_MISSING@mx.google.com>
Received: from [172.21.0.7] (unknown [172.18.0.240])
 by postal.iol.unh.edu (Postfix) with ESMTP id 3A76B605C380;
 Mon, 15 Jul 2024 21:24:09 -0400 (EDT)
Subject: |SUCCESS| pw142407-142409 [PATCH] [v4,3/3] dts: dynamic config test 
From: dpdklab@iol.unh.edu
To: Test Report <test-report@dpdk.org>
Cc: dpdk-test-reports@iol.unh.edu
In-Reply-To: <20240715160021.23352-3-dmarx@iol.unh.edu>
References: <20240715160021.23352-3-dmarx@iol.unh.edu>
Content-Type: text/plain
X-BeenThere: test-report@dpdk.org
X-Mailman-Version: 2.1.29
Precedence: list
List-Id: automatic DPDK test reports <test-report.dpdk.org>
List-Unsubscribe: <https://mails.dpdk.org/options/test-report>,
 <mailto:test-report-request@dpdk.org?subject=unsubscribe>
List-Archive: <http://mails.dpdk.org/archives/test-report/>
List-Post: <mailto:test-report@dpdk.org>
List-Help: <mailto:test-report-request@dpdk.org?subject=help>
List-Subscribe: <https://mails.dpdk.org/listinfo/test-report>,
 <mailto:test-report-request@dpdk.org?subject=subscribe>
Errors-To: test-report-bounces@dpdk.org

Test-Label: iol-abi-testing
Test-Status: SUCCESS
http://dpdk.org/patch/142409

_Testing PASS_

Submitter: Dean Marx <dmarx@iol.unh.edu>
Date: Monday, July 15 2024 16:00:21 
DPDK git baseline: Repo:dpdk
  Branch: master
  CommitID:fa8d2f7f28524a6c8defa3dcd94f5aa131aae084

142407-142409 --> testing pass

Test environment and result as below:

+-------------------+----------+
|    Environment    | abi_test |
+===================+==========+
| CentOS Stream 8   | PASS     |
+-------------------+----------+
| CentOS Stream 9   | PASS     |
+-------------------+----------+
| Debian Bullseye   | PASS     |
+-------------------+----------+
| Debian 12         | PASS     |
+-------------------+----------+
| Fedora 37         | PASS     |
+-------------------+----------+
| Fedora 38 (Clang) | PASS     |
+-------------------+----------+
| Fedora 38         | PASS     |
+-------------------+----------+
| Fedora 39 (Clang) | PASS     |
+-------------------+----------+
| Fedora 39         | PASS     |
+-------------------+----------+
| Fedora 40 (Clang) | PASS     |
+-------------------+----------+
| Fedora 40         | PASS     |
+-------------------+----------+
| openSUSE Leap 15  | PASS     |
+-------------------+----------+
| RHEL8             | PASS     |
+-------------------+----------+
| RHEL9             | PASS     |
+-------------------+----------+
| Ubuntu 22.04      | PASS     |
+-------------------+----------+
| Ubuntu 24.04      | PASS     |
+-------------------+----------+


CentOS Stream 8
	Kernel: 5.4.0-167-generic
	Compiler: gcc 8.5.0 20210514

CentOS Stream 9
	Kernel: 5.4.0-167-generic
	Compiler: gcc 11.4.1 20230605

Debian Bullseye
	Kernel: 5.4.0-167-generic
	Compiler: gcc 10.2.1-6

Debian 12
	Kernel: Container Host Kernel
	Compiler: gcc 12.2.0

Fedora 37
	Kernel: Depends on container host system
	Compiler: gcc 12.3.1

Fedora 38 (Clang)
	Kernel: Depends on container host
	Compiler: clang 16.0.6

Fedora 38
	Kernel: Depends on container host
	Compiler: gcc 13.2.1

Fedora 39 (Clang)
	Kernel: Depends on container host
	Compiler: clang 17.0.6

Fedora 39
	Kernel: Depends on container host
	Compiler: gcc 13.2.1

Fedora 40 (Clang)
	Kernel: Depends on container host
	Compiler: clang 18.1.6

Fedora 40
	Kernel: Depends on container host
	Compiler: gcc 14.1.1

openSUSE Leap 15
	Kernel: 5.4.0-167-generic
	Compiler: gcc 7.5.0

RHEL8
	Kernel: 5.4.0-167-generic
	Compiler: gcc 8.5.0 20210514 (Red Hat 8.5.0-20)

RHEL9
	Kernel: Depends on container host
	Compiler: gcc 11.4.1

Ubuntu 22.04
	Kernel: 5.4.0-167-generic
	Compiler: gcc 11.4.0

Ubuntu 24.04
	Kernel: 5.4.0-167-generic
	Compiler: gcc 13.2.0

To view detailed results, visit:
https://lab.dpdk.org/results/dashboard/patchsets/30520/

UNH-IOL DPDK Community Lab

To manage your email subscriptions, visit: 
https://lab.dpdk.org/results/dashboard/preferences/subscriptions/