From mboxrd@z Thu Jan  1 00:00:00 1970
Return-Path: <test-report-bounces@dpdk.org>
Received: from mails.dpdk.org (mails.dpdk.org [217.70.189.124])
	by inbox.dpdk.org (Postfix) with ESMTP id 8AFF045704
	for <public@inbox.dpdk.org>; Wed, 31 Jul 2024 20:33:09 +0200 (CEST)
Received: from mails.dpdk.org (localhost [127.0.0.1])
	by mails.dpdk.org (Postfix) with ESMTP id 8121640A80;
	Wed, 31 Jul 2024 20:33:09 +0200 (CEST)
Received: from mail-pj1-f99.google.com (mail-pj1-f99.google.com
 [209.85.216.99]) by mails.dpdk.org (Postfix) with ESMTP id C30284067E
 for <test-report@dpdk.org>; Wed, 31 Jul 2024 20:33:08 +0200 (CEST)
Received: by mail-pj1-f99.google.com with SMTP id
 98e67ed59e1d1-2cb52e2cb33so4035695a91.0
 for <test-report@dpdk.org>; Wed, 31 Jul 2024 11:33:08 -0700 (PDT)
DKIM-Signature: v=1; a=rsa-sha256; c=relaxed/relaxed;
 d=iol.unh.edu; s=unh-iol; t=1722450788; x=1723055588; darn=dpdk.org;
 h=references:in-reply-to:cc:to:from:subject:message-id:date:from:to
 :cc:subject:date:message-id:reply-to;
 bh=IqqPR9xIGydjOsg1IlN1CMrjTq/Q9SOcMsmSzaw6t1I=;
 b=JfF7PdUOfexJ3vjnzdOAetwsTxR5pTONou6M0kT+NtWEVhhLVvJm0N3Z0kQqZ+/qBx
 Xl1/XLCW1b+45BbzBlGSeYzIqjjZwQhKW4oas5Nniis6I4XwnUXr+lgrmRKpEKOX+Lz9
 0hgVQ5IPM0fld09daSfSrkFmvPQMrJ8/97Si0=
X-Google-DKIM-Signature: v=1; a=rsa-sha256; c=relaxed/relaxed;
 d=1e100.net; s=20230601; t=1722450788; x=1723055588;
 h=references:in-reply-to:cc:to:from:subject:message-id:date
 :x-gm-message-state:from:to:cc:subject:date:message-id:reply-to;
 bh=IqqPR9xIGydjOsg1IlN1CMrjTq/Q9SOcMsmSzaw6t1I=;
 b=wzd6yE0P99li9T85r7y6UIvaoZ4UEs7+FrCGV8TAb0aQ8zXgs6JrijO5jINDn3Tjl7
 Bzte597Ft9YXJP6g4azKFRF/gYZXMwqGsw/Sl6av6m7HWt4e8abl8UMy4kA3r7iDaMP/
 Yjp8JYoz2fC7AqmDXAGhvpVjctZD1Wl3AzC6J6A3ufEA/wqdIB7J90wWL6aFmNoaV9To
 UL7CV5ONJe21p2IVebcDCI1vJb4tsKZ18psuHaMyek8+5KYIkqiV3GL35cZ8J/Oer0DQ
 QE0ItnE7fh0ACWxrPjitbmltFVRpR17kvBWKNavA39drn/4oFRrqm3UUoBeLQ2nu2Spg
 CWFw==
X-Gm-Message-State: AOJu0YwHiIYoysj+xjkgjUDBOzmkOMX4bKhJ9BVE8I+jCKTthmYHYoD4
 kJomxnJS/TQ8OeW6xd4IY02CewkJnNGEF6v3VH5q5+rhaHRHuGJM65YMCzCfbc+/e4TeCuhQWG/
 ZHJKiW4GW4zdYrn7fCn0cbV7YS5mmyemVBs9uWM+K
X-Google-Smtp-Source: AGHT+IESHSlnOtzATG4vK5hf2qG/jUIdv/P3xjpZBIha42tvpFh03IjSudt8XSJSGSftKfCeSoYrc5q9d2oY
X-Received: by 2002:a17:90a:c01:b0:2c7:e46e:f8b7 with SMTP id
 98e67ed59e1d1-2cfe77523d9mr231686a91.4.1722450787831; 
 Wed, 31 Jul 2024 11:33:07 -0700 (PDT)
Received: from postal.iol.unh.edu (postal.iol.unh.edu. [132.177.123.84])
 by smtp-relay.gmail.com with ESMTPS id
 98e67ed59e1d1-2cfdc4dd8c4sm92262a91.17.2024.07.31.11.33.07
 (version=TLS1_2 cipher=ECDHE-ECDSA-AES128-GCM-SHA256 bits=128/128);
 Wed, 31 Jul 2024 11:33:07 -0700 (PDT)
X-Relaying-Domain: iol.unh.edu
Date: Wed, 31 Jul 2024 11:33:07 -0700 (PDT)
Message-ID: <66aa8363.170a0220.143a51.697eSMTPIN_ADDED_MISSING@mx.google.com>
Received: from [172.21.0.6] (unknown [172.18.0.240])
 by postal.iol.unh.edu (Postfix) with ESMTP id 0C58D605C351;
 Wed, 31 Jul 2024 14:33:07 -0400 (EDT)
Subject: |PENDING| pw142783-142784 [PATCH] [v2,2/2] doc: give full width to N
From: dpdklab@iol.unh.edu
To: Test Report <test-report@dpdk.org>
Cc: dpdk-test-reports@iol.unh.edu
In-Reply-To: <20240731083332.709421-3-thomas@monjalon.net>
References: <20240731083332.709421-3-thomas@monjalon.net>
Content-Type: text/plain
X-BeenThere: test-report@dpdk.org
X-Mailman-Version: 2.1.29
Precedence: list
List-Id: automatic DPDK test reports <test-report.dpdk.org>
List-Unsubscribe: <https://mails.dpdk.org/options/test-report>,
 <mailto:test-report-request@dpdk.org?subject=unsubscribe>
List-Archive: <http://mails.dpdk.org/archives/test-report/>
List-Post: <mailto:test-report@dpdk.org>
List-Help: <mailto:test-report-request@dpdk.org?subject=help>
List-Subscribe: <https://mails.dpdk.org/listinfo/test-report>,
 <mailto:test-report-request@dpdk.org?subject=subscribe>
Errors-To: test-report-bounces@dpdk.org

Test-Label: iol-unit-amd64-testing
Test-Status: PENDING
http://dpdk.org/patch/142784

_Testing pending_

Submitter: Thomas Monjalon <thomas@monjalon.net>
Date: Wednesday, July 31 2024 08:31:32 
DPDK git baseline: Repo:dpdk
  Branch: master
  CommitID:1d245ca8239d947258b3ae7cc4d8df97ef527852

142783-142784 --> testing pending

Upstream job id: Generic-Unit-Test-DPDK#246950

Test environment and result as below:

+---------------------+----------------+
|     Environment     | dpdk_unit_test |
+=====================+================+
| CentOS Stream 8     | PASS           |
+---------------------+----------------+
| CentOS Stream 9     | PASS           |
+---------------------+----------------+
| Debian Bullseye     | PASS           |
+---------------------+----------------+
| Debian 12           | PASS           |
+---------------------+----------------+
| Fedora 37           | PASS           |
+---------------------+----------------+
| Fedora 38           | PASS           |
+---------------------+----------------+
| Fedora 38 (Clang)   | PASS           |
+---------------------+----------------+
| Fedora 39           | PASS           |
+---------------------+----------------+
| Fedora 40           | PASS           |
+---------------------+----------------+
| Fedora 40 (Clang)   | PASS           |
+---------------------+----------------+
| Fedora 39 (Clang)   | PEND           |
+---------------------+----------------+
| openSUSE Leap 15    | PEND           |
+---------------------+----------------+
| RHEL8               | PASS           |
+---------------------+----------------+
| RHEL9               | PEND           |
+---------------------+----------------+
| Ubuntu 20.04        | PEND           |
+---------------------+----------------+
| Ubuntu 24.04        | PEND           |
+---------------------+----------------+
| Ubuntu 22.04        | PEND           |
+---------------------+----------------+
| Windows Server 2022 | PASS           |
+---------------------+----------------+
| Windows Server 2019 | PASS           |
+---------------------+----------------+


CentOS Stream 8
	Kernel: 5.4.0-167-generic
	Compiler: gcc 8.5.0 20210514

CentOS Stream 9
	Kernel: 5.4.0-167-generic
	Compiler: gcc 11.4.1 20230605

Debian Bullseye
	Kernel: 5.4.0-167-generic
	Compiler: gcc 10.2.1-6

Debian 12
	Kernel: Container Host Kernel
	Compiler: gcc 12.2.0

Fedora 37
	Kernel: Depends on container host system
	Compiler: gcc 12.3.1

Fedora 38
	Kernel: Depends on container host
	Compiler: gcc 13.2.1

Fedora 38 (Clang)
	Kernel: Depends on container host
	Compiler: clang 16.0.6

Fedora 39
	Kernel: Depends on container host
	Compiler: gcc 13.2.1

Fedora 40
	Kernel: Depends on container host
	Compiler: gcc 14.1.1

Fedora 40 (Clang)
	Kernel: Depends on container host
	Compiler: clang 18.1.6

Fedora 39 (Clang)
	Kernel: Depends on container host
	Compiler: clang 17.0.6

openSUSE Leap 15
	Kernel: 5.4.0-167-generic
	Compiler: gcc 7.5.0

RHEL8
	Kernel: 5.4.0-167-generic
	Compiler: gcc 8.5.0 20210514 (Red Hat 8.5.0-20)

RHEL9
	Kernel: Depends on container host
	Compiler: gcc 11.4.1

Ubuntu 20.04
	Kernel: 5.4.0-167-generic
	Compiler: gcc 9.4.0-1ubuntu1~20.04.1

Ubuntu 24.04
	Kernel: 5.4.0-167-generic
	Compiler: gcc 13.2.0

Ubuntu 22.04
	Kernel: 5.4.0-167-generic
	Compiler: gcc 11.4.0

Windows Server 2022
	Kernel: 10.0.20348.2031
	Compiler: clang 15.0.7, gcc 8.1.0 (MinGW), and MSVC VS 17.9

Windows Server 2019
	Kernel: 10.0.17763
	Compiler: clang 14.0 and gcc 8.1.0 (MinGW)

To view detailed results, visit:
https://lab.dpdk.org/results/dashboard/patchsets/30672/

UNH-IOL DPDK Community Lab

To manage your email subscriptions, visit: 
https://lab.dpdk.org/results/dashboard/preferences/subscriptions/