From mboxrd@z Thu Jan  1 00:00:00 1970
Return-Path: <test-report-bounces@dpdk.org>
Received: from mails.dpdk.org (mails.dpdk.org [217.70.189.124])
	by inbox.dpdk.org (Postfix) with ESMTP id 603EF45706
	for <public@inbox.dpdk.org>; Thu,  1 Aug 2024 15:21:17 +0200 (CEST)
Received: from mails.dpdk.org (localhost [127.0.0.1])
	by mails.dpdk.org (Postfix) with ESMTP id 5A28642EF7;
	Thu,  1 Aug 2024 15:21:17 +0200 (CEST)
Received: from mail-io1-f100.google.com (mail-io1-f100.google.com
 [209.85.166.100])
 by mails.dpdk.org (Postfix) with ESMTP id B735042D92
 for <test-report@dpdk.org>; Thu,  1 Aug 2024 15:21:16 +0200 (CEST)
Received: by mail-io1-f100.google.com with SMTP id
 ca18e2360f4ac-81f86fd93acso68687039f.1
 for <test-report@dpdk.org>; Thu, 01 Aug 2024 06:21:16 -0700 (PDT)
DKIM-Signature: v=1; a=rsa-sha256; c=relaxed/relaxed;
 d=iol.unh.edu; s=unh-iol; t=1722518476; x=1723123276; darn=dpdk.org;
 h=references:in-reply-to:cc:to:from:subject:message-id:date:from:to
 :cc:subject:date:message-id:reply-to;
 bh=SONxbLDeQ0h6Q4UmPNKyIfYOfHbV3uQVFuWXz3RkSLw=;
 b=Hj+U2TANwP3MwVIZcQSsHGsxEGCK4j/UAZ6nnp4oZpOATDZwVCgealGbyesIGRlKW0
 p35GdSvDUxXWnVqN5lDRuBM6DWZmWAYeherZ/P6GOfttkIFkpFro62+CkCmE3tk1XZr2
 Y/2X041W1XUAM0SDYd+xvNvTQTcTgcQBfa9sc=
X-Google-DKIM-Signature: v=1; a=rsa-sha256; c=relaxed/relaxed;
 d=1e100.net; s=20230601; t=1722518476; x=1723123276;
 h=references:in-reply-to:cc:to:from:subject:message-id:date
 :x-gm-message-state:from:to:cc:subject:date:message-id:reply-to;
 bh=SONxbLDeQ0h6Q4UmPNKyIfYOfHbV3uQVFuWXz3RkSLw=;
 b=BegA16onOldDsGShv3kRg93nsrqT8hMq76nC4I+55fAWcKS8uuPEDts49/w8mCowNC
 UzazyNuN/W4apYOL6//ELj64JhULyCxwq1M/Xw7MHix/phghlK7G71Vuux0XDoKzxHlB
 yprXO3Kez/UzdmuU6PJpFlR21mQ+PkIcy79ongrzoBN/oNMJv6npRoGSIDqDpWtVIDW/
 6Nw8WntwtEjpXTDiVVKnvZvte5cbPA/Qpryo6xFGeMZsSwuHjrk0KQJ6agAzTkKt47jN
 EoaqOTpm35mOFs51x/yGnLyIYjeUue1JD3A6loEFaTioqw7yH7hHKrQoOkYAeUfkf1Sk
 0jAQ==
X-Gm-Message-State: AOJu0YwH90vWgk0m91i2x3k+hy8Wdq/XwRDBKke2Gf+3xdQs2fz/H6HC
 8bM/QIhMgEl3Qiu2HMibv6Pcb5P1TEVCc0kAJtixwhach7J00AzpM3XR7Kb2gN0Dl7r5WjFI+VX
 KjZpGULWC5CFxkL3vuAXQGDBHyYZ05CpHrmpFCI/dMDOfupnaqvkofJIm
X-Google-Smtp-Source: AGHT+IFl8gylhi3lCAn7tST+dPwInKUu2C47YoyvmCurSOGYvosOX15I39VBnhjQGdRdIr0Vo9yyPEkcMMjI
X-Received: by 2002:a05:6602:2d91:b0:7f9:8dd4:a04a with SMTP id
 ca18e2360f4ac-81fd10f8d81mr27460939f.7.1722518474990; 
 Thu, 01 Aug 2024 06:21:14 -0700 (PDT)
Received: from postal.iol.unh.edu (postal.iol.unh.edu.
 [2606:4100:3880:1234::84]) by smtp-relay.gmail.com with ESMTPS id
 ca18e2360f4ac-81f7d7fc85csm48465939f.22.2024.08.01.06.21.14
 (version=TLS1_2 cipher=ECDHE-ECDSA-AES128-GCM-SHA256 bits=128/128);
 Thu, 01 Aug 2024 06:21:14 -0700 (PDT)
X-Relaying-Domain: iol.unh.edu
Date: Thu, 01 Aug 2024 06:21:14 -0700 (PDT)
Message-ID: <66ab8bca.050a0220.b6018.cb73SMTPIN_ADDED_MISSING@mx.google.com>
Received: from [172.21.0.7] (unknown [172.18.0.240])
 by postal.iol.unh.edu (Postfix) with ESMTP id 7267160526E2;
 Thu,  1 Aug 2024 09:21:14 -0400 (EDT)
Subject: |PENDING| pw142814-142818 [PATCH] [v10,5/5] dts: add API doc generat
From: dpdklab@iol.unh.edu
To: Test Report <test-report@dpdk.org>
Cc: dpdk-test-reports@iol.unh.edu
In-Reply-To: <20240801093740.237929-6-juraj.linkes@pantheon.tech>
References: <20240801093740.237929-6-juraj.linkes@pantheon.tech>
Content-Type: text/plain
X-BeenThere: test-report@dpdk.org
X-Mailman-Version: 2.1.29
Precedence: list
List-Id: automatic DPDK test reports <test-report.dpdk.org>
List-Unsubscribe: <https://mails.dpdk.org/options/test-report>,
 <mailto:test-report-request@dpdk.org?subject=unsubscribe>
List-Archive: <http://mails.dpdk.org/archives/test-report/>
List-Post: <mailto:test-report@dpdk.org>
List-Help: <mailto:test-report-request@dpdk.org?subject=help>
List-Subscribe: <https://mails.dpdk.org/listinfo/test-report>,
 <mailto:test-report-request@dpdk.org?subject=subscribe>
Errors-To: test-report-bounces@dpdk.org

Test-Label: iol-compile-amd64-testing
Test-Status: PENDING
http://dpdk.org/patch/142818

_Testing pending_

Submitter: Juraj Linkes <juraj.linkes@pantheon.tech>
Date: Thursday, August 01 2024 09:37:40 
DPDK git baseline: Repo:dpdk
  Branch: master
  CommitID:b3485f4293997d35b6daecc3437bb0c183a51fb3

142814-142818 --> testing pending

Upstream job id: Windows-Compile-DPDK-Meson#24027

Test environment and result as below:

+---------------------+--------------------+----------------------+
|     Environment     | dpdk_meson_compile | dpdk_mingw64_compile |
+=====================+====================+======================+
| Windows Server 2019 | PASS               | PASS                 |
+---------------------+--------------------+----------------------+
| Windows Server 2022 | PASS               | PEND                 |
+---------------------+--------------------+----------------------+
| FreeBSD 13.3        | PASS               | SKIPPED              |
+---------------------+--------------------+----------------------+
| FreeBSD 14.1        | PEND               | SKIPPED              |
+---------------------+--------------------+----------------------+


Windows Server 2019
	Kernel: 10.0.17763
	Compiler: clang 14.0 and gcc 8.1.0 (MinGW)

Windows Server 2022
	Kernel: 10.0.20348.2031
	Compiler: clang 15.0.7, gcc 8.1.0 (MinGW), and MSVC VS 17.9

FreeBSD 13.3
	Kernel: 13.3-RELEASE-p1
	Compiler: clang 17.0.6

FreeBSD 14.1
	Kernel: 14.1
	Compiler: clang 18.1.5

To view detailed results, visit:
https://lab.dpdk.org/results/dashboard/patchsets/30693/

UNH-IOL DPDK Community Lab

To manage your email subscriptions, visit: 
https://lab.dpdk.org/results/dashboard/preferences/subscriptions/